| Back to Multiple platform build/check report for BioC 3.7 |
|
This page was generated on 2018-10-17 08:39:23 -0400 (Wed, 17 Oct 2018).
| Package 485/1561 | Hostname | OS / Arch | INSTALL | BUILD | CHECK | BUILD BIN | ||||||
| FEM 3.8.0 Zhen Yang
| malbec2 | Linux (Ubuntu 16.04.1 LTS) / x86_64 | OK | OK | WARNINGS | |||||||
| tokay2 | Windows Server 2012 R2 Standard / x64 | [ OK ] | OK | WARNINGS | OK | |||||||
| merida2 | OS X 10.11.6 El Capitan / x86_64 | OK | OK | WARNINGS | OK |
| Package: FEM |
| Version: 3.8.0 |
| Command: C:\cygwin\bin\curl.exe -O https://malbec2.bioconductor.org/BBS/3.7/bioc/src/contrib/FEM_3.8.0.tar.gz && rm -rf FEM.buildbin-libdir && mkdir FEM.buildbin-libdir && C:\Users\biocbuild\bbs-3.7-bioc\R\bin\R.exe CMD INSTALL --merge-multiarch --build --library=FEM.buildbin-libdir FEM_3.8.0.tar.gz && C:\Users\biocbuild\bbs-3.7-bioc\R\bin\R.exe CMD INSTALL FEM_3.8.0.zip && rm FEM_3.8.0.tar.gz FEM_3.8.0.zip |
| StartedAt: 2018-10-16 19:20:18 -0400 (Tue, 16 Oct 2018) |
| EndedAt: 2018-10-16 19:21:22 -0400 (Tue, 16 Oct 2018) |
| EllapsedTime: 64.0 seconds |
| RetCode: 0 |
| Status: OK |
##############################################################################
##############################################################################
###
### Running command:
###
### C:\cygwin\bin\curl.exe -O https://malbec2.bioconductor.org/BBS/3.7/bioc/src/contrib/FEM_3.8.0.tar.gz && rm -rf FEM.buildbin-libdir && mkdir FEM.buildbin-libdir && C:\Users\biocbuild\bbs-3.7-bioc\R\bin\R.exe CMD INSTALL --merge-multiarch --build --library=FEM.buildbin-libdir FEM_3.8.0.tar.gz && C:\Users\biocbuild\bbs-3.7-bioc\R\bin\R.exe CMD INSTALL FEM_3.8.0.zip && rm FEM_3.8.0.tar.gz FEM_3.8.0.zip
###
##############################################################################
##############################################################################
% Total % Received % Xferd Average Speed Time Time Time Current
Dload Upload Total Spent Left Speed
0 0 0 0 0 0 0 0 --:--:-- --:--:-- --:--:-- 0
62 13.4M 62 8544k 0 0 53.0M 0 --:--:-- --:--:-- --:--:-- 55.2M
100 13.4M 100 13.4M 0 0 60.0M 0 --:--:-- --:--:-- --:--:-- 61.8M
install for i386
* installing *source* package 'FEM' ...
** R
** data
** inst
** byte-compile and prepare package for lazy loading
Warning: replacing previous import 'igraph::intersection' by 'graph::intersection' when loading 'FEM'
Warning: replacing previous import 'igraph::union' by 'graph::union' when loading 'FEM'
Warning: replacing previous import 'igraph::degree' by 'graph::degree' when loading 'FEM'
Warning: replacing previous import 'igraph::edges' by 'graph::edges' when loading 'FEM'
Warning: replacing previous import 'limma::plotMA' by 'BiocGenerics::plotMA' when loading 'FEM'
Warning: replacing previous import 'Matrix::rowMeans' by 'BiocGenerics::rowMeans' when loading 'FEM'
Warning: replacing previous import 'Matrix::colMeans' by 'BiocGenerics::colMeans' when loading 'FEM'
Warning: replacing previous import 'Matrix::colSums' by 'BiocGenerics::colSums' when loading 'FEM'
Warning: replacing previous import 'Matrix::which' by 'BiocGenerics::which' when loading 'FEM'
Warning: replacing previous import 'igraph::normalize' by 'BiocGenerics::normalize' when loading 'FEM'
Warning: replacing previous import 'Matrix::rowSums' by 'BiocGenerics::rowSums' when loading 'FEM'
Warning: replacing previous import 'igraph::path' by 'BiocGenerics::path' when loading 'FEM'
Note: break used in wrong context: no loop is visible
Note: break used in wrong context: no loop is visible
Note: break used in wrong context: no loop is visible
Note: break used in wrong context: no loop is visible
Note: break used in wrong context: no loop is visible
Note: break used in wrong context: no loop is visible
Note: break used in wrong context: no loop is visible
Note: break used in wrong context: no loop is visible
** help
*** installing help indices
converting help for package 'FEM'
finding HTML links ... done
DoEpiMod html
DoExpMod html
DoFEMbi html
DoIntEpi450k html
DoIntExp html
DoIntFEM450k html
FEM-package html
FemModShow html
GenStatM html
GenStatMsp html
GenStatR html
Realdata html
Toydata html
probe450kfemanno html
probeEPICfemanno html
** building package indices
** installing vignettes
** testing if installed package can be loaded
Warning: replacing previous import 'igraph::intersection' by 'graph::intersection' when loading 'FEM'
Warning: replacing previous import 'igraph::union' by 'graph::union' when loading 'FEM'
Warning: replacing previous import 'igraph::degree' by 'graph::degree' when loading 'FEM'
Warning: replacing previous import 'igraph::edges' by 'graph::edges' when loading 'FEM'
Warning: replacing previous import 'limma::plotMA' by 'BiocGenerics::plotMA' when loading 'FEM'
Warning: replacing previous import 'Matrix::rowMeans' by 'BiocGenerics::rowMeans' when loading 'FEM'
Warning: replacing previous import 'Matrix::colMeans' by 'BiocGenerics::colMeans' when loading 'FEM'
Warning: replacing previous import 'Matrix::colSums' by 'BiocGenerics::colSums' when loading 'FEM'
Warning: replacing previous import 'Matrix::which' by 'BiocGenerics::which' when loading 'FEM'
Warning: replacing previous import 'igraph::normalize' by 'BiocGenerics::normalize' when loading 'FEM'
Warning: replacing previous import 'Matrix::rowSums' by 'BiocGenerics::rowSums' when loading 'FEM'
Warning: replacing previous import 'igraph::path' by 'BiocGenerics::path' when loading 'FEM'
In R CMD INSTALL
install for x64
* installing *source* package 'FEM' ...
** testing if installed package can be loaded
Warning: replacing previous import 'igraph::edges' by 'graph::edges' when loading 'FEM'
Warning: replacing previous import 'igraph::intersection' by 'graph::intersection' when loading 'FEM'
Warning: replacing previous import 'igraph::degree' by 'graph::degree' when loading 'FEM'
Warning: replacing previous import 'igraph::union' by 'graph::union' when loading 'FEM'
Warning: replacing previous import 'limma::plotMA' by 'BiocGenerics::plotMA' when loading 'FEM'
Warning: replacing previous import 'igraph::path' by 'BiocGenerics::path' when loading 'FEM'
Warning: replacing previous import 'Matrix::colSums' by 'BiocGenerics::colSums' when loading 'FEM'
Warning: replacing previous import 'Matrix::colMeans' by 'BiocGenerics::colMeans' when loading 'FEM'
Warning: replacing previous import 'Matrix::rowMeans' by 'BiocGenerics::rowMeans' when loading 'FEM'
Warning: replacing previous import 'Matrix::rowSums' by 'BiocGenerics::rowSums' when loading 'FEM'
Warning: replacing previous import 'Matrix::which' by 'BiocGenerics::which' when loading 'FEM'
Warning: replacing previous import 'igraph::normalize' by 'BiocGenerics::normalize' when loading 'FEM'
* MD5 sums
packaged installation of 'FEM' as FEM_3.8.0.zip
* DONE (FEM)
In R CMD INSTALL
In R CMD INSTALL
* installing to library 'C:/Users/biocbuild/bbs-3.7-bioc/R/library'
package 'FEM' successfully unpacked and MD5 sums checked
In R CMD INSTALL