| Back to Multiple platform build/check report for BioC 3.7 |
|
This page was generated on 2018-10-17 08:42:03 -0400 (Wed, 17 Oct 2018).
| Package 427/1561 | Hostname | OS / Arch | INSTALL | BUILD | CHECK | BUILD BIN | ||||||
| EBSEA 1.8.0 Arfa Mehmood
| malbec2 | Linux (Ubuntu 16.04.1 LTS) / x86_64 | OK | OK | OK | |||||||
| tokay2 | Windows Server 2012 R2 Standard / x64 | [ OK ] | OK | OK | OK | |||||||
| merida2 | OS X 10.11.6 El Capitan / x86_64 | OK | OK | OK | OK |
| Package: EBSEA |
| Version: 1.8.0 |
| Command: C:\cygwin\bin\curl.exe -O https://malbec2.bioconductor.org/BBS/3.7/bioc/src/contrib/EBSEA_1.8.0.tar.gz && rm -rf EBSEA.buildbin-libdir && mkdir EBSEA.buildbin-libdir && C:\Users\biocbuild\bbs-3.7-bioc\R\bin\R.exe CMD INSTALL --merge-multiarch --build --library=EBSEA.buildbin-libdir EBSEA_1.8.0.tar.gz && C:\Users\biocbuild\bbs-3.7-bioc\R\bin\R.exe CMD INSTALL EBSEA_1.8.0.zip && rm EBSEA_1.8.0.tar.gz EBSEA_1.8.0.zip |
| StartedAt: 2018-10-16 18:55:42 -0400 (Tue, 16 Oct 2018) |
| EndedAt: 2018-10-16 18:56:00 -0400 (Tue, 16 Oct 2018) |
| EllapsedTime: 18.1 seconds |
| RetCode: 0 |
| Status: OK |
##############################################################################
##############################################################################
###
### Running command:
###
### C:\cygwin\bin\curl.exe -O https://malbec2.bioconductor.org/BBS/3.7/bioc/src/contrib/EBSEA_1.8.0.tar.gz && rm -rf EBSEA.buildbin-libdir && mkdir EBSEA.buildbin-libdir && C:\Users\biocbuild\bbs-3.7-bioc\R\bin\R.exe CMD INSTALL --merge-multiarch --build --library=EBSEA.buildbin-libdir EBSEA_1.8.0.tar.gz && C:\Users\biocbuild\bbs-3.7-bioc\R\bin\R.exe CMD INSTALL EBSEA_1.8.0.zip && rm EBSEA_1.8.0.tar.gz EBSEA_1.8.0.zip
###
##############################################################################
##############################################################################
% Total % Received % Xferd Average Speed Time Time Time Current
Dload Upload Total Spent Left Speed
0 0 0 0 0 0 0 0 --:--:-- --:--:-- --:--:-- 0
100 19501 100 19501 0 0 343k 0 --:--:-- --:--:-- --:--:-- 388k
install for i386
* installing *source* package 'EBSEA' ...
** R
** data
** byte-compile and prepare package for lazy loading
** help
*** installing help indices
converting help for package 'EBSEA'
finding HTML links ... done
EBSEA html
filterCounts html
origCounts html
visualizeGenes html
** building package indices
** installing vignettes
** testing if installed package can be loaded
In R CMD INSTALL
install for x64
* installing *source* package 'EBSEA' ...
** testing if installed package can be loaded
* MD5 sums
packaged installation of 'EBSEA' as EBSEA_1.8.0.zip
* DONE (EBSEA)
In R CMD INSTALL
In R CMD INSTALL
* installing to library 'C:/Users/biocbuild/bbs-3.7-bioc/R/library'
package 'EBSEA' successfully unpacked and MD5 sums checked
In R CMD INSTALL