| Back to Multiple platform build/check report for BioC 3.7 |
|
This page was generated on 2018-10-17 08:43:40 -0400 (Wed, 17 Oct 2018).
| Package 344/1561 | Hostname | OS / Arch | INSTALL | BUILD | CHECK | BUILD BIN | ||||||
| DaMiRseq 1.4.2 Mattia Chiesa
| malbec2 | Linux (Ubuntu 16.04.1 LTS) / x86_64 | OK | OK | OK | |||||||
| tokay2 | Windows Server 2012 R2 Standard / x64 | OK | OK | OK | [ OK ] | |||||||
| merida2 | OS X 10.11.6 El Capitan / x86_64 | OK | OK | OK | OK |
| Package: DaMiRseq |
| Version: 1.4.2 |
| Command: rm -rf DaMiRseq.buildbin-libdir && mkdir DaMiRseq.buildbin-libdir && C:\Users\biocbuild\bbs-3.7-bioc\R\bin\R.exe CMD INSTALL --merge-multiarch --build --library=DaMiRseq.buildbin-libdir DaMiRseq_1.4.2.tar.gz |
| StartedAt: 2018-10-17 06:13:42 -0400 (Wed, 17 Oct 2018) |
| EndedAt: 2018-10-17 06:14:36 -0400 (Wed, 17 Oct 2018) |
| EllapsedTime: 54.4 seconds |
| RetCode: 0 |
| Status: OK |
| PackageFile: DaMiRseq_1.4.2.zip |
| PackageFileSize: 6.206 MiB |
##############################################################################
##############################################################################
###
### Running command:
###
### rm -rf DaMiRseq.buildbin-libdir && mkdir DaMiRseq.buildbin-libdir && C:\Users\biocbuild\bbs-3.7-bioc\R\bin\R.exe CMD INSTALL --merge-multiarch --build --library=DaMiRseq.buildbin-libdir DaMiRseq_1.4.2.tar.gz
###
##############################################################################
##############################################################################
install for i386
* installing *source* package 'DaMiRseq' ...
** R
** data
*** moving datasets to lazyload DB
** inst
** byte-compile and prepare package for lazy loading
** help
*** installing help indices
converting help for package 'DaMiRseq'
finding HTML links ... done
DaMiR.Allplot html
DaMiR.Clustplot html
DaMiR.EnsembleLearning html
DaMiR.EnsembleLearning2cl html
DaMiR.EnsembleLearningNcl html
DaMiR.FBest html
DaMiR.FReduct html
finding level-2 HTML links ... done
DaMiR.FSelect html
DaMiR.FSort html
DaMiR.MDSplot html
DaMiR.SV html
DaMiR.SVadjust html
DaMiR.corrplot html
DaMiR.goldenDice html
DaMiR.makeSE html
DaMiR.normalization html
DaMiR.sampleFilt html
DaMiR.transpose html
SE html
SEtest_norm html
data_min html
data_norm html
data_reduced html
data_relief html
df html
selected_features html
sv html
** building package indices
** installing vignettes
** testing if installed package can be loaded
In R CMD INSTALL
install for x64
* installing *source* package 'DaMiRseq' ...
** testing if installed package can be loaded
* MD5 sums
packaged installation of 'DaMiRseq' as DaMiRseq_1.4.2.zip
* DONE (DaMiRseq)
In R CMD INSTALL
In R CMD INSTALL