| Back to Multiple platform build/check report for BioC 3.7 |
|
This page was generated on 2018-10-17 08:41:56 -0400 (Wed, 17 Oct 2018).
| Package 410/1561 | Hostname | OS / Arch | INSTALL | BUILD | CHECK | BUILD BIN | ||||||
| DRIMSeq 1.8.0 Malgorzata Nowicka
| malbec2 | Linux (Ubuntu 16.04.1 LTS) / x86_64 | OK | OK | OK | |||||||
| tokay2 | Windows Server 2012 R2 Standard / x64 | OK | OK | WARNINGS | [ OK ] | |||||||
| merida2 | OS X 10.11.6 El Capitan / x86_64 | OK | OK | OK | OK |
| Package: DRIMSeq |
| Version: 1.8.0 |
| Command: rm -rf DRIMSeq.buildbin-libdir && mkdir DRIMSeq.buildbin-libdir && C:\Users\biocbuild\bbs-3.7-bioc\R\bin\R.exe CMD INSTALL --merge-multiarch --build --library=DRIMSeq.buildbin-libdir DRIMSeq_1.8.0.tar.gz |
| StartedAt: 2018-10-17 06:16:21 -0400 (Wed, 17 Oct 2018) |
| EndedAt: 2018-10-17 06:16:39 -0400 (Wed, 17 Oct 2018) |
| EllapsedTime: 17.8 seconds |
| RetCode: 0 |
| Status: OK |
| PackageFile: DRIMSeq_1.8.0.zip |
| PackageFileSize: 714.4 KiB |
##############################################################################
##############################################################################
###
### Running command:
###
### rm -rf DRIMSeq.buildbin-libdir && mkdir DRIMSeq.buildbin-libdir && C:\Users\biocbuild\bbs-3.7-bioc\R\bin\R.exe CMD INSTALL --merge-multiarch --build --library=DRIMSeq.buildbin-libdir DRIMSeq_1.8.0.tar.gz
###
##############################################################################
##############################################################################
install for i386
* installing *source* package 'DRIMSeq' ...
** R
** inst
** preparing package for lazy loading
** help
*** installing help indices
converting help for package 'DRIMSeq'
finding HTML links ... done
MatrixList-class html
dmDSdata-class html
dmDSdata html
dmDSfit-class html
dmDSprecision-class html
dmDStest-class html
dmFilter html
dmFit html
finding level-2 HTML links ... done
dmPrecision html
dmSQTLdata-class html
dmSQTLdata html
dmSQTLfit-class html
dmSQTLprecision-class html
dmSQTLtest-class html
dmTest html
Rd warning: C:/Users/biocbuild/bbs-3.7-bioc/tmpdir/RtmpMpysb8/R.INSTALL276863872aae/DRIMSeq/man/dmTest.Rd:93: file link 'glmLRT' in package 'edgeR' does not exist and so has been treated as a topic
Rd warning: C:/Users/biocbuild/bbs-3.7-bioc/tmpdir/RtmpMpysb8/R.INSTALL276863872aae/DRIMSeq/man/dmTest.Rd:193: file link 'glmLRT' in package 'edgeR' does not exist and so has been treated as a topic
dm_plotDataDSInfo html
dm_plotProportions html
plotData html
plotPValues html
plotPrecision html
plotProportions html
** building package indices
** installing vignettes
** testing if installed package can be loaded
In R CMD INSTALL
install for x64
* installing *source* package 'DRIMSeq' ...
** testing if installed package can be loaded
* MD5 sums
packaged installation of 'DRIMSeq' as DRIMSeq_1.8.0.zip
* DONE (DRIMSeq)
In R CMD INSTALL
In R CMD INSTALL