| Back to Multiple platform build/check report for BioC 3.7 |
|
This page was generated on 2018-10-17 08:53:06 -0400 (Wed, 17 Oct 2018).
| Package 363/1561 | Hostname | OS / Arch | INSTALL | BUILD | CHECK | BUILD BIN | ||||||
| DEGreport 1.16.0 Lorena Pantano
| malbec2 | Linux (Ubuntu 16.04.1 LTS) / x86_64 | OK | OK | OK | |||||||
| tokay2 | Windows Server 2012 R2 Standard / x64 | OK | OK | WARNINGS | OK | |||||||
| merida2 | OS X 10.11.6 El Capitan / x86_64 | OK | OK | [ OK ] | OK |
| Package: DEGreport |
| Version: 1.16.0 |
| Command: /Library/Frameworks/R.framework/Versions/Current/Resources/bin/R CMD check --install=check:DEGreport.install-out.txt --library=/Library/Frameworks/R.framework/Versions/Current/Resources/library --no-vignettes --timings DEGreport_1.16.0.tar.gz |
| StartedAt: 2018-10-16 20:51:37 -0400 (Tue, 16 Oct 2018) |
| EndedAt: 2018-10-16 20:57:26 -0400 (Tue, 16 Oct 2018) |
| EllapsedTime: 348.7 seconds |
| RetCode: 0 |
| Status: OK |
| CheckDir: DEGreport.Rcheck |
| Warnings: 0 |
##############################################################################
##############################################################################
###
### Running command:
###
### /Library/Frameworks/R.framework/Versions/Current/Resources/bin/R CMD check --install=check:DEGreport.install-out.txt --library=/Library/Frameworks/R.framework/Versions/Current/Resources/library --no-vignettes --timings DEGreport_1.16.0.tar.gz
###
##############################################################################
##############################################################################
* using log directory ‘/Users/biocbuild/bbs-3.7-bioc/meat/DEGreport.Rcheck’
* using R version 3.5.1 Patched (2018-07-12 r74967)
* using platform: x86_64-apple-darwin15.6.0 (64-bit)
* using session charset: UTF-8
* using option ‘--no-vignettes’
* checking for file ‘DEGreport/DESCRIPTION’ ... OK
* checking extension type ... Package
* this is package ‘DEGreport’ version ‘1.16.0’
* package encoding: UTF-8
* checking package namespace information ... OK
* checking package dependencies ... OK
* checking if this is a source package ... OK
* checking if there is a namespace ... OK
* checking for hidden files and directories ... NOTE
Found the following hidden files and directories:
.travis.yml
These were most likely included in error. See section ‘Package
structure’ in the ‘Writing R Extensions’ manual.
* checking for portable file names ... NOTE
Found the following non-portable file paths:
DEGreport/vignettes/DEGreport_cache/html/deseq2-gene-plot-wide_3132a6e10a76900cda69e20fa698a083.RData
DEGreport/vignettes/DEGreport_cache/html/significants-list-full_c78c566e8ce75abcca2c86b437b0258e.RData
Tarballs are only required to store paths of up to 100 bytes and cannot
store those of more than 256 bytes, with restrictions including to 100
bytes for the final component.
See section ‘Package structure’ in the ‘Writing R Extensions’ manual.
* checking for sufficient/correct file permissions ... OK
* checking whether package ‘DEGreport’ can be installed ... OK
* checking installed package size ... OK
* checking package directory ... OK
* checking ‘build’ directory ... OK
* checking DESCRIPTION meta-information ... NOTE
Package listed in more than one of Depends, Imports, Suggests, Enhances:
‘knitr’
A package should be listed in only one of these fields.
* checking top-level files ... OK
* checking for left-over files ... OK
* checking index information ... OK
* checking package subdirectories ... OK
* checking R files for non-ASCII characters ... OK
* checking R files for syntax errors ... OK
* checking whether the package can be loaded ... OK
* checking whether the package can be loaded with stated dependencies ... OK
* checking whether the package can be unloaded cleanly ... OK
* checking whether the namespace can be loaded with stated dependencies ... OK
* checking whether the namespace can be unloaded cleanly ... OK
* checking dependencies in R code ... OK
* checking S3 generic/method consistency ... OK
* checking replacement functions ... OK
* checking foreign function calls ... OK
* checking R code for possible problems ... NOTE
.convertIDs: no visible global function definition for ‘keys’
.generate_scatter_plot: no visible binding for global variable
‘compare’
.generate_scatter_plot: no visible binding for global variable ‘covar’
.get_counts: no visible global function definition for ‘counts’
.plotMA: no visible binding for global variable ‘base_mean’
.plotMA: no visible binding for global variable ‘log2fc’
.plot_raw: no visible binding for global variable ‘.x’
.plot_shrunken: no visible binding for global variable ‘.x’
.run_cluster_profiler: no visible global function definition for
‘enrichGO’
.run_cluster_profiler: no visible global function definition for
‘simplify’
.table_w_fc: no visible binding for global variable ‘comp’
.table_w_fc: no visible binding for global variable ‘log2FoldChange’
degCheckFactors: no visible binding for global variable ‘ratios’
degCorCov: no visible binding for global variable ‘compare’
degMV: no visible binding for global variable ‘min_median’
degMV: no visible binding for global variable ‘max_sd’
degPatterns: no visible global function definition for ‘rowMedians’
degPatterns: no visible binding for global variable ‘genes’
degPlotWide : <anonymous>: no visible binding for global variable
‘count’
significants,TopTags: no visible binding for global variable ‘FDR’
significants,TopTags: no visible binding for global variable ‘logFC’
significants,list : <anonymous>: no visible binding for global variable
‘gene’
Undefined global functions or variables:
.x FDR base_mean comp compare count counts covar enrichGO gene genes
keys log2FoldChange log2fc logFC max_sd min_median ratios rowMedians
simplify
* checking Rd files ... OK
* checking Rd metadata ... OK
* checking Rd cross-references ... OK
* checking for missing documentation entries ... OK
* checking for code/documentation mismatches ... OK
* checking Rd \usage sections ... OK
* checking Rd contents ... OK
* checking for unstated dependencies in examples ... OK
* checking contents of ‘data’ directory ... OK
* checking data for non-ASCII characters ... OK
* checking data for ASCII and uncompressed saves ... OK
* checking files in ‘vignettes’ ... OK
* checking examples ... OK
Examples with CPU or elapsed time > 5s
user system elapsed
degResults 8.404 0.092 8.560
degPlot 7.952 0.063 8.064
degComps 7.540 0.068 7.666
significants 6.538 0.025 6.635
degQC 5.564 0.059 5.661
DEGSet 5.356 0.179 5.573
degMean 5.020 0.090 5.168
* checking for unstated dependencies in ‘tests’ ... OK
* checking tests ...
Running ‘testthat.R’
OK
* checking for unstated dependencies in vignettes ... OK
* checking package vignettes in ‘inst/doc’ ... OK
* checking running R code from vignettes ... SKIPPED
* checking re-building of vignette outputs ... SKIPPED
* checking PDF version of manual ... OK
* DONE
Status: 4 NOTEs
See
‘/Users/biocbuild/bbs-3.7-bioc/meat/DEGreport.Rcheck/00check.log’
for details.
DEGreport.Rcheck/00install.out
############################################################################## ############################################################################## ### ### Running command: ### ### /Library/Frameworks/R.framework/Versions/Current/Resources/bin/R CMD INSTALL DEGreport ### ############################################################################## ############################################################################## * installing to library ‘/Library/Frameworks/R.framework/Versions/3.5/Resources/library’ * installing *source* package ‘DEGreport’ ... ** R ** data ** inst ** byte-compile and prepare package for lazy loading ** help *** installing help indices ** building package indices ** installing vignettes ** testing if installed package can be loaded * DONE (DEGreport)
DEGreport.Rcheck/tests/testthat.Rout
R version 3.5.1 Patched (2018-07-12 r74967) -- "Feather Spray"
Copyright (C) 2018 The R Foundation for Statistical Computing
Platform: x86_64-apple-darwin15.6.0 (64-bit)
R is free software and comes with ABSOLUTELY NO WARRANTY.
You are welcome to redistribute it under certain conditions.
Type 'license()' or 'licence()' for distribution details.
R is a collaborative project with many contributors.
Type 'contributors()' for more information and
'citation()' on how to cite R or R packages in publications.
Type 'demo()' for some demos, 'help()' for on-line help, or
'help.start()' for an HTML browser interface to help.
Type 'q()' to quit R.
> library(testthat)
> library(edgeR)
Loading required package: limma
> library(DESeq2)
Loading required package: S4Vectors
Loading required package: stats4
Loading required package: BiocGenerics
Loading required package: parallel
Attaching package: 'BiocGenerics'
The following objects are masked from 'package:parallel':
clusterApply, clusterApplyLB, clusterCall, clusterEvalQ,
clusterExport, clusterMap, parApply, parCapply, parLapply,
parLapplyLB, parRapply, parSapply, parSapplyLB
The following object is masked from 'package:limma':
plotMA
The following objects are masked from 'package:stats':
IQR, mad, sd, var, xtabs
The following objects are masked from 'package:base':
Filter, Find, Map, Position, Reduce, anyDuplicated, append,
as.data.frame, basename, cbind, colMeans, colSums, colnames,
dirname, do.call, duplicated, eval, evalq, get, grep, grepl,
intersect, is.unsorted, lapply, lengths, mapply, match, mget,
order, paste, pmax, pmax.int, pmin, pmin.int, rank, rbind,
rowMeans, rowSums, rownames, sapply, setdiff, sort, table, tapply,
union, unique, unsplit, which, which.max, which.min
Attaching package: 'S4Vectors'
The following object is masked from 'package:base':
expand.grid
Loading required package: IRanges
Loading required package: GenomicRanges
Loading required package: GenomeInfoDb
Loading required package: SummarizedExperiment
Loading required package: Biobase
Welcome to Bioconductor
Vignettes contain introductory material; view with
'browseVignettes()'. To cite Bioconductor, see
'citation("Biobase")', and for packages 'citation("pkgname")'.
Loading required package: DelayedArray
Loading required package: matrixStats
Attaching package: 'matrixStats'
The following objects are masked from 'package:Biobase':
anyMissing, rowMedians
Loading required package: BiocParallel
Attaching package: 'DelayedArray'
The following objects are masked from 'package:matrixStats':
colMaxs, colMins, colRanges, rowMaxs, rowMins, rowRanges
The following objects are masked from 'package:base':
aperm, apply
> library(DEGreport)
Loading required package: quantreg
Loading required package: SparseM
Attaching package: 'SparseM'
The following object is masked from 'package:base':
backsolve
>
> test_check("DEGreport")
══ testthat results ═══════════════════════════════════════════════════════════
OK: 56 SKIPPED: 0 FAILED: 0
>
> proc.time()
user system elapsed
32.132 0.770 33.204
DEGreport.Rcheck/DEGreport-Ex.timings
| name | user | system | elapsed | |
| DEGSet | 5.356 | 0.179 | 5.573 | |
| degCheckFactors | 1.840 | 0.106 | 1.970 | |
| degComps | 7.540 | 0.068 | 7.666 | |
| degCorCov | 1.409 | 0.028 | 1.454 | |
| degCovariates | 3.473 | 0.075 | 3.583 | |
| degFilter | 0.414 | 0.016 | 0.432 | |
| degMB | 4.409 | 0.070 | 4.530 | |
| degMDS | 0.810 | 0.019 | 0.839 | |
| degMV | 4.054 | 0.069 | 4.165 | |
| degMean | 5.020 | 0.090 | 5.168 | |
| degObj | 0.403 | 0.020 | 0.434 | |
| degPCA | 0.877 | 0.020 | 0.906 | |
| degPatterns | 1.328 | 0.022 | 1.360 | |
| degPlot | 7.952 | 0.063 | 8.064 | |
| degPlotWide | 4.161 | 0.061 | 4.248 | |
| degQC | 5.564 | 0.059 | 5.661 | |
| degResults | 8.404 | 0.092 | 8.560 | |
| degSignature | 0.965 | 0.017 | 1.006 | |
| degSummary | 3.843 | 0.031 | 3.938 | |
| degVB | 4.389 | 0.076 | 4.513 | |
| degVar | 4.717 | 0.052 | 4.815 | |
| degVolcano | 2.688 | 0.013 | 2.720 | |
| geom_cor | 0.715 | 0.023 | 0.743 | |
| plotMA | 3.706 | 0.019 | 3.763 | |
| significants | 6.538 | 0.025 | 6.635 | |