| Back to Multiple platform build/check report for BioC 3.7 |
|
This page was generated on 2018-10-17 08:42:31 -0400 (Wed, 17 Oct 2018).
| Package 340/1561 | Hostname | OS / Arch | INSTALL | BUILD | CHECK | BUILD BIN | ||||||
| CytoML 1.6.5 Mike Jiang
| malbec2 | Linux (Ubuntu 16.04.1 LTS) / x86_64 | OK | OK | OK | |||||||
| tokay2 | Windows Server 2012 R2 Standard / x64 | OK | OK | OK | [ OK ] | |||||||
| merida2 | OS X 10.11.6 El Capitan / x86_64 | OK | OK | OK | OK |
| Package: CytoML |
| Version: 1.6.5 |
| Command: rm -rf CytoML.buildbin-libdir && mkdir CytoML.buildbin-libdir && C:\Users\biocbuild\bbs-3.7-bioc\R\bin\R.exe CMD INSTALL --merge-multiarch --build --library=CytoML.buildbin-libdir CytoML_1.6.5.tar.gz |
| StartedAt: 2018-10-17 06:13:34 -0400 (Wed, 17 Oct 2018) |
| EndedAt: 2018-10-17 06:14:02 -0400 (Wed, 17 Oct 2018) |
| EllapsedTime: 28.2 seconds |
| RetCode: 0 |
| Status: OK |
| PackageFile: CytoML_1.6.5.zip |
| PackageFileSize: 1.628 MiB |
##############################################################################
##############################################################################
###
### Running command:
###
### rm -rf CytoML.buildbin-libdir && mkdir CytoML.buildbin-libdir && C:\Users\biocbuild\bbs-3.7-bioc\R\bin\R.exe CMD INSTALL --merge-multiarch --build --library=CytoML.buildbin-libdir CytoML_1.6.5.tar.gz
###
##############################################################################
##############################################################################
install for i386
* installing *source* package 'CytoML' ...
** R
** inst
** byte-compile and prepare package for lazy loading
** help
*** installing help indices
converting help for package 'CytoML'
finding HTML links ... done
GatingSet2cytobank html
GatingSet2flowJo html
addCustomInfo html
compare.counts html
compensate-GatingSet-graphGML-method html
constructTree html
cytobank2GatingSet html
divaWorkspace-class html
finding level-2 HTML links ... done
extend html
gating-methods html
getChildren-graphGML-character-method html
getCompensationMatrices-graphGML-method
html
getGate-graphGML-character-method html
getNodes-graphGML-method html
getParent-graphGML-character-method html
getTransformations-graphGML-method html
graphGML-class html
matchPath html
openDiva html
parse.gateInfo html
plot-graphGML-missing-method html
range.GatingHierarchy html
read.gatingML.cytobank html
show-graphGML-method html
** building package indices
** installing vignettes
** testing if installed package can be loaded
In R CMD INSTALL
install for x64
* installing *source* package 'CytoML' ...
** testing if installed package can be loaded
* MD5 sums
packaged installation of 'CytoML' as CytoML_1.6.5.zip
* DONE (CytoML)
In R CMD INSTALL
In R CMD INSTALL