| Back to Multiple platform build/check report for BioC 3.7 |
|
This page was generated on 2018-10-17 08:22:49 -0400 (Wed, 17 Oct 2018).
| Package 237/1561 | Hostname | OS / Arch | INSTALL | BUILD | CHECK | BUILD BIN | ||||||
| ChIPsim 1.34.0 Peter Humburg
| malbec2 | Linux (Ubuntu 16.04.1 LTS) / x86_64 | OK | OK | [ OK ] | |||||||
| tokay2 | Windows Server 2012 R2 Standard / x64 | OK | OK | OK | OK | |||||||
| merida2 | OS X 10.11.6 El Capitan / x86_64 | OK | OK | OK | OK |
| Package: ChIPsim |
| Version: 1.34.0 |
| Command: /home/biocbuild/bbs-3.7-bioc/R/bin/R CMD check --install=check:ChIPsim.install-out.txt --library=/home/biocbuild/bbs-3.7-bioc/R/library --no-vignettes --timings ChIPsim_1.34.0.tar.gz |
| StartedAt: 2018-10-15 23:13:09 -0400 (Mon, 15 Oct 2018) |
| EndedAt: 2018-10-15 23:15:23 -0400 (Mon, 15 Oct 2018) |
| EllapsedTime: 133.9 seconds |
| RetCode: 0 |
| Status: OK |
| CheckDir: ChIPsim.Rcheck |
| Warnings: 0 |
##############################################################################
##############################################################################
###
### Running command:
###
### /home/biocbuild/bbs-3.7-bioc/R/bin/R CMD check --install=check:ChIPsim.install-out.txt --library=/home/biocbuild/bbs-3.7-bioc/R/library --no-vignettes --timings ChIPsim_1.34.0.tar.gz
###
##############################################################################
##############################################################################
* using log directory ‘/home/biocbuild/bbs-3.7-bioc/meat/ChIPsim.Rcheck’
* using R version 3.5.1 Patched (2018-07-12 r74967)
* using platform: x86_64-pc-linux-gnu (64-bit)
* using session charset: UTF-8
* using option ‘--no-vignettes’
* checking for file ‘ChIPsim/DESCRIPTION’ ... OK
* checking extension type ... Package
* this is package ‘ChIPsim’ version ‘1.34.0’
* checking package namespace information ... OK
* checking package dependencies ... OK
* checking if this is a source package ... OK
* checking if there is a namespace ... OK
* checking for hidden files and directories ... OK
* checking for portable file names ... OK
* checking for sufficient/correct file permissions ... OK
* checking whether package ‘ChIPsim’ can be installed ... OK
* checking installed package size ... OK
* checking package directory ... OK
* checking ‘build’ directory ... OK
* checking DESCRIPTION meta-information ... NOTE
Package listed in more than one of Depends, Imports, Suggests, Enhances:
‘Biostrings’
A package should be listed in only one of these fields.
* checking top-level files ... OK
* checking for left-over files ... OK
* checking index information ... OK
* checking package subdirectories ... OK
* checking R files for non-ASCII characters ... OK
* checking R files for syntax errors ... OK
* checking whether the package can be loaded ... OK
* checking whether the package can be loaded with stated dependencies ... OK
* checking whether the package can be unloaded cleanly ... OK
* checking whether the namespace can be loaded with stated dependencies ... OK
* checking whether the namespace can be unloaded cleanly ... OK
* checking dependencies in R code ... OK
* checking S3 generic/method consistency ... OK
* checking replacement functions ... OK
* checking foreign function calls ... OK
* checking R code for possible problems ... NOTE
print.SimulatedFeature: no visible global function definition for ‘str’
Undefined global functions or variables:
str
Consider adding
importFrom("utils", "str")
to your NAMESPACE file.
* checking Rd files ... OK
* checking Rd metadata ... OK
* checking Rd cross-references ... OK
* checking for missing documentation entries ... OK
* checking for code/documentation mismatches ... OK
* checking Rd \usage sections ... OK
* checking Rd contents ... OK
* checking for unstated dependencies in examples ... OK
* checking files in ‘vignettes’ ... OK
* checking examples ... OK
* checking for unstated dependencies in vignettes ... OK
* checking package vignettes in ‘inst/doc’ ... OK
* checking running R code from vignettes ... SKIPPED
* checking re-building of vignette outputs ... SKIPPED
* checking PDF version of manual ... OK
* DONE
Status: 2 NOTEs
See
‘/home/biocbuild/bbs-3.7-bioc/meat/ChIPsim.Rcheck/00check.log’
for details.
ChIPsim.Rcheck/00install.out
############################################################################## ############################################################################## ### ### Running command: ### ### /home/biocbuild/bbs-3.7-bioc/R/bin/R CMD INSTALL ChIPsim ### ############################################################################## ############################################################################## * installing to library ‘/home/biocbuild/bbs-3.7-bioc/R/library’ * installing *source* package ‘ChIPsim’ ... ** R ** byte-compile and prepare package for lazy loading ** help *** installing help indices ** building package indices ** installing vignettes ** testing if installed package can be loaded * DONE (ChIPsim)
ChIPsim.Rcheck/ChIPsim-Ex.timings
| name | user | system | elapsed | |
| ChIPsim-package | 0 | 0 | 0 | |
| bindDens2readDens | 1.608 | 0.016 | 1.623 | |
| decodeQuality | 0.000 | 0.000 | 0.002 | |
| defaultControl | 0.000 | 0.000 | 0.002 | |
| defaultErrorProb | 0.000 | 0.000 | 0.001 | |
| defaultFunctions | 0.000 | 0.000 | 0.002 | |
| defaultGenerator | 0.044 | 0.000 | 0.043 | |
| extractQuality | 0.000 | 0.000 | 0.001 | |
| feat2dens | 1.200 | 0.012 | 1.212 | |
| featureDensity | 0.000 | 0.000 | 0.002 | |
| makeFeatures | 0.044 | 0.000 | 0.043 | |
| placeFeatures | 0.056 | 0.000 | 0.059 | |
| pos2fastq | 0.044 | 0.000 | 0.047 | |
| readError | 0.000 | 0.000 | 0.002 | |
| reconcileFeatures | 0.068 | 0.000 | 0.069 | |
| sampleReads | 0.772 | 0.008 | 0.777 | |
| simChIP | 0.000 | 0.000 | 0.001 | |
| simpleNames | 0 | 0 | 0 | |
| stableFeature | 0.004 | 0.000 | 0.001 | |
| writeFASTQ | 0.000 | 0.000 | 0.002 | |