| Back to Multiple platform build/check report for BioC 3.7 |
|
This page was generated on 2018-10-17 08:36:13 -0400 (Wed, 17 Oct 2018).
| Package 185/1561 | Hostname | OS / Arch | INSTALL | BUILD | CHECK | BUILD BIN | ||||||
| CancerMutationAnalysis 1.22.0 Simina M. Boca
| malbec2 | Linux (Ubuntu 16.04.1 LTS) / x86_64 | OK | OK | OK | |||||||
| tokay2 | Windows Server 2012 R2 Standard / x64 | OK | OK | OK | [ OK ] | |||||||
| merida2 | OS X 10.11.6 El Capitan / x86_64 | OK | OK | OK | OK |
| Package: CancerMutationAnalysis |
| Version: 1.22.0 |
| Command: rm -rf CancerMutationAnalysis.buildbin-libdir && mkdir CancerMutationAnalysis.buildbin-libdir && C:\Users\biocbuild\bbs-3.7-bioc\R\bin\R.exe CMD INSTALL --merge-multiarch --build --library=CancerMutationAnalysis.buildbin-libdir CancerMutationAnalysis_1.22.0.tar.gz |
| StartedAt: 2018-10-17 06:07:11 -0400 (Wed, 17 Oct 2018) |
| EndedAt: 2018-10-17 06:07:32 -0400 (Wed, 17 Oct 2018) |
| EllapsedTime: 20.4 seconds |
| RetCode: 0 |
| Status: OK |
| PackageFile: CancerMutationAnalysis_1.22.0.zip |
| PackageFileSize: 8.412 MiB |
##############################################################################
##############################################################################
###
### Running command:
###
### rm -rf CancerMutationAnalysis.buildbin-libdir && mkdir CancerMutationAnalysis.buildbin-libdir && C:\Users\biocbuild\bbs-3.7-bioc\R\bin\R.exe CMD INSTALL --merge-multiarch --build --library=CancerMutationAnalysis.buildbin-libdir CancerMutationAnalysis_1.22.0.tar.gz
###
##############################################################################
##############################################################################
install for i386
* installing *source* package 'CancerMutationAnalysis' ...
** libs
C:/Rtools/mingw_32/bin/gcc -I"C:/Users/BIOCBU˜1/BBS-3˜1.7-B/R/include" -DNDEBUG -I"C:/extsoft/include" -O3 -Wall -std=gnu99 -mtune=generic -c get.cdf.het.berns.c -o get.cdf.het.berns.o
C:/Rtools/mingw_32/bin/gcc -shared -s -static-libgcc -o CancerMutationAnalysis.dll tmp.def get.cdf.het.berns.o -LC:/extsoft/lib/i386 -LC:/extsoft/lib -LC:/Users/BIOCBU˜1/BBS-3˜1.7-B/R/bin/i386 -lR
installing to C:/Users/biocbuild/bbs-3.7-bioc/meat/CancerMutationAnalysis.buildbin-libdir/CancerMutationAnalysis/libs/i386
** R
** data
** inst
** byte-compile and prepare package for lazy loading
** help
*** installing help indices
converting help for package 'CancerMutationAnalysis'
finding HTML links ... done
BackRatesBreast html
BackRatesColon html
BackRatesGBM html
BackRatesMB html
BackRatesPancreas html
EntrezID2Name html
GeneAlterBreast html
GeneAlterColon html
GeneAlterGBM html
GeneAlterMB html
GeneAlterPancreas html
GeneCovBreast html
GeneCovColon html
GeneCovGBM html
GeneCovMB html
GeneCovPancreas html
GeneID2Name11 html
GeneSampBreast html
GeneSampColon html
GeneSampGBM html
GeneSampMB html
GeneSampPancreas html
SetMethodsSims-class html
cma.fdr html
cma.scores html
cma.set.sim html
cma.set.stat html
combine.sims html
extract.sims.method html
** building package indices
** installing vignettes
** testing if installed package can be loaded
In R CMD INSTALL
install for x64
* installing *source* package 'CancerMutationAnalysis' ...
** libs
C:/Rtools/mingw_64/bin/gcc -I"C:/Users/BIOCBU˜1/BBS-3˜1.7-B/R/include" -DNDEBUG -I"C:/extsoft/include" -O2 -Wall -std=gnu99 -mtune=generic -c get.cdf.het.berns.c -o get.cdf.het.berns.o
C:/Rtools/mingw_64/bin/gcc -shared -s -static-libgcc -o CancerMutationAnalysis.dll tmp.def get.cdf.het.berns.o -LC:/extsoft/lib/x64 -LC:/extsoft/lib -LC:/Users/BIOCBU˜1/BBS-3˜1.7-B/R/bin/x64 -lR
installing to C:/Users/biocbuild/bbs-3.7-bioc/meat/CancerMutationAnalysis.buildbin-libdir/CancerMutationAnalysis/libs/x64
** testing if installed package can be loaded
* MD5 sums
packaged installation of 'CancerMutationAnalysis' as CancerMutationAnalysis_1.22.0.zip
* DONE (CancerMutationAnalysis)
In R CMD INSTALL
In R CMD INSTALL