| Back to Multiple platform build/check report for BioC 3.7 |
|
This page was generated on 2018-10-17 08:48:21 -0400 (Wed, 17 Oct 2018).
| Package 281/1561 | Hostname | OS / Arch | INSTALL | BUILD | CHECK | BUILD BIN | ||||||
| CNVtools 1.74.0 Chris Barnes
| malbec2 | Linux (Ubuntu 16.04.1 LTS) / x86_64 | OK | OK | OK | |||||||
| tokay2 | Windows Server 2012 R2 Standard / x64 | OK | OK | OK | OK | |||||||
| merida2 | OS X 10.11.6 El Capitan / x86_64 | OK | [ OK ] | OK | OK |
| Package: CNVtools |
| Version: 1.74.0 |
| Command: /Library/Frameworks/R.framework/Versions/Current/Resources/bin/R CMD build --keep-empty-dirs --no-resave-data CNVtools |
| StartedAt: 2018-10-16 16:38:52 -0400 (Tue, 16 Oct 2018) |
| EndedAt: 2018-10-16 16:39:34 -0400 (Tue, 16 Oct 2018) |
| EllapsedTime: 41.5 seconds |
| RetCode: 0 |
| Status: OK |
| PackageFile: CNVtools_1.74.0.tar.gz |
| PackageFileSize: 794.8 KiB |
############################################################################## ############################################################################## ### ### Running command: ### ### /Library/Frameworks/R.framework/Versions/Current/Resources/bin/R CMD build --keep-empty-dirs --no-resave-data CNVtools ### ############################################################################## ############################################################################## * checking for file ‘CNVtools/DESCRIPTION’ ... OK * preparing ‘CNVtools’: * checking DESCRIPTION meta-information ... OK * cleaning src * installing the package to build vignettes * creating vignettes ... OK * cleaning src * checking for LF line-endings in source and make files and shell scripts * checking for empty or unneeded directories * looking to see if a ‘data/datalist’ file should be added * building ‘CNVtools_1.74.0.tar.gz’