| Back to Multiple platform build/check report for BioC 3.7 |
|
This page was generated on 2018-10-17 08:45:08 -0400 (Wed, 17 Oct 2018).
| Package 219/1561 | Hostname | OS / Arch | INSTALL | BUILD | CHECK | BUILD BIN | ||||||
| CHARGE 1.0.0 Benjamin Mayne
| malbec2 | Linux (Ubuntu 16.04.1 LTS) / x86_64 | OK | OK | OK | |||||||
| tokay2 | Windows Server 2012 R2 Standard / x64 | [ OK ] | OK | OK | OK | |||||||
| merida2 | OS X 10.11.6 El Capitan / x86_64 | OK | OK | OK | OK |
| Package: CHARGE |
| Version: 1.0.0 |
| Command: C:\cygwin\bin\curl.exe -O https://malbec2.bioconductor.org/BBS/3.7/bioc/src/contrib/CHARGE_1.0.0.tar.gz && rm -rf CHARGE.buildbin-libdir && mkdir CHARGE.buildbin-libdir && C:\Users\biocbuild\bbs-3.7-bioc\R\bin\R.exe CMD INSTALL --merge-multiarch --build --library=CHARGE.buildbin-libdir CHARGE_1.0.0.tar.gz && C:\Users\biocbuild\bbs-3.7-bioc\R\bin\R.exe CMD INSTALL CHARGE_1.0.0.zip && rm CHARGE_1.0.0.tar.gz CHARGE_1.0.0.zip |
| StartedAt: 2018-10-16 20:21:03 -0400 (Tue, 16 Oct 2018) |
| EndedAt: 2018-10-16 20:21:46 -0400 (Tue, 16 Oct 2018) |
| EllapsedTime: 42.7 seconds |
| RetCode: 0 |
| Status: OK |
##############################################################################
##############################################################################
###
### Running command:
###
### C:\cygwin\bin\curl.exe -O https://malbec2.bioconductor.org/BBS/3.7/bioc/src/contrib/CHARGE_1.0.0.tar.gz && rm -rf CHARGE.buildbin-libdir && mkdir CHARGE.buildbin-libdir && C:\Users\biocbuild\bbs-3.7-bioc\R\bin\R.exe CMD INSTALL --merge-multiarch --build --library=CHARGE.buildbin-libdir CHARGE_1.0.0.tar.gz && C:\Users\biocbuild\bbs-3.7-bioc\R\bin\R.exe CMD INSTALL CHARGE_1.0.0.zip && rm CHARGE_1.0.0.tar.gz CHARGE_1.0.0.zip
###
##############################################################################
##############################################################################
% Total % Received % Xferd Average Speed Time Time Time Current
Dload Upload Total Spent Left Speed
0 0 0 0 0 0 0 0 --:--:-- --:--:-- --:--:-- 0
100 839k 100 839k 0 0 12.1M 0 --:--:-- --:--:-- --:--:-- 13.4M
install for i386
* installing *source* package 'CHARGE' ...
** R
** data
*** moving datasets to lazyload DB
** byte-compile and prepare package for lazy loading
** help
*** installing help indices
converting help for package 'CHARGE'
finding HTML links ... done
CHARGE html
bimodalTest html
clusterExpr html
cvExpr html
datExprs html
exprFinder html
pcaExpr html
plotcvExpr html
** building package indices
** installing vignettes
** testing if installed package can be loaded
In R CMD INSTALL
install for x64
* installing *source* package 'CHARGE' ...
** testing if installed package can be loaded
* MD5 sums
packaged installation of 'CHARGE' as CHARGE_1.0.0.zip
* DONE (CHARGE)
In R CMD INSTALL
In R CMD INSTALL
* installing to library 'C:/Users/biocbuild/bbs-3.7-bioc/R/library'
package 'CHARGE' successfully unpacked and MD5 sums checked
In R CMD INSTALL