| Back to Multiple platform build/check report for BioC 3.7 |
|
This page was generated on 2018-10-17 08:36:08 -0400 (Wed, 17 Oct 2018).
| Package 163/1561 | Hostname | OS / Arch | INSTALL | BUILD | CHECK | BUILD BIN | ||||||
| BrainStars 1.24.0 Itoshi NIKAIDO
| malbec2 | Linux (Ubuntu 16.04.1 LTS) / x86_64 | OK | OK | OK | |||||||
| tokay2 | Windows Server 2012 R2 Standard / x64 | [ OK ] | OK | OK | OK | |||||||
| merida2 | OS X 10.11.6 El Capitan / x86_64 | OK | OK | OK | OK |
| Package: BrainStars |
| Version: 1.24.0 |
| Command: C:\cygwin\bin\curl.exe -O https://malbec2.bioconductor.org/BBS/3.7/bioc/src/contrib/BrainStars_1.24.0.tar.gz && rm -rf BrainStars.buildbin-libdir && mkdir BrainStars.buildbin-libdir && C:\Users\biocbuild\bbs-3.7-bioc\R\bin\R.exe CMD INSTALL --merge-multiarch --build --library=BrainStars.buildbin-libdir BrainStars_1.24.0.tar.gz && C:\Users\biocbuild\bbs-3.7-bioc\R\bin\R.exe CMD INSTALL BrainStars_1.24.0.zip && rm BrainStars_1.24.0.tar.gz BrainStars_1.24.0.zip |
| StartedAt: 2018-10-16 18:46:12 -0400 (Tue, 16 Oct 2018) |
| EndedAt: 2018-10-16 18:46:35 -0400 (Tue, 16 Oct 2018) |
| EllapsedTime: 22.6 seconds |
| RetCode: 0 |
| Status: OK |
##############################################################################
##############################################################################
###
### Running command:
###
### C:\cygwin\bin\curl.exe -O https://malbec2.bioconductor.org/BBS/3.7/bioc/src/contrib/BrainStars_1.24.0.tar.gz && rm -rf BrainStars.buildbin-libdir && mkdir BrainStars.buildbin-libdir && C:\Users\biocbuild\bbs-3.7-bioc\R\bin\R.exe CMD INSTALL --merge-multiarch --build --library=BrainStars.buildbin-libdir BrainStars_1.24.0.tar.gz && C:\Users\biocbuild\bbs-3.7-bioc\R\bin\R.exe CMD INSTALL BrainStars_1.24.0.zip && rm BrainStars_1.24.0.tar.gz BrainStars_1.24.0.zip
###
##############################################################################
##############################################################################
% Total % Received % Xferd Average Speed Time Time Time Current
Dload Upload Total Spent Left Speed
0 0 0 0 0 0 0 0 --:--:-- --:--:-- --:--:-- 0
100 207k 100 207k 0 0 3917k 0 --:--:-- --:--:-- --:--:-- 4506k
install for i386
* installing *source* package 'BrainStars' ...
** R
** byte-compile and prepare package for lazy loading
** help
*** installing help indices
converting help for package 'BrainStars'
finding HTML links ... done
BrainStars html
getBrainStars html
getBrainStarsFigure html
** building package indices
** installing vignettes
** testing if installed package can be loaded
In R CMD INSTALL
install for x64
* installing *source* package 'BrainStars' ...
** testing if installed package can be loaded
* MD5 sums
packaged installation of 'BrainStars' as BrainStars_1.24.0.zip
* DONE (BrainStars)
In R CMD INSTALL
In R CMD INSTALL
* installing to library 'C:/Users/biocbuild/bbs-3.7-bioc/R/library'
package 'BrainStars' successfully unpacked and MD5 sums checked
In R CMD INSTALL