| Back to Multiple platform build/check report for BioC 3.7 |
|
This page was generated on 2018-10-17 08:42:51 -0400 (Wed, 17 Oct 2018).
| Package 138/1561 | Hostname | OS / Arch | INSTALL | BUILD | CHECK | BUILD BIN | ||||||
| BiocWorkflowTools 1.6.2 Mike Smith
| malbec2 | Linux (Ubuntu 16.04.1 LTS) / x86_64 | OK | OK | OK | |||||||
| tokay2 | Windows Server 2012 R2 Standard / x64 | OK | OK | OK | [ OK ] | |||||||
| merida2 | OS X 10.11.6 El Capitan / x86_64 | OK | OK | OK | OK |
| Package: BiocWorkflowTools |
| Version: 1.6.2 |
| Command: rm -rf BiocWorkflowTools.buildbin-libdir && mkdir BiocWorkflowTools.buildbin-libdir && C:\Users\biocbuild\bbs-3.7-bioc\R\bin\R.exe CMD INSTALL --merge-multiarch --build --library=BiocWorkflowTools.buildbin-libdir BiocWorkflowTools_1.6.2.tar.gz |
| StartedAt: 2018-10-17 06:05:13 -0400 (Wed, 17 Oct 2018) |
| EndedAt: 2018-10-17 06:05:41 -0400 (Wed, 17 Oct 2018) |
| EllapsedTime: 27.8 seconds |
| RetCode: 0 |
| Status: OK |
| PackageFile: BiocWorkflowTools_1.6.2.zip |
| PackageFileSize: 705.3 KiB |
##############################################################################
##############################################################################
###
### Running command:
###
### rm -rf BiocWorkflowTools.buildbin-libdir && mkdir BiocWorkflowTools.buildbin-libdir && C:\Users\biocbuild\bbs-3.7-bioc\R\bin\R.exe CMD INSTALL --merge-multiarch --build --library=BiocWorkflowTools.buildbin-libdir BiocWorkflowTools_1.6.2.tar.gz
###
##############################################################################
##############################################################################
install for i386
* installing *source* package 'BiocWorkflowTools' ...
** R
** inst
** byte-compile and prepare package for lazy loading
** help
*** installing help indices
converting help for package 'BiocWorkflowTools'
finding HTML links ... done
createBiocWorkflow html
finding level-2 HTML links ... done
f1000_article html
markdownToLatex html
uploadToOverleaf html
** building package indices
** installing vignettes
** testing if installed package can be loaded
In R CMD INSTALL
install for x64
* installing *source* package 'BiocWorkflowTools' ...
** testing if installed package can be loaded
* MD5 sums
packaged installation of 'BiocWorkflowTools' as BiocWorkflowTools_1.6.2.zip
* DONE (BiocWorkflowTools)
In R CMD INSTALL
In R CMD INSTALL