| Back to Multiple platform build/check report for BioC 3.7 |
|
This page was generated on 2018-10-17 08:34:30 -0400 (Wed, 17 Oct 2018).
| Package 147/1561 | Hostname | OS / Arch | INSTALL | BUILD | CHECK | BUILD BIN | ||||||
| BioSeqClass 1.38.0 Li Hong
| malbec2 | Linux (Ubuntu 16.04.1 LTS) / x86_64 | OK | OK | OK | |||||||
| tokay2 | Windows Server 2012 R2 Standard / x64 | OK | OK | OK | [ OK ] | |||||||
| merida2 | OS X 10.11.6 El Capitan / x86_64 | OK | OK | OK | OK |
| Package: BioSeqClass |
| Version: 1.38.0 |
| Command: rm -rf BioSeqClass.buildbin-libdir && mkdir BioSeqClass.buildbin-libdir && C:\Users\biocbuild\bbs-3.7-bioc\R\bin\R.exe CMD INSTALL --merge-multiarch --build --library=BioSeqClass.buildbin-libdir BioSeqClass_1.38.0.tar.gz |
| StartedAt: 2018-10-17 06:05:34 -0400 (Wed, 17 Oct 2018) |
| EndedAt: 2018-10-17 06:06:02 -0400 (Wed, 17 Oct 2018) |
| EllapsedTime: 27.6 seconds |
| RetCode: 0 |
| Status: OK |
| PackageFile: BioSeqClass_1.38.0.zip |
| PackageFileSize: 5.857 MiB |
##############################################################################
##############################################################################
###
### Running command:
###
### rm -rf BioSeqClass.buildbin-libdir && mkdir BioSeqClass.buildbin-libdir && C:\Users\biocbuild\bbs-3.7-bioc\R\bin\R.exe CMD INSTALL --merge-multiarch --build --library=BioSeqClass.buildbin-libdir BioSeqClass_1.38.0.tar.gz
###
##############################################################################
##############################################################################
install for i386
* installing *source* package 'BioSeqClass' ...
** R
** data
** inst
** byte-compile and prepare package for lazy loading
** help
*** installing help indices
converting help for package 'BioSeqClass'
finding HTML links ... done
basic html
classify html
featureAAindex html
featureBDNAVIDEO html
featureBinary html
featureCKSAAP html
featureCTD html
featureDIPRODB html
featureDOMAIN html
featureEvaluate html
featureFragmentComposition html
featureGapPairComposition html
featureHydro html
featurePSSM html
featurePseudoAAComp html
featureSSC html
hr html
model html
performance html
selectFFS html
selectWeka html
zzz html
** building package indices
** installing vignettes
** testing if installed package can be loaded
In R CMD INSTALL
install for x64
* installing *source* package 'BioSeqClass' ...
** testing if installed package can be loaded
* MD5 sums
packaged installation of 'BioSeqClass' as BioSeqClass_1.38.0.zip
* DONE (BioSeqClass)
In R CMD INSTALL
In R CMD INSTALL