| Back to Multiple platform build/check report for BioC 3.7 |
|
This page was generated on 2018-10-17 08:47:10 -0400 (Wed, 17 Oct 2018).
| Package 51/1561 | Hostname | OS / Arch | INSTALL | BUILD | CHECK | BUILD BIN | ||||||
| AnnotationDbi 1.42.1 Bioconductor Package Maintainer
| malbec2 | Linux (Ubuntu 16.04.1 LTS) / x86_64 | OK | OK | OK | |||||||
| tokay2 | Windows Server 2012 R2 Standard / x64 | OK | OK | OK | OK | |||||||
| merida2 | OS X 10.11.6 El Capitan / x86_64 | OK | OK | OK | [ OK ] |
| Package: AnnotationDbi |
| Version: 1.42.1 |
| Command: rm -rf AnnotationDbi.buildbin-libdir && mkdir AnnotationDbi.buildbin-libdir && /Users/biocbuild/BBS/utils/build-universal.sh AnnotationDbi_1.42.1.tar.gz /Library/Frameworks/R.framework/Versions/Current/Resources/bin/R AnnotationDbi.buildbin-libdir |
| StartedAt: 2018-10-17 00:54:31 -0400 (Wed, 17 Oct 2018) |
| EndedAt: 2018-10-17 00:55:20 -0400 (Wed, 17 Oct 2018) |
| EllapsedTime: 48.5 seconds |
| RetCode: 0 |
| Status: OK |
| PackageFile: AnnotationDbi_1.42.1.tgz |
| PackageFileSize: 4.89 MiB |
############################################################################## ############################################################################## ### ### Running command: ### ### rm -rf AnnotationDbi.buildbin-libdir && mkdir AnnotationDbi.buildbin-libdir && /Users/biocbuild/BBS/utils/build-universal.sh AnnotationDbi_1.42.1.tar.gz /Library/Frameworks/R.framework/Versions/Current/Resources/bin/R AnnotationDbi.buildbin-libdir ### ############################################################################## ############################################################################## >>>>>>> >>>>>>> INSTALLATION WITH 'R CMD INSTALL --preclean --no-multiarch --library=AnnotationDbi.buildbin-libdir AnnotationDbi_1.42.1.tar.gz' >>>>>>> * installing *source* package ‘AnnotationDbi’ ... ** R ** inst ** byte-compile and prepare package for lazy loading Creating a new generic function for ‘packageName’ in package ‘AnnotationDbi’ Creating a generic function for ‘ls’ from package ‘base’ in package ‘AnnotationDbi’ Creating a generic function for ‘eapply’ from package ‘base’ in package ‘AnnotationDbi’ Creating a generic function for ‘exists’ from package ‘base’ in package ‘AnnotationDbi’ Creating a generic function for ‘sample’ from package ‘base’ in package ‘AnnotationDbi’ ** help *** installing help indices ** building package indices ** installing vignettes ** testing if installed package can be loaded * DONE (AnnotationDbi)