| Back to Multiple platform build/check report for BioC 3.7 |
|
This page was generated on 2018-10-17 08:58:48 -0400 (Wed, 17 Oct 2018).
| Package 82/1561 | Hostname | OS / Arch | INSTALL | BUILD | CHECK | BUILD BIN | ||||||
| AUCell 1.2.4 Sara Aibar
| malbec2 | Linux (Ubuntu 16.04.1 LTS) / x86_64 | OK | OK | OK | |||||||
| tokay2 | Windows Server 2012 R2 Standard / x64 | OK | OK | OK | OK | |||||||
| merida2 | OS X 10.11.6 El Capitan / x86_64 | OK | OK | [ OK ] | OK |
| Package: AUCell |
| Version: 1.2.4 |
| Command: /Library/Frameworks/R.framework/Versions/Current/Resources/bin/R CMD check --install=check:AUCell.install-out.txt --library=/Library/Frameworks/R.framework/Versions/Current/Resources/library --no-vignettes --timings AUCell_1.2.4.tar.gz |
| StartedAt: 2018-10-16 19:57:29 -0400 (Tue, 16 Oct 2018) |
| EndedAt: 2018-10-16 20:00:37 -0400 (Tue, 16 Oct 2018) |
| EllapsedTime: 188.3 seconds |
| RetCode: 0 |
| Status: OK |
| CheckDir: AUCell.Rcheck |
| Warnings: 0 |
##############################################################################
##############################################################################
###
### Running command:
###
### /Library/Frameworks/R.framework/Versions/Current/Resources/bin/R CMD check --install=check:AUCell.install-out.txt --library=/Library/Frameworks/R.framework/Versions/Current/Resources/library --no-vignettes --timings AUCell_1.2.4.tar.gz
###
##############################################################################
##############################################################################
* using log directory ‘/Users/biocbuild/bbs-3.7-bioc/meat/AUCell.Rcheck’
* using R version 3.5.1 Patched (2018-07-12 r74967)
* using platform: x86_64-apple-darwin15.6.0 (64-bit)
* using session charset: UTF-8
* using option ‘--no-vignettes’
* checking for file ‘AUCell/DESCRIPTION’ ... OK
* checking extension type ... Package
* this is package ‘AUCell’ version ‘1.2.4’
* checking package namespace information ... OK
* checking package dependencies ... NOTE
Package which this enhances but not available for checking: ‘doMC’
* checking if this is a source package ... OK
* checking if there is a namespace ... OK
* checking for hidden files and directories ... OK
* checking for portable file names ... OK
* checking for sufficient/correct file permissions ... OK
* checking whether package ‘AUCell’ can be installed ... OK
* checking installed package size ... OK
* checking package directory ... OK
* checking ‘build’ directory ... OK
* checking DESCRIPTION meta-information ... OK
* checking top-level files ... OK
* checking for left-over files ... OK
* checking index information ... OK
* checking package subdirectories ... OK
* checking R files for non-ASCII characters ... OK
* checking R files for syntax errors ... OK
* checking whether the package can be loaded ... OK
* checking whether the package can be loaded with stated dependencies ... OK
* checking whether the package can be unloaded cleanly ... OK
* checking whether the namespace can be loaded with stated dependencies ... OK
* checking whether the namespace can be unloaded cleanly ... OK
* checking dependencies in R code ... NOTE
'library' or 'require' call to ‘rbokeh’ in package code.
Please use :: or requireNamespace() instead.
See section 'Suggested packages' in the 'Writing R Extensions' manual.
* checking S3 generic/method consistency ... OK
* checking replacement functions ... OK
* checking foreign function calls ... OK
* checking R code for possible problems ... NOTE
.cellProps_plotTsne: warning in adjustcolor(colorPal(10), alpha = 0.8):
partial argument match of 'alpha' to 'alpha.f'
AUCell_createViewerApp : <anonymous>: no visible global function
definition for ‘%>%’
AUCell_createViewerApp : <anonymous>: no visible binding for global
variable ‘tsne1’
AUCell_createViewerApp : <anonymous>: no visible binding for global
variable ‘tsne2’
AUCell_createViewerApp : <anonymous>: no visible binding for global
variable ‘cell’
Undefined global functions or variables:
%>% cell tsne1 tsne2
* checking Rd files ... OK
* checking Rd metadata ... OK
* checking Rd cross-references ... OK
* checking for missing documentation entries ... OK
* checking for code/documentation mismatches ... OK
* checking Rd \usage sections ... OK
* checking Rd contents ... OK
* checking for unstated dependencies in examples ... OK
* checking files in ‘vignettes’ ... OK
* checking examples ... OK
Examples with CPU or elapsed time > 5s
user system elapsed
AUCell_exploreThresholds 3.747 1.462 3.66
* checking for unstated dependencies in ‘tests’ ... OK
* checking tests ...
Running ‘testthat.R’
OK
* checking for unstated dependencies in vignettes ... OK
* checking package vignettes in ‘inst/doc’ ... OK
* checking running R code from vignettes ... SKIPPED
* checking re-building of vignette outputs ... SKIPPED
* checking PDF version of manual ... OK
* DONE
Status: 3 NOTEs
See
‘/Users/biocbuild/bbs-3.7-bioc/meat/AUCell.Rcheck/00check.log’
for details.
AUCell.Rcheck/00install.out
############################################################################## ############################################################################## ### ### Running command: ### ### /Library/Frameworks/R.framework/Versions/Current/Resources/bin/R CMD INSTALL AUCell ### ############################################################################## ############################################################################## * installing to library ‘/Library/Frameworks/R.framework/Versions/3.5/Resources/library’ * installing *source* package ‘AUCell’ ... ** R ** inst ** byte-compile and prepare package for lazy loading ** help *** installing help indices ** building package indices ** installing vignettes ** testing if installed package can be loaded * DONE (AUCell)
AUCell.Rcheck/tests/testthat.Rout
R version 3.5.1 Patched (2018-07-12 r74967) -- "Feather Spray"
Copyright (C) 2018 The R Foundation for Statistical Computing
Platform: x86_64-apple-darwin15.6.0 (64-bit)
R is free software and comes with ABSOLUTELY NO WARRANTY.
You are welcome to redistribute it under certain conditions.
Type 'license()' or 'licence()' for distribution details.
R is a collaborative project with many contributors.
Type 'contributors()' for more information and
'citation()' on how to cite R or R packages in publications.
Type 'demo()' for some demos, 'help()' for on-line help, or
'help.start()' for an HTML browser interface to help.
Type 'q()' to quit R.
> library(testthat)
> library(AUCell)
>
> test_check("AUCell")
min 1% 5% 10% 50% 100%
4 5 6 7 10 15
min 1% 5% 10% 50% 100%
4 5 6 7 10 15
══ testthat results ═══════════════════════════════════════════════════════════
OK: 39 SKIPPED: 0 FAILED: 0
>
> proc.time()
user system elapsed
22.004 7.394 18.589
AUCell.Rcheck/AUCell-Ex.timings
| name | user | system | elapsed | |
| AUCell_buildRankings | 1.857 | 1.163 | 1.480 | |
| AUCell_calcAUC | 2.276 | 1.019 | 1.978 | |
| AUCell_createViewerApp | 2.615 | 0.808 | 1.707 | |
| AUCell_exploreThresholds | 3.747 | 1.462 | 3.660 | |
| AUCell_plotHist | 1.273 | 1.130 | 0.848 | |
| AUCell_plotTSNE | 1.544 | 1.036 | 1.145 | |
| GeneSet-methods | 0.223 | 0.006 | 0.231 | |
| aucellResults-class | 1.841 | 0.980 | 1.439 | |
| plotGeneCount | 0.008 | 0.000 | 0.009 | |
| plotTsne_cellProps | 1.663 | 0.964 | 1.257 | |
| updateAucellResults | 0.032 | 0.000 | 0.034 | |