| Back to Multiple platform build/check report for BioC 3.7 |
|
This page was generated on 2018-10-17 08:38:24 -0400 (Wed, 17 Oct 2018).
| Package 79/1561 | Hostname | OS / Arch | INSTALL | BUILD | CHECK | BUILD BIN | ||||||
| ASSIGN 1.16.0 Ying Shen
| malbec2 | Linux (Ubuntu 16.04.1 LTS) / x86_64 | OK | OK | OK | |||||||
| tokay2 | Windows Server 2012 R2 Standard / x64 | [ OK ] | OK | OK | OK | |||||||
| merida2 | OS X 10.11.6 El Capitan / x86_64 | OK | OK | OK | OK |
| Package: ASSIGN |
| Version: 1.16.0 |
| Command: C:\cygwin\bin\curl.exe -O https://malbec2.bioconductor.org/BBS/3.7/bioc/src/contrib/ASSIGN_1.16.0.tar.gz && rm -rf ASSIGN.buildbin-libdir && mkdir ASSIGN.buildbin-libdir && C:\Users\biocbuild\bbs-3.7-bioc\R\bin\R.exe CMD INSTALL --merge-multiarch --build --library=ASSIGN.buildbin-libdir ASSIGN_1.16.0.tar.gz && C:\Users\biocbuild\bbs-3.7-bioc\R\bin\R.exe CMD INSTALL ASSIGN_1.16.0.zip && rm ASSIGN_1.16.0.tar.gz ASSIGN_1.16.0.zip |
| StartedAt: 2018-10-16 19:15:09 -0400 (Tue, 16 Oct 2018) |
| EndedAt: 2018-10-16 19:15:46 -0400 (Tue, 16 Oct 2018) |
| EllapsedTime: 37.1 seconds |
| RetCode: 0 |
| Status: OK |
##############################################################################
##############################################################################
###
### Running command:
###
### C:\cygwin\bin\curl.exe -O https://malbec2.bioconductor.org/BBS/3.7/bioc/src/contrib/ASSIGN_1.16.0.tar.gz && rm -rf ASSIGN.buildbin-libdir && mkdir ASSIGN.buildbin-libdir && C:\Users\biocbuild\bbs-3.7-bioc\R\bin\R.exe CMD INSTALL --merge-multiarch --build --library=ASSIGN.buildbin-libdir ASSIGN_1.16.0.tar.gz && C:\Users\biocbuild\bbs-3.7-bioc\R\bin\R.exe CMD INSTALL ASSIGN_1.16.0.zip && rm ASSIGN_1.16.0.tar.gz ASSIGN_1.16.0.zip
###
##############################################################################
##############################################################################
% Total % Received % Xferd Average Speed Time Time Time Current
Dload Upload Total Spent Left Speed
0 0 0 0 0 0 0 0 --:--:-- --:--:-- --:--:-- 0
100 1350k 100 1350k 0 0 17.2M 0 --:--:-- --:--:-- --:--:-- 18.8M
install for i386
* installing *source* package 'ASSIGN' ...
** R
** data
*** moving datasets to lazyload DB
** byte-compile and prepare package for lazy loading
** help
*** installing help indices
converting help for package 'ASSIGN'
finding HTML links ... done
ComBat.step2 html
assign.convergence html
assign.cv.output html
assign.mcmc html
assign.output html
assign.preprocess html
assign.summary html
assign.wrapper html
excludegenes html
gather_assign_results html
geneList1 html
gfrn_geneList html
merge_drop html
optimizeGFRN html
pcaplot html
runassignGFRN html
testData1 html
trainingData1 html
** building package indices
** installing vignettes
** testing if installed package can be loaded
In R CMD INSTALL
install for x64
* installing *source* package 'ASSIGN' ...
** testing if installed package can be loaded
* MD5 sums
packaged installation of 'ASSIGN' as ASSIGN_1.16.0.zip
* DONE (ASSIGN)
In R CMD INSTALL
In R CMD INSTALL
* installing to library 'C:/Users/biocbuild/bbs-3.7-bioc/R/library'
package 'ASSIGN' successfully unpacked and MD5 sums checked
In R CMD INSTALL