| Back to Multiple platform build/check report for BioC 3.7 |
|
This page was generated on 2018-10-17 08:45:34 -0400 (Wed, 17 Oct 2018).
| Package 76/1561 | Hostname | OS / Arch | INSTALL | BUILD | CHECK | BUILD BIN | ||||||
| ASICS 1.0.1 Gaƫlle Lefort
| malbec2 | Linux (Ubuntu 16.04.1 LTS) / x86_64 | OK | OK | OK | |||||||
| tokay2 | Windows Server 2012 R2 Standard / x64 | OK | OK | [ OK ] | OK | |||||||
| merida2 | OS X 10.11.6 El Capitan / x86_64 | OK | OK | OK | OK |
| Package: ASICS |
| Version: 1.0.1 |
| Command: C:\Users\biocbuild\bbs-3.7-bioc\R\bin\R.exe CMD check --force-multiarch --install=check:ASICS.install-out.txt --library=C:\Users\biocbuild\bbs-3.7-bioc\R\library --no-vignettes --timings ASICS_1.0.1.tar.gz |
| StartedAt: 2018-10-17 00:33:32 -0400 (Wed, 17 Oct 2018) |
| EndedAt: 2018-10-17 00:45:52 -0400 (Wed, 17 Oct 2018) |
| EllapsedTime: 740.8 seconds |
| RetCode: 0 |
| Status: OK |
| CheckDir: ASICS.Rcheck |
| Warnings: 0 |
##############################################################################
##############################################################################
###
### Running command:
###
### C:\Users\biocbuild\bbs-3.7-bioc\R\bin\R.exe CMD check --force-multiarch --install=check:ASICS.install-out.txt --library=C:\Users\biocbuild\bbs-3.7-bioc\R\library --no-vignettes --timings ASICS_1.0.1.tar.gz
###
##############################################################################
##############################################################################
* using log directory 'C:/Users/biocbuild/bbs-3.7-bioc/meat/ASICS.Rcheck'
* using R version 3.5.1 Patched (2018-07-24 r75005)
* using platform: x86_64-w64-mingw32 (64-bit)
* using session charset: ISO8859-1
* using option '--no-vignettes'
* checking for file 'ASICS/DESCRIPTION' ... OK
* checking extension type ... Package
* this is package 'ASICS' version '1.0.1'
* package encoding: UTF-8
* checking package namespace information ... OK
* checking package dependencies ... OK
* checking if this is a source package ... OK
* checking if there is a namespace ... OK
* checking for hidden files and directories ... OK
* checking for portable file names ... OK
* checking whether package 'ASICS' can be installed ... OK
* checking installed package size ... OK
* checking package directory ... OK
* checking 'build' directory ... OK
* checking DESCRIPTION meta-information ... OK
* checking top-level files ... OK
* checking for left-over files ... OK
* checking index information ... OK
* checking package subdirectories ... OK
* checking R files for non-ASCII characters ... OK
* checking R files for syntax errors ... OK
* loading checks for arch 'i386'
** checking whether the package can be loaded ... OK
** checking whether the package can be loaded with stated dependencies ... OK
** checking whether the package can be unloaded cleanly ... OK
** checking whether the namespace can be loaded with stated dependencies ... OK
** checking whether the namespace can be unloaded cleanly ... OK
* loading checks for arch 'x64'
** checking whether the package can be loaded ... OK
** checking whether the package can be loaded with stated dependencies ... OK
** checking whether the package can be unloaded cleanly ... OK
** checking whether the namespace can be loaded with stated dependencies ... OK
** checking whether the namespace can be unloaded cleanly ... OK
* checking dependencies in R code ... OK
* checking S3 generic/method consistency ... OK
* checking replacement functions ... OK
* checking foreign function calls ... OK
* checking R code for possible problems ... OK
* checking Rd files ... OK
* checking Rd metadata ... OK
* checking Rd cross-references ... OK
* checking for missing documentation entries ... OK
* checking for code/documentation mismatches ... OK
* checking Rd \usage sections ... OK
* checking Rd contents ... OK
* checking for unstated dependencies in examples ... OK
* checking contents of 'data' directory ... OK
* checking data for non-ASCII characters ... OK
* checking data for ASCII and uncompressed saves ... OK
* checking installed files from 'inst/doc' ... OK
* checking files in 'vignettes' ... OK
* checking examples ...
** running examples for arch 'i386' ... OK
Examples with CPU or elapsed time > 5s
user system elapsed
ASICS 22.11 0.33 22.55
createPureLibrary 9.55 0.13 11.75
** running examples for arch 'x64' ... OK
Examples with CPU or elapsed time > 5s
user system elapsed
ASICS 21.38 0.07 21.43
createPureLibrary 13.97 0.02 13.98
* checking for unstated dependencies in 'tests' ... OK
* checking tests ...
** running tests for arch 'i386' ...
Running 'testthat.R'
OK
** running tests for arch 'x64' ...
Running 'testthat.R'
OK
* checking for unstated dependencies in vignettes ... OK
* checking package vignettes in 'inst/doc' ... OK
* checking running R code from vignettes ... SKIPPED
* checking re-building of vignette outputs ... SKIPPED
* checking PDF version of manual ... OK
* DONE
Status: OK
ASICS.Rcheck/00install.out
##############################################################################
##############################################################################
###
### Running command:
###
### C:\cygwin\bin\curl.exe -O https://malbec2.bioconductor.org/BBS/3.7/bioc/src/contrib/ASICS_1.0.1.tar.gz && rm -rf ASICS.buildbin-libdir && mkdir ASICS.buildbin-libdir && C:\Users\biocbuild\bbs-3.7-bioc\R\bin\R.exe CMD INSTALL --merge-multiarch --build --library=ASICS.buildbin-libdir ASICS_1.0.1.tar.gz && C:\Users\biocbuild\bbs-3.7-bioc\R\bin\R.exe CMD INSTALL ASICS_1.0.1.zip && rm ASICS_1.0.1.tar.gz ASICS_1.0.1.zip
###
##############################################################################
##############################################################################
% Total % Received % Xferd Average Speed Time Time Time Current
Dload Upload Total Spent Left Speed
0 0 0 0 0 0 0 0 --:--:-- --:--:-- --:--:-- 0
100 2567k 100 2567k 0 0 27.7M 0 --:--:-- --:--:-- --:--:-- 29.8M
install for i386
* installing *source* package 'ASICS' ...
** R
** data
*** moving datasets to lazyload DB
** inst
** byte-compile and prepare package for lazy loading
** help
*** installing help indices
converting help for package 'ASICS'
finding HTML links ... done
ASICS html
ASICSResults-class html
ASICSUsersGuide html
AnalysisResults-class html
finding level-2 HTML links ... done
PureLibrary-class html
Spectra-class html
accessors-methods html
alignment html
baselineCorrection html
binning html
combineAndSubset-methods html
createPureLibrary html
createSpectra html
formatForAnalysis html
importSpectraBruker html
kruskalWallis html
normalisation html
oplsda html
pca html
pure_library html
summary-methods html
visualisation-methods-analyses html
visualisation-methods-spectra html
** building package indices
** installing vignettes
'ASICS.Rmd' using 'UTF-8'
'ASICSUsersGuide.Rmd' using 'UTF-8'
** testing if installed package can be loaded
In R CMD INSTALL
install for x64
* installing *source* package 'ASICS' ...
** testing if installed package can be loaded
* MD5 sums
packaged installation of 'ASICS' as ASICS_1.0.1.zip
* DONE (ASICS)
In R CMD INSTALL
In R CMD INSTALL
* installing to library 'C:/Users/biocbuild/bbs-3.7-bioc/R/library'
package 'ASICS' successfully unpacked and MD5 sums checked
In R CMD INSTALL
|
ASICS.Rcheck/tests_i386/testthat.Rout
R version 3.5.1 Patched (2018-07-24 r75005) -- "Feather Spray"
Copyright (C) 2018 The R Foundation for Statistical Computing
Platform: i386-w64-mingw32/i386 (32-bit)
R is free software and comes with ABSOLUTELY NO WARRANTY.
You are welcome to redistribute it under certain conditions.
Type 'license()' or 'licence()' for distribution details.
R is a collaborative project with many contributors.
Type 'contributors()' for more information and
'citation()' on how to cite R or R packages in publications.
Type 'demo()' for some demos, 'help()' for on-line help, or
'help.start()' for an HTML browser interface to help.
Type 'q()' to quit R.
> library(testthat)
> library(ASICS)
>
> test_check("ASICS")
|
| | 0%
|
|= | 2%
|
|=== | 4%
|
|==== | 6%
|
|====== | 8%
|
|======= | 10%
|
|======== | 12%
|
|========== | 14%
|
|=========== | 16%
|
|============= | 18%
|
|============== | 20%
|
|=============== | 22%
|
|================= | 24%
|
|================== | 26%
|
|==================== | 28%
|
|===================== | 30%
|
|====================== | 32%
|
|======================== | 34%
|
|========================= | 36%
|
|=========================== | 38%
|
|============================ | 40%
|
|============================= | 42%
|
|=============================== | 44%
|
|================================ | 46%
|
|================================== | 48%
|
|=================================== | 50%
|
|==================================== | 52%
|
|====================================== | 54%
|
|======================================= | 56%
|
|========================================= | 58%
|
|========================================== | 60%
|
|=========================================== | 62%
|
|============================================= | 64%
|
|============================================== | 66%
|
|================================================ | 68%
|
|================================================= | 70%
|
|================================================== | 72%
|
|==================================================== | 74%
|
|===================================================== | 76%
|
|======================================================= | 78%
|
|======================================================== | 80%
|
|========================================================= | 82%
|
|=========================================================== | 84%
|
|============================================================ | 86%
|
|============================================================== | 88%
|
|=============================================================== | 90%
|
|================================================================ | 92%
|
|================================================================== | 94%
|
|=================================================================== | 96%
|
|===================================================================== | 98%
|
|======================================================================| 100%
|
| | 0%
|
|=================================== | 50%
|
|======================================================================| 100%
|
| | 0%
|
|======================================================================| 100%
|
| | 0%
|
|=================================== | 50%
|
|======================================================================| 100%
|
| | 0%
|
|================== | 25%
|
|=================================== | 50%
|
|==================================================== | 75%
|
|======================================================================| 100%
[1] "j =1 peak =86 savedpeak = 86" "j =1 peak =102 savedpeak = 102"
[3] "j =1 peak =126 savedpeak = 126" "j =1 peak =181 savedpeak = 181"
[1] "j =2 peak =117 savedpeak = 181" "j =2 peak =169 savedpeak = 233"
[1] "j =3 peak =105 savedpeak = 233" "j =3 peak =146 savedpeak = 274"
[1] "j =4 peak =82 savedpeak = 274" "j =4 peak =121 savedpeak = 313"
[1] "j =5 peak =137 savedpeak = 393"
[1] "j =6 peak =97 savedpeak = 417" "j =6 peak =118 savedpeak = 438"
[3] "j =6 peak =134 savedpeak = 454"
[1] "j =7 peak =134 savedpeak = 518" "j =7 peak =161 savedpeak = 545"
[1] "j =10 peak =86 savedpeak = 662" "j =10 peak =110 savedpeak = 686"
[3] "j =10 peak =166 savedpeak = 742"
[1] "j =11 peak =102 savedpeak = 742" "j =11 peak =138 savedpeak = 778"
[1] "j =12 peak =150 savedpeak = 854"
[1] "j =13 peak =86 savedpeak = 854" "j =13 peak =154 savedpeak = 922"
[3] "j =13 peak =174 savedpeak = 942"
[1] "j =14 peak =90 savedpeak = 922" "j =14 peak =110 savedpeak = 942"
[3] "j =14 peak =154 savedpeak = 986"
[1] "j =15 peak =90 savedpeak = 986" "j =15 peak =141 savedpeak = 1037"
[3] "j =15 peak =170 savedpeak = 1066"
[1] "j =16 peak =77 savedpeak = 1037" "j =16 peak =106 savedpeak = 1066"
[3] "j =16 peak =126 savedpeak = 1086"
[1] "j =17 peak =118 savedpeak = 1142" "j =17 peak =137 savedpeak = 1161"
[3] "j =17 peak =158 savedpeak = 1182"
[1] "j =18 peak =94 savedpeak = 1182" "j =18 peak =138 savedpeak = 1226"
[3] "j =18 peak =170 savedpeak = 1258"
[1] "j =19 peak =106 savedpeak = 1258" "j =19 peak =130 savedpeak = 1282"
[3] "j =19 peak =170 savedpeak = 1322"
[1] "j =20 peak =106 savedpeak = 1322" "j =20 peak =138 savedpeak = 1354"
[3] "j =20 peak =166 savedpeak = 1382"
[1] "j =21 peak =102 savedpeak = 1382" "j =21 peak =170 savedpeak = 1450"
[1] "j =22 peak =106 savedpeak = 1450" "j =22 peak =138 savedpeak = 1482"
[3] "j =22 peak =157 savedpeak = 1501"
[1] "j =23 peak =93 savedpeak = 1501" "j =23 peak =125 savedpeak = 1533"
[3] "j =23 peak =145 savedpeak = 1553" "j =23 peak =178 savedpeak = 1586"
[1] "j =24 peak =81 savedpeak = 1553" "j =24 peak =114 savedpeak = 1586"
[3] "j =24 peak =161 savedpeak = 1633"
[1] "j =25 peak =97 savedpeak = 1633" "j =25 peak =134 savedpeak = 1670"
[3] "j =25 peak =166 savedpeak = 1702"
[1] "j =26 peak =102 savedpeak = 1702" "j =26 peak =137 savedpeak = 1737"
[1] "j =27 peak =122 savedpeak = 1786" "j =27 peak =173 savedpeak = 1837"
[1] "j =28 peak =109 savedpeak = 1837" "j =28 peak =170 savedpeak = 1898"
[1] "j =29 peak =106 savedpeak = 1898" "j =29 peak =126 savedpeak = 1918"
[3] "j =29 peak =158 savedpeak = 1950" "j =29 peak =178 savedpeak = 1970"
[1] "j =30 peak =94 savedpeak = 1950" "j =30 peak =114 savedpeak = 1970"
[3] "j =30 peak =154 savedpeak = 2010" "j =30 peak =178 savedpeak = 2034"
[1] "j =31 peak =90 savedpeak = 2010" "j =31 peak =114 savedpeak = 2034"
[3] "j =31 peak =150 savedpeak = 2070"
[1] "j =34 peak =114 savedpeak = 2226" "j =34 peak =141 savedpeak = 2253"
[3] "j =34 peak =166 savedpeak = 2278"
[1] "j =35 peak =77 savedpeak = 2253" "j =35 peak =102 savedpeak = 2278"
[3] "j =35 peak =125 savedpeak = 2301" "j =35 peak =165 savedpeak = 2341"
[1] "j =36 peak =101 savedpeak = 2341" "j =36 peak =125 savedpeak = 2365"
[3] "j =36 peak =161 savedpeak = 2401" "j =36 peak =177 savedpeak = 2417"
[1] "j =37 peak =97 savedpeak = 2401" "j =37 peak =113 savedpeak = 2417"
[3] "j =37 peak =144 savedpeak = 2448" "j =37 peak =170 savedpeak = 2474"
[1] "j =38 peak =80 savedpeak = 2448" "j =38 peak =106 savedpeak = 2474"
[3] "j =38 peak =134 savedpeak = 2502" "j =38 peak =162 savedpeak = 2530"
[1] "j =39 peak =98 savedpeak = 2530" "j =39 peak =138 savedpeak = 2570"
[3] "j =39 peak =170 savedpeak = 2602"
[1] "j =41 peak =109 savedpeak = 2669" "j =41 peak =145 savedpeak = 2705"
[3] "j =41 peak =174 savedpeak = 2734"
[1] "j =42 peak =81 savedpeak = 2705" "j =42 peak =110 savedpeak = 2734"
[3] "j =42 peak =125 savedpeak = 2749" "j =42 peak =142 savedpeak = 2766"
[1] "j =43 peak =78 savedpeak = 2766" "j =43 peak =134 savedpeak = 2822"
[3] "j =43 peak =164 savedpeak = 2852"
[1] "j =45 peak =98 savedpeak = 2914" "j =45 peak =130 savedpeak = 2946"
[3] "j =45 peak =158 savedpeak = 2974"
[1] "j =46 peak =94 savedpeak = 2974" "j =46 peak =146 savedpeak = 3026"
[3] "j =46 peak =158 savedpeak = 3038"
[1] "j =47 peak =82 savedpeak = 3026" "j =47 peak =94 savedpeak = 3038"
[3] "j =47 peak =149 savedpeak = 3093"
[1] "j =48 peak =85 savedpeak = 3093" "j =48 peak =150 savedpeak = 3158"
[3] "j =48 peak =162 savedpeak = 3170"
[1] "j =49 peak =86 savedpeak = 3158" "j =49 peak =98 savedpeak = 3170"
[3] "j =49 peak =162 savedpeak = 3234"
[1] "j =50 peak =98 savedpeak = 3234" "j =50 peak =126 savedpeak = 3262"
[3] "j =50 peak =169 savedpeak = 3305"
[1] "j =52 peak =114 savedpeak = 3378" "j =52 peak =134 savedpeak = 3398"
[3] "j =52 peak =178 savedpeak = 3442"
[1] "j =53 peak =114 savedpeak = 3442" "j =53 peak =138 savedpeak = 3466"
[3] "j =53 peak =154 savedpeak = 3482"
[1] "j =55 peak =101 savedpeak = 3557"
[1] "j =56 peak =122 savedpeak = 3642" "j =56 peak =134 savedpeak = 3654"
[3] "j =56 peak =150 savedpeak = 3670"
[1] "j =57 peak =86 savedpeak = 3670"
[1] "j =58 peak =118 savedpeak = 3766" "j =58 peak =157 savedpeak = 3805"
[1] "j =59 peak =93 savedpeak = 3805" "j =59 peak =130 savedpeak = 3842"
[3] "j =59 peak =166 savedpeak = 3878"
[1] "j =1 peak =100 savedpeak = 100" "j =1 peak =128 savedpeak = 128"
[3] "j =1 peak =177 savedpeak = 177"
[1] "j =2 peak =113 savedpeak = 177" "j =2 peak =168 savedpeak = 232"
[1] "j =3 peak =104 savedpeak = 232" "j =3 peak =148 savedpeak = 276"
[1] "j =4 peak =84 savedpeak = 276" "j =4 peak =120 savedpeak = 312"
[3] "j =4 peak =160 savedpeak = 352"
[1] "j =5 peak =96 savedpeak = 352" "j =5 peak =136 savedpeak = 392"
[1] "j =6 peak =93 savedpeak = 413" "j =6 peak =120 savedpeak = 440"
[3] "j =6 peak =137 savedpeak = 457" "j =6 peak =172 savedpeak = 492"
[1] "j =7 peak =108 savedpeak = 492" "j =7 peak =133 savedpeak = 517"
[3] "j =7 peak =160 savedpeak = 544"
[1] "j =9 peak =116 savedpeak = 628" "j =9 peak =148 savedpeak = 660"
[3] "j =9 peak =172 savedpeak = 684"
[1] "j =10 peak =84 savedpeak = 660" "j =10 peak =108 savedpeak = 684"
[3] "j =10 peak =165 savedpeak = 741"
[1] "j =11 peak =101 savedpeak = 741" "j =11 peak =140 savedpeak = 780"
[1] "j =12 peak =152 savedpeak = 856"
[1] "j =13 peak =88 savedpeak = 856" "j =13 peak =152 savedpeak = 920"
[3] "j =13 peak =176 savedpeak = 944"
[1] "j =14 peak =88 savedpeak = 920" "j =14 peak =112 savedpeak = 944"
[3] "j =14 peak =153 savedpeak = 985" "j =14 peak =176 savedpeak = 1008"
[1] "j =15 peak =89 savedpeak = 985" "j =15 peak =112 savedpeak = 1008"
[3] "j =15 peak =140 savedpeak = 1036" "j =15 peak =168 savedpeak = 1064"
[1] "j =16 peak =76 savedpeak = 1036" "j =16 peak =104 savedpeak = 1064"
[3] "j =16 peak =124 savedpeak = 1084" "j =16 peak =180 savedpeak = 1140"
[1] "j =17 peak =116 savedpeak = 1140" "j =17 peak =132 savedpeak = 1156"
[3] "j =17 peak =156 savedpeak = 1180"
[1] "j =18 peak =92 savedpeak = 1180" "j =18 peak =148 savedpeak = 1236"
[3] "j =18 peak =172 savedpeak = 1260"
[1] "j =19 peak =84 savedpeak = 1236" "j =19 peak =108 savedpeak = 1260"
[3] "j =19 peak =169 savedpeak = 1321"
[1] "j =20 peak =105 savedpeak = 1321" "j =20 peak =137 savedpeak = 1353"
[3] "j =20 peak =164 savedpeak = 1380"
[1] "j =21 peak =100 savedpeak = 1380" "j =21 peak =168 savedpeak = 1448"
[1] "j =22 peak =104 savedpeak = 1448" "j =22 peak =136 savedpeak = 1480"
[3] "j =22 peak =156 savedpeak = 1500"
[1] "j =23 peak =92 savedpeak = 1500" "j =23 peak =124 savedpeak = 1532"
[3] "j =23 peak =144 savedpeak = 1552"
[1] "j =24 peak =80 savedpeak = 1552" "j =24 peak =120 savedpeak = 1592"
[3] "j =24 peak =160 savedpeak = 1632"
[1] "j =25 peak =96 savedpeak = 1632" "j =25 peak =133 savedpeak = 1669"
[3] "j =25 peak =165 savedpeak = 1701"
[1] "j =26 peak =101 savedpeak = 1701" "j =26 peak =136 savedpeak = 1736"
[1] "j =28 peak =108 savedpeak = 1836" "j =28 peak =168 savedpeak = 1896"
[1] "j =29 peak =104 savedpeak = 1896" "j =29 peak =127 savedpeak = 1919"
[3] "j =29 peak =157 savedpeak = 1949" "j =29 peak =176 savedpeak = 1968"
[1] "j =30 peak =93 savedpeak = 1949" "j =30 peak =112 savedpeak = 1968"
[3] "j =30 peak =152 savedpeak = 2008" "j =30 peak =176 savedpeak = 2032"
[1] "j =31 peak =88 savedpeak = 2008" "j =31 peak =112 savedpeak = 2032"
[3] "j =31 peak =148 savedpeak = 2068" "j =31 peak =181 savedpeak = 2101"
[1] "j =32 peak =84 savedpeak = 2068" "j =32 peak =117 savedpeak = 2101"
[3] "j =32 peak =148 savedpeak = 2132" "j =32 peak =173 savedpeak = 2157"
[1] "j =33 peak =84 savedpeak = 2132" "j =33 peak =109 savedpeak = 2157"
[3] "j =33 peak =128 savedpeak = 2176" "j =33 peak =177 savedpeak = 2225"
[1] "j =34 peak =113 savedpeak = 2225" "j =34 peak =140 savedpeak = 2252"
[3] "j =34 peak =165 savedpeak = 2277"
[1] "j =35 peak =76 savedpeak = 2252" "j =35 peak =101 savedpeak = 2277"
[3] "j =35 peak =124 savedpeak = 2300" "j =35 peak =164 savedpeak = 2340"
[1] "j =36 peak =100 savedpeak = 2340" "j =36 peak =124 savedpeak = 2364"
[3] "j =36 peak =157 savedpeak = 2397" "j =36 peak =176 savedpeak = 2416"
[1] "j =37 peak =93 savedpeak = 2397" "j =37 peak =112 savedpeak = 2416"
[3] "j =37 peak =144 savedpeak = 2448" "j =37 peak =169 savedpeak = 2473"
[1] "j =38 peak =80 savedpeak = 2448" "j =38 peak =105 savedpeak = 2473"
[3] "j =38 peak =133 savedpeak = 2501" "j =38 peak =160 savedpeak = 2528"
[1] "j =39 peak =96 savedpeak = 2528" "j =39 peak =137 savedpeak = 2569"
[3] "j =39 peak =168 savedpeak = 2600"
[1] "j =41 peak =108 savedpeak = 2668" "j =41 peak =144 savedpeak = 2704"
[3] "j =41 peak =172 savedpeak = 2732"
[1] "j =42 peak =80 savedpeak = 2704" "j =42 peak =108 savedpeak = 2732"
[3] "j =42 peak =141 savedpeak = 2765"
[1] "j =43 peak =77 savedpeak = 2765" "j =43 peak =120 savedpeak = 2808"
[3] "j =43 peak =151 savedpeak = 2839"
[1] "j =44 peak =87 savedpeak = 2839" "j =44 peak =124 savedpeak = 2876"
[3] "j =44 peak =161 savedpeak = 2913"
[1] "j =45 peak =97 savedpeak = 2913" "j =45 peak =128 savedpeak = 2944"
[3] "j =45 peak =160 savedpeak = 2976"
[1] "j =46 peak =96 savedpeak = 2976" "j =46 peak =132 savedpeak = 3012"
[3] "j =46 peak =156 savedpeak = 3036"
[1] "j =47 peak =92 savedpeak = 3036" "j =47 peak =148 savedpeak = 3092"
[1] "j =48 peak =84 savedpeak = 3092" "j =48 peak =149 savedpeak = 3157"
[3] "j =48 peak =160 savedpeak = 3168"
[1] "j =49 peak =85 savedpeak = 3157" "j =49 peak =96 savedpeak = 3168"
[3] "j =49 peak =137 savedpeak = 3209" "j =49 peak =161 savedpeak = 3233"
[1] "j =50 peak =97 savedpeak = 3233" "j =50 peak =124 savedpeak = 3260"
[3] "j =50 peak =158 savedpeak = 3294"
[1] "j =51 peak =94 savedpeak = 3294" "j =51 peak =132 savedpeak = 3332"
[3] "j =51 peak =176 savedpeak = 3376"
[1] "j =52 peak =112 savedpeak = 3376" "j =52 peak =132 savedpeak = 3396"
[3] "j =52 peak =177 savedpeak = 3441"
[1] "j =53 peak =113 savedpeak = 3441" "j =53 peak =136 savedpeak = 3464"
[3] "j =53 peak =160 savedpeak = 3488"
[1] "j =54 peak =96 savedpeak = 3488" "j =54 peak =128 savedpeak = 3520"
[3] "j =54 peak =168 savedpeak = 3560"
[1] "j =55 peak =104 savedpeak = 3560" "j =55 peak =149 savedpeak = 3605"
[1] "j =56 peak =85 savedpeak = 3605" "j =56 peak =120 savedpeak = 3640"
[3] "j =56 peak =136 savedpeak = 3656" "j =56 peak =149 savedpeak = 3669"
[1] "j =57 peak =85 savedpeak = 3669" "j =57 peak =177 savedpeak = 3761"
[1] "j =58 peak =113 savedpeak = 3761" "j =58 peak =152 savedpeak = 3800"
[1] "j =59 peak =88 savedpeak = 3800" "j =59 peak =128 savedpeak = 3840"
[3] "j =59 peak =160 savedpeak = 3872"
[1] "j =1 peak =86 savedpeak = 86" "j =1 peak =102 savedpeak = 102"
[3] "j =1 peak =126 savedpeak = 126" "j =1 peak =178 savedpeak = 178"
[1] "j =2 peak =114 savedpeak = 178" "j =2 peak =167 savedpeak = 231"
[1] "j =3 peak =103 savedpeak = 231" "j =3 peak =146 savedpeak = 274"
[1] "j =4 peak =82 savedpeak = 274" "j =4 peak =122 savedpeak = 314"
[1] "j =5 peak =134 savedpeak = 390"
[1] "j =6 peak =94 savedpeak = 414" "j =6 peak =118 savedpeak = 438"
[3] "j =6 peak =134 savedpeak = 454"
[1] "j =7 peak =134 savedpeak = 518" "j =7 peak =159 savedpeak = 543"
[1] "j =8 peak =95 savedpeak = 543" "j =8 peak =138 savedpeak = 586"
[3] "j =8 peak =178 savedpeak = 626"
[1] "j =9 peak =114 savedpeak = 626" "j =9 peak =154 savedpeak = 666"
[1] "j =10 peak =90 savedpeak = 666" "j =10 peak =142 savedpeak = 718"
[3] "j =10 peak =166 savedpeak = 742"
[1] "j =11 peak =102 savedpeak = 742" "j =11 peak =138 savedpeak = 778"
[1] "j =12 peak =150 savedpeak = 854"
[1] "j =13 peak =86 savedpeak = 854" "j =13 peak =154 savedpeak = 922"
[3] "j =13 peak =174 savedpeak = 942"
[1] "j =14 peak =90 savedpeak = 922" "j =14 peak =110 savedpeak = 942"
[3] "j =14 peak =154 savedpeak = 986"
[1] "j =15 peak =90 savedpeak = 986" "j =15 peak =138 savedpeak = 1034"
[3] "j =15 peak =170 savedpeak = 1066"
[1] "j =16 peak =106 savedpeak = 1066" "j =16 peak =126 savedpeak = 1086"
[1] "j =17 peak =118 savedpeak = 1142" "j =17 peak =134 savedpeak = 1158"
[3] "j =17 peak =158 savedpeak = 1182"
[1] "j =18 peak =94 savedpeak = 1182" "j =18 peak =134 savedpeak = 1222"
[3] "j =18 peak =170 savedpeak = 1258"
[1] "j =19 peak =86 savedpeak = 1238" "j =19 peak =106 savedpeak = 1258"
[3] "j =19 peak =130 savedpeak = 1282" "j =19 peak =170 savedpeak = 1322"
[1] "j =20 peak =106 savedpeak = 1322" "j =20 peak =138 savedpeak = 1354"
[3] "j =20 peak =162 savedpeak = 1378"
[1] "j =21 peak =170 savedpeak = 1450"
[1] "j =22 peak =106 savedpeak = 1450" "j =22 peak =138 savedpeak = 1482"
[3] "j =22 peak =155 savedpeak = 1499"
[1] "j =23 peak =91 savedpeak = 1499" "j =23 peak =122 savedpeak = 1530"
[3] "j =23 peak =142 savedpeak = 1550" "j =23 peak =178 savedpeak = 1586"
[1] "j =24 peak =78 savedpeak = 1550" "j =24 peak =114 savedpeak = 1586"
[3] "j =24 peak =158 savedpeak = 1630"
[1] "j =25 peak =94 savedpeak = 1630" "j =25 peak =134 savedpeak = 1670"
[3] "j =25 peak =166 savedpeak = 1702"
[1] "j =26 peak =102 savedpeak = 1702" "j =26 peak =134 savedpeak = 1734"
[1] "j =27 peak =122 savedpeak = 1786" "j =27 peak =174 savedpeak = 1838"
[1] "j =28 peak =110 savedpeak = 1838" "j =28 peak =170 savedpeak = 1898"
[1] "j =29 peak =106 savedpeak = 1898" "j =29 peak =123 savedpeak = 1915"
[3] "j =29 peak =158 savedpeak = 1950" "j =29 peak =175 savedpeak = 1967"
[1] "j =30 peak =94 savedpeak = 1950" "j =30 peak =111 savedpeak = 1967"
[3] "j =30 peak =150 savedpeak = 2006" "j =30 peak =178 savedpeak = 2034"
[1] "j =31 peak =86 savedpeak = 2006" "j =31 peak =114 savedpeak = 2034"
[3] "j =31 peak =150 savedpeak = 2070"
[1] "j =32 peak =86 savedpeak = 2070" "j =32 peak =118 savedpeak = 2102"
[3] "j =32 peak =155 savedpeak = 2139" "j =32 peak =171 savedpeak = 2155"
[1] "j =33 peak =91 savedpeak = 2139" "j =33 peak =107 savedpeak = 2155"
[3] "j =33 peak =130 savedpeak = 2178" "j =33 peak =178 savedpeak = 2226"
[1] "j =34 peak =114 savedpeak = 2226" "j =34 peak =138 savedpeak = 2250"
[3] "j =34 peak =166 savedpeak = 2278"
[1] "j =35 peak =102 savedpeak = 2278" "j =35 peak =126 savedpeak = 2302"
[3] "j =35 peak =166 savedpeak = 2342"
[1] "j =36 peak =102 savedpeak = 2342" "j =36 peak =126 savedpeak = 2366"
[3] "j =36 peak =158 savedpeak = 2398" "j =36 peak =178 savedpeak = 2418"
[1] "j =37 peak =94 savedpeak = 2398" "j =37 peak =114 savedpeak = 2418"
[3] "j =37 peak =142 savedpeak = 2446" "j =37 peak =170 savedpeak = 2474"
[1] "j =38 peak =78 savedpeak = 2446" "j =38 peak =106 savedpeak = 2474"
[3] "j =38 peak =134 savedpeak = 2502" "j =38 peak =162 savedpeak = 2530"
[1] "j =39 peak =98 savedpeak = 2530" "j =39 peak =138 savedpeak = 2570"
[3] "j =39 peak =170 savedpeak = 2602"
[1] "j =40 peak =106 savedpeak = 2602" "j =40 peak =138 savedpeak = 2634"
[3] "j =40 peak =170 savedpeak = 2666"
[1] "j =41 peak =106 savedpeak = 2666" "j =41 peak =143 savedpeak = 2703"
[3] "j =41 peak =171 savedpeak = 2731"
[1] "j =42 peak =79 savedpeak = 2703" "j =42 peak =107 savedpeak = 2731"
[3] "j =42 peak =142 savedpeak = 2766"
[1] "j =43 peak =78 savedpeak = 2766" "j =43 peak =122 savedpeak = 2810"
[3] "j =43 peak =159 savedpeak = 2847"
[1] "j =45 peak =98 savedpeak = 2914" "j =45 peak =130 savedpeak = 2946"
[3] "j =45 peak =158 savedpeak = 2974"
[1] "j =46 peak =94 savedpeak = 2974" "j =46 peak =142 savedpeak = 3022"
[3] "j =46 peak =158 savedpeak = 3038"
[1] "j =47 peak =78 savedpeak = 3022" "j =47 peak =94 savedpeak = 3038"
[3] "j =47 peak =119 savedpeak = 3063" "j =47 peak =146 savedpeak = 3090"
[1] "j =48 peak =82 savedpeak = 3090" "j =48 peak =150 savedpeak = 3158"
[3] "j =48 peak =162 savedpeak = 3170"
[1] "j =49 peak =86 savedpeak = 3158" "j =49 peak =98 savedpeak = 3170"
[3] "j =49 peak =162 savedpeak = 3234"
[1] "j =50 peak =98 savedpeak = 3234" "j =50 peak =126 savedpeak = 3262"
[3] "j =50 peak =166 savedpeak = 3302"
[1] "j =52 peak =114 savedpeak = 3378" "j =52 peak =134 savedpeak = 3398"
[3] "j =52 peak =178 savedpeak = 3442"
[1] "j =53 peak =114 savedpeak = 3442" "j =53 peak =138 savedpeak = 3466"
[3] "j =53 peak =166 savedpeak = 3494"
[1] "j =54 peak =102 savedpeak = 3494" "j =54 peak =126 savedpeak = 3518"
[3] "j =54 peak =170 savedpeak = 3562"
[1] "j =55 peak =106 savedpeak = 3562"
[1] "j =56 peak =122 savedpeak = 3642" "j =56 peak =134 savedpeak = 3654"
[3] "j =56 peak =150 savedpeak = 3670"
[1] "j =57 peak =86 savedpeak = 3670"
[1] "j =58 peak =118 savedpeak = 3766" "j =58 peak =155 savedpeak = 3803"
[1] "j =59 peak =91 savedpeak = 3803" "j =59 peak =130 savedpeak = 3842"
[3] "j =59 peak =166 savedpeak = 3878"
[1] "j =1 peak =101 savedpeak = 101" "j =1 peak =126 savedpeak = 126"
[3] "j =1 peak =178 savedpeak = 178"
[1] "j =2 peak =114 savedpeak = 178" "j =2 peak =170 savedpeak = 234"
[1] "j =3 peak =106 savedpeak = 234" "j =3 peak =146 savedpeak = 274"
[1] "j =4 peak =82 savedpeak = 274" "j =4 peak =121 savedpeak = 313"
[3] "j =4 peak =162 savedpeak = 354"
[1] "j =5 peak =98 savedpeak = 354" "j =5 peak =138 savedpeak = 394"
[1] "j =6 peak =118 savedpeak = 438"
[1] "j =7 peak =134 savedpeak = 518" "j =7 peak =158 savedpeak = 542"
[1] "j =8 peak =94 savedpeak = 542" "j =8 peak =134 savedpeak = 582"
[3] "j =8 peak =181 savedpeak = 629"
[1] "j =9 peak =117 savedpeak = 629" "j =9 peak =150 savedpeak = 662"
[1] "j =10 peak =86 savedpeak = 662" "j =10 peak =125 savedpeak = 701"
[3] "j =10 peak =166 savedpeak = 742"
[1] "j =11 peak =102 savedpeak = 742" "j =11 peak =138 savedpeak = 778"
[1] "j =12 peak =150 savedpeak = 854"
[1] "j =13 peak =86 savedpeak = 854" "j =13 peak =153 savedpeak = 921"
[3] "j =13 peak =177 savedpeak = 945"
[1] "j =14 peak =89 savedpeak = 921" "j =14 peak =113 savedpeak = 945"
[3] "j =14 peak =154 savedpeak = 986"
[1] "j =15 peak =90 savedpeak = 986" "j =15 peak =138 savedpeak = 1034"
[3] "j =15 peak =169 savedpeak = 1065"
[1] "j =16 peak =105 savedpeak = 1065" "j =16 peak =122 savedpeak = 1082"
[3] "j =16 peak =178 savedpeak = 1138"
[1] "j =17 peak =114 savedpeak = 1138" "j =17 peak =134 savedpeak = 1158"
[3] "j =17 peak =158 savedpeak = 1182"
[1] "j =18 peak =94 savedpeak = 1182" "j =18 peak =134 savedpeak = 1222"
[3] "j =18 peak =146 savedpeak = 1234" "j =18 peak =170 savedpeak = 1258"
[1] "j =19 peak =82 savedpeak = 1234" "j =19 peak =106 savedpeak = 1258"
[3] "j =19 peak =170 savedpeak = 1322"
[1] "j =20 peak =106 savedpeak = 1322" "j =20 peak =138 savedpeak = 1354"
[3] "j =20 peak =165 savedpeak = 1381"
[1] "j =21 peak =169 savedpeak = 1449"
[1] "j =22 peak =105 savedpeak = 1449" "j =22 peak =138 savedpeak = 1482"
[3] "j =22 peak =154 savedpeak = 1498"
[1] "j =23 peak =90 savedpeak = 1498" "j =23 peak =122 savedpeak = 1530"
[3] "j =23 peak =142 savedpeak = 1550"
[1] "j =25 peak =94 savedpeak = 1630" "j =25 peak =134 savedpeak = 1670"
[3] "j =25 peak =166 savedpeak = 1702"
[1] "j =26 peak =102 savedpeak = 1702" "j =26 peak =134 savedpeak = 1734"
[1] "j =28 peak =106 savedpeak = 1834" "j =28 peak =169 savedpeak = 1897"
[1] "j =29 peak =105 savedpeak = 1897" "j =29 peak =122 savedpeak = 1914"
[3] "j =29 peak =158 savedpeak = 1950" "j =29 peak =174 savedpeak = 1966"
[1] "j =30 peak =94 savedpeak = 1950" "j =30 peak =110 savedpeak = 1966"
[3] "j =30 peak =154 savedpeak = 2010" "j =30 peak =178 savedpeak = 2034"
[1] "j =31 peak =90 savedpeak = 2010" "j =31 peak =114 savedpeak = 2034"
[3] "j =31 peak =150 savedpeak = 2070" "j =31 peak =181 savedpeak = 2101"
[1] "j =32 peak =86 savedpeak = 2070" "j =32 peak =117 savedpeak = 2101"
[3] "j =32 peak =154 savedpeak = 2138" "j =32 peak =174 savedpeak = 2158"
[1] "j =34 peak =114 savedpeak = 2226" "j =34 peak =138 savedpeak = 2250"
[3] "j =34 peak =166 savedpeak = 2278"
[1] "j =35 peak =102 savedpeak = 2278" "j =35 peak =125 savedpeak = 2301"
[3] "j =35 peak =165 savedpeak = 2341"
[1] "j =36 peak =101 savedpeak = 2341" "j =36 peak =125 savedpeak = 2365"
[3] "j =36 peak =161 savedpeak = 2401" "j =36 peak =178 savedpeak = 2418"
[1] "j =37 peak =97 savedpeak = 2401" "j =37 peak =114 savedpeak = 2418"
[3] "j =37 peak =142 savedpeak = 2446" "j =37 peak =170 savedpeak = 2474"
[1] "j =38 peak =78 savedpeak = 2446" "j =38 peak =106 savedpeak = 2474"
[3] "j =38 peak =134 savedpeak = 2502" "j =38 peak =161 savedpeak = 2529"
[1] "j =39 peak =97 savedpeak = 2529" "j =39 peak =138 savedpeak = 2570"
[3] "j =39 peak =169 savedpeak = 2601"
[1] "j =41 peak =106 savedpeak = 2666" "j =41 peak =146 savedpeak = 2706"
[3] "j =41 peak =170 savedpeak = 2730"
[1] "j =42 peak =82 savedpeak = 2706" "j =42 peak =106 savedpeak = 2730"
[3] "j =42 peak =142 savedpeak = 2766"
[1] "j =43 peak =78 savedpeak = 2766" "j =43 peak =141 savedpeak = 2829"
[1] "j =45 peak =98 savedpeak = 2914" "j =45 peak =129 savedpeak = 2945"
[3] "j =45 peak =158 savedpeak = 2974"
[1] "j =46 peak =94 savedpeak = 2974" "j =46 peak =157 savedpeak = 3037"
[1] "j =47 peak =93 savedpeak = 3037" "j =47 peak =146 savedpeak = 3090"
[1] "j =48 peak =82 savedpeak = 3090" "j =48 peak =150 savedpeak = 3158"
[3] "j =48 peak =162 savedpeak = 3170"
[1] "j =49 peak =86 savedpeak = 3158" "j =49 peak =98 savedpeak = 3170"
[3] "j =49 peak =137 savedpeak = 3209" "j =49 peak =162 savedpeak = 3234"
[1] "j =50 peak =98 savedpeak = 3234" "j =50 peak =126 savedpeak = 3262"
[3] "j =50 peak =158 savedpeak = 3294" "j =50 peak =177 savedpeak = 3313"
[1] "j =51 peak =82 savedpeak = 3282" "j =51 peak =94 savedpeak = 3294"
[3] "j =51 peak =113 savedpeak = 3313" "j =51 peak =134 savedpeak = 3334"
[5] "j =51 peak =177 savedpeak = 3377"
[1] "j =52 peak =113 savedpeak = 3377" "j =52 peak =133 savedpeak = 3397"
[3] "j =52 peak =178 savedpeak = 3442"
[1] "j =53 peak =114 savedpeak = 3442" "j =53 peak =134 savedpeak = 3462"
[3] "j =53 peak =170 savedpeak = 3498"
[1] "j =54 peak =106 savedpeak = 3498" "j =54 peak =125 savedpeak = 3517"
[3] "j =54 peak =170 savedpeak = 3562"
[1] "j =55 peak =106 savedpeak = 3562" "j =55 peak =181 savedpeak = 3637"
[1] "j =56 peak =117 savedpeak = 3637" "j =56 peak =134 savedpeak = 3654"
[3] "j =56 peak =150 savedpeak = 3670"
[1] "j =57 peak =86 savedpeak = 3670" "j =57 peak =178 savedpeak = 3762"
[1] "j =58 peak =114 savedpeak = 3762" "j =58 peak =154 savedpeak = 3802"
[1] "j =59 peak =90 savedpeak = 3802" "j =59 peak =126 savedpeak = 3838"
[3] "j =59 peak =162 savedpeak = 3874"
|
| | 0%
|
|================== | 25%
|
|=================================== | 50%
|
|==================================================== | 75%
|
|======================================================================| 100%
|
| | 0%
|
|================== | 25%
|
|=================================== | 50%
|
|==================================================== | 75%
|
|======================================================================| 100%
== testthat results ===========================================================
OK: 21 SKIPPED: 0 FAILED: 0
>
> proc.time()
user system elapsed
238.29 1.45 241.84
|
ASICS.Rcheck/tests_x64/testthat.Rout
R version 3.5.1 Patched (2018-07-24 r75005) -- "Feather Spray"
Copyright (C) 2018 The R Foundation for Statistical Computing
Platform: x86_64-w64-mingw32/x64 (64-bit)
R is free software and comes with ABSOLUTELY NO WARRANTY.
You are welcome to redistribute it under certain conditions.
Type 'license()' or 'licence()' for distribution details.
R is a collaborative project with many contributors.
Type 'contributors()' for more information and
'citation()' on how to cite R or R packages in publications.
Type 'demo()' for some demos, 'help()' for on-line help, or
'help.start()' for an HTML browser interface to help.
Type 'q()' to quit R.
> library(testthat)
> library(ASICS)
>
> test_check("ASICS")
|
| | 0%
|
|= | 2%
|
|=== | 4%
|
|==== | 6%
|
|====== | 8%
|
|======= | 10%
|
|======== | 12%
|
|========== | 14%
|
|=========== | 16%
|
|============= | 18%
|
|============== | 20%
|
|=============== | 22%
|
|================= | 24%
|
|================== | 26%
|
|==================== | 28%
|
|===================== | 30%
|
|====================== | 32%
|
|======================== | 34%
|
|========================= | 36%
|
|=========================== | 38%
|
|============================ | 40%
|
|============================= | 42%
|
|=============================== | 44%
|
|================================ | 46%
|
|================================== | 48%
|
|=================================== | 50%
|
|==================================== | 52%
|
|====================================== | 54%
|
|======================================= | 56%
|
|========================================= | 58%
|
|========================================== | 60%
|
|=========================================== | 62%
|
|============================================= | 64%
|
|============================================== | 66%
|
|================================================ | 68%
|
|================================================= | 70%
|
|================================================== | 72%
|
|==================================================== | 74%
|
|===================================================== | 76%
|
|======================================================= | 78%
|
|======================================================== | 80%
|
|========================================================= | 82%
|
|=========================================================== | 84%
|
|============================================================ | 86%
|
|============================================================== | 88%
|
|=============================================================== | 90%
|
|================================================================ | 92%
|
|================================================================== | 94%
|
|=================================================================== | 96%
|
|===================================================================== | 98%
|
|======================================================================| 100%
|
| | 0%
|
|=================================== | 50%
|
|======================================================================| 100%
|
| | 0%
|
|======================================================================| 100%
|
| | 0%
|
|=================================== | 50%
|
|======================================================================| 100%
|
| | 0%
|
|================== | 25%
|
|=================================== | 50%
|
|==================================================== | 75%
|
|======================================================================| 100%
[1] "j =1 peak =86 savedpeak = 86" "j =1 peak =102 savedpeak = 102"
[3] "j =1 peak =126 savedpeak = 126" "j =1 peak =181 savedpeak = 181"
[1] "j =2 peak =117 savedpeak = 181" "j =2 peak =169 savedpeak = 233"
[1] "j =3 peak =105 savedpeak = 233" "j =3 peak =146 savedpeak = 274"
[1] "j =4 peak =82 savedpeak = 274" "j =4 peak =121 savedpeak = 313"
[1] "j =5 peak =137 savedpeak = 393"
[1] "j =6 peak =97 savedpeak = 417" "j =6 peak =118 savedpeak = 438"
[3] "j =6 peak =134 savedpeak = 454"
[1] "j =7 peak =134 savedpeak = 518" "j =7 peak =161 savedpeak = 545"
[1] "j =10 peak =86 savedpeak = 662" "j =10 peak =110 savedpeak = 686"
[3] "j =10 peak =166 savedpeak = 742"
[1] "j =11 peak =102 savedpeak = 742" "j =11 peak =138 savedpeak = 778"
[1] "j =12 peak =150 savedpeak = 854"
[1] "j =13 peak =86 savedpeak = 854" "j =13 peak =154 savedpeak = 922"
[3] "j =13 peak =174 savedpeak = 942"
[1] "j =14 peak =90 savedpeak = 922" "j =14 peak =110 savedpeak = 942"
[3] "j =14 peak =154 savedpeak = 986"
[1] "j =15 peak =90 savedpeak = 986" "j =15 peak =141 savedpeak = 1037"
[3] "j =15 peak =170 savedpeak = 1066"
[1] "j =16 peak =77 savedpeak = 1037" "j =16 peak =106 savedpeak = 1066"
[3] "j =16 peak =126 savedpeak = 1086"
[1] "j =17 peak =118 savedpeak = 1142" "j =17 peak =137 savedpeak = 1161"
[3] "j =17 peak =158 savedpeak = 1182"
[1] "j =18 peak =94 savedpeak = 1182" "j =18 peak =138 savedpeak = 1226"
[3] "j =18 peak =170 savedpeak = 1258"
[1] "j =19 peak =106 savedpeak = 1258" "j =19 peak =130 savedpeak = 1282"
[3] "j =19 peak =170 savedpeak = 1322"
[1] "j =20 peak =106 savedpeak = 1322" "j =20 peak =138 savedpeak = 1354"
[3] "j =20 peak =166 savedpeak = 1382"
[1] "j =21 peak =102 savedpeak = 1382" "j =21 peak =170 savedpeak = 1450"
[1] "j =22 peak =106 savedpeak = 1450" "j =22 peak =138 savedpeak = 1482"
[3] "j =22 peak =157 savedpeak = 1501"
[1] "j =23 peak =93 savedpeak = 1501" "j =23 peak =125 savedpeak = 1533"
[3] "j =23 peak =145 savedpeak = 1553" "j =23 peak =178 savedpeak = 1586"
[1] "j =24 peak =81 savedpeak = 1553" "j =24 peak =114 savedpeak = 1586"
[3] "j =24 peak =161 savedpeak = 1633"
[1] "j =25 peak =97 savedpeak = 1633" "j =25 peak =134 savedpeak = 1670"
[3] "j =25 peak =166 savedpeak = 1702"
[1] "j =26 peak =102 savedpeak = 1702" "j =26 peak =137 savedpeak = 1737"
[1] "j =27 peak =122 savedpeak = 1786" "j =27 peak =173 savedpeak = 1837"
[1] "j =28 peak =109 savedpeak = 1837" "j =28 peak =170 savedpeak = 1898"
[1] "j =29 peak =106 savedpeak = 1898" "j =29 peak =126 savedpeak = 1918"
[3] "j =29 peak =158 savedpeak = 1950" "j =29 peak =178 savedpeak = 1970"
[1] "j =30 peak =94 savedpeak = 1950" "j =30 peak =114 savedpeak = 1970"
[3] "j =30 peak =154 savedpeak = 2010" "j =30 peak =178 savedpeak = 2034"
[1] "j =31 peak =90 savedpeak = 2010" "j =31 peak =114 savedpeak = 2034"
[3] "j =31 peak =150 savedpeak = 2070"
[1] "j =34 peak =114 savedpeak = 2226" "j =34 peak =141 savedpeak = 2253"
[3] "j =34 peak =166 savedpeak = 2278"
[1] "j =35 peak =77 savedpeak = 2253" "j =35 peak =102 savedpeak = 2278"
[3] "j =35 peak =125 savedpeak = 2301" "j =35 peak =165 savedpeak = 2341"
[1] "j =36 peak =101 savedpeak = 2341" "j =36 peak =125 savedpeak = 2365"
[3] "j =36 peak =161 savedpeak = 2401" "j =36 peak =177 savedpeak = 2417"
[1] "j =37 peak =97 savedpeak = 2401" "j =37 peak =113 savedpeak = 2417"
[3] "j =37 peak =144 savedpeak = 2448" "j =37 peak =170 savedpeak = 2474"
[1] "j =38 peak =80 savedpeak = 2448" "j =38 peak =106 savedpeak = 2474"
[3] "j =38 peak =134 savedpeak = 2502" "j =38 peak =162 savedpeak = 2530"
[1] "j =39 peak =98 savedpeak = 2530" "j =39 peak =138 savedpeak = 2570"
[3] "j =39 peak =170 savedpeak = 2602"
[1] "j =41 peak =109 savedpeak = 2669" "j =41 peak =145 savedpeak = 2705"
[3] "j =41 peak =174 savedpeak = 2734"
[1] "j =42 peak =81 savedpeak = 2705" "j =42 peak =110 savedpeak = 2734"
[3] "j =42 peak =125 savedpeak = 2749" "j =42 peak =142 savedpeak = 2766"
[1] "j =43 peak =78 savedpeak = 2766" "j =43 peak =134 savedpeak = 2822"
[3] "j =43 peak =164 savedpeak = 2852"
[1] "j =45 peak =98 savedpeak = 2914" "j =45 peak =130 savedpeak = 2946"
[3] "j =45 peak =158 savedpeak = 2974"
[1] "j =46 peak =94 savedpeak = 2974" "j =46 peak =146 savedpeak = 3026"
[3] "j =46 peak =158 savedpeak = 3038"
[1] "j =47 peak =82 savedpeak = 3026" "j =47 peak =94 savedpeak = 3038"
[3] "j =47 peak =149 savedpeak = 3093"
[1] "j =48 peak =85 savedpeak = 3093" "j =48 peak =150 savedpeak = 3158"
[3] "j =48 peak =162 savedpeak = 3170"
[1] "j =49 peak =86 savedpeak = 3158" "j =49 peak =98 savedpeak = 3170"
[3] "j =49 peak =162 savedpeak = 3234"
[1] "j =50 peak =98 savedpeak = 3234" "j =50 peak =126 savedpeak = 3262"
[3] "j =50 peak =169 savedpeak = 3305"
[1] "j =52 peak =114 savedpeak = 3378" "j =52 peak =134 savedpeak = 3398"
[3] "j =52 peak =178 savedpeak = 3442"
[1] "j =53 peak =114 savedpeak = 3442" "j =53 peak =138 savedpeak = 3466"
[3] "j =53 peak =154 savedpeak = 3482"
[1] "j =55 peak =101 savedpeak = 3557"
[1] "j =56 peak =122 savedpeak = 3642" "j =56 peak =134 savedpeak = 3654"
[3] "j =56 peak =150 savedpeak = 3670"
[1] "j =57 peak =86 savedpeak = 3670"
[1] "j =58 peak =118 savedpeak = 3766" "j =58 peak =157 savedpeak = 3805"
[1] "j =59 peak =93 savedpeak = 3805" "j =59 peak =130 savedpeak = 3842"
[3] "j =59 peak =166 savedpeak = 3878"
[1] "j =1 peak =100 savedpeak = 100" "j =1 peak =128 savedpeak = 128"
[3] "j =1 peak =177 savedpeak = 177"
[1] "j =2 peak =113 savedpeak = 177" "j =2 peak =168 savedpeak = 232"
[1] "j =3 peak =104 savedpeak = 232" "j =3 peak =148 savedpeak = 276"
[1] "j =4 peak =84 savedpeak = 276" "j =4 peak =120 savedpeak = 312"
[3] "j =4 peak =160 savedpeak = 352"
[1] "j =5 peak =96 savedpeak = 352" "j =5 peak =136 savedpeak = 392"
[1] "j =6 peak =93 savedpeak = 413" "j =6 peak =120 savedpeak = 440"
[3] "j =6 peak =137 savedpeak = 457" "j =6 peak =172 savedpeak = 492"
[1] "j =7 peak =108 savedpeak = 492" "j =7 peak =133 savedpeak = 517"
[3] "j =7 peak =160 savedpeak = 544"
[1] "j =9 peak =116 savedpeak = 628" "j =9 peak =148 savedpeak = 660"
[3] "j =9 peak =172 savedpeak = 684"
[1] "j =10 peak =84 savedpeak = 660" "j =10 peak =108 savedpeak = 684"
[3] "j =10 peak =165 savedpeak = 741"
[1] "j =11 peak =101 savedpeak = 741" "j =11 peak =140 savedpeak = 780"
[1] "j =12 peak =152 savedpeak = 856"
[1] "j =13 peak =88 savedpeak = 856" "j =13 peak =152 savedpeak = 920"
[3] "j =13 peak =176 savedpeak = 944"
[1] "j =14 peak =88 savedpeak = 920" "j =14 peak =112 savedpeak = 944"
[3] "j =14 peak =153 savedpeak = 985" "j =14 peak =176 savedpeak = 1008"
[1] "j =15 peak =89 savedpeak = 985" "j =15 peak =112 savedpeak = 1008"
[3] "j =15 peak =140 savedpeak = 1036" "j =15 peak =168 savedpeak = 1064"
[1] "j =16 peak =76 savedpeak = 1036" "j =16 peak =104 savedpeak = 1064"
[3] "j =16 peak =124 savedpeak = 1084" "j =16 peak =180 savedpeak = 1140"
[1] "j =17 peak =116 savedpeak = 1140" "j =17 peak =132 savedpeak = 1156"
[3] "j =17 peak =156 savedpeak = 1180"
[1] "j =18 peak =92 savedpeak = 1180" "j =18 peak =148 savedpeak = 1236"
[3] "j =18 peak =172 savedpeak = 1260"
[1] "j =19 peak =84 savedpeak = 1236" "j =19 peak =108 savedpeak = 1260"
[3] "j =19 peak =169 savedpeak = 1321"
[1] "j =20 peak =105 savedpeak = 1321" "j =20 peak =137 savedpeak = 1353"
[3] "j =20 peak =164 savedpeak = 1380"
[1] "j =21 peak =100 savedpeak = 1380" "j =21 peak =168 savedpeak = 1448"
[1] "j =22 peak =104 savedpeak = 1448" "j =22 peak =136 savedpeak = 1480"
[3] "j =22 peak =156 savedpeak = 1500"
[1] "j =23 peak =92 savedpeak = 1500" "j =23 peak =124 savedpeak = 1532"
[3] "j =23 peak =144 savedpeak = 1552"
[1] "j =24 peak =80 savedpeak = 1552" "j =24 peak =120 savedpeak = 1592"
[3] "j =24 peak =160 savedpeak = 1632"
[1] "j =25 peak =96 savedpeak = 1632" "j =25 peak =133 savedpeak = 1669"
[3] "j =25 peak =165 savedpeak = 1701"
[1] "j =26 peak =101 savedpeak = 1701" "j =26 peak =136 savedpeak = 1736"
[1] "j =28 peak =108 savedpeak = 1836" "j =28 peak =168 savedpeak = 1896"
[1] "j =29 peak =104 savedpeak = 1896" "j =29 peak =127 savedpeak = 1919"
[3] "j =29 peak =157 savedpeak = 1949" "j =29 peak =176 savedpeak = 1968"
[1] "j =30 peak =93 savedpeak = 1949" "j =30 peak =112 savedpeak = 1968"
[3] "j =30 peak =152 savedpeak = 2008" "j =30 peak =176 savedpeak = 2032"
[1] "j =31 peak =88 savedpeak = 2008" "j =31 peak =112 savedpeak = 2032"
[3] "j =31 peak =148 savedpeak = 2068" "j =31 peak =181 savedpeak = 2101"
[1] "j =32 peak =84 savedpeak = 2068" "j =32 peak =117 savedpeak = 2101"
[3] "j =32 peak =148 savedpeak = 2132" "j =32 peak =173 savedpeak = 2157"
[1] "j =33 peak =84 savedpeak = 2132" "j =33 peak =109 savedpeak = 2157"
[3] "j =33 peak =128 savedpeak = 2176" "j =33 peak =177 savedpeak = 2225"
[1] "j =34 peak =113 savedpeak = 2225" "j =34 peak =140 savedpeak = 2252"
[3] "j =34 peak =165 savedpeak = 2277"
[1] "j =35 peak =76 savedpeak = 2252" "j =35 peak =101 savedpeak = 2277"
[3] "j =35 peak =124 savedpeak = 2300" "j =35 peak =164 savedpeak = 2340"
[1] "j =36 peak =100 savedpeak = 2340" "j =36 peak =124 savedpeak = 2364"
[3] "j =36 peak =157 savedpeak = 2397" "j =36 peak =176 savedpeak = 2416"
[1] "j =37 peak =93 savedpeak = 2397" "j =37 peak =112 savedpeak = 2416"
[3] "j =37 peak =144 savedpeak = 2448" "j =37 peak =169 savedpeak = 2473"
[1] "j =38 peak =80 savedpeak = 2448" "j =38 peak =105 savedpeak = 2473"
[3] "j =38 peak =133 savedpeak = 2501" "j =38 peak =160 savedpeak = 2528"
[1] "j =39 peak =96 savedpeak = 2528" "j =39 peak =137 savedpeak = 2569"
[3] "j =39 peak =168 savedpeak = 2600"
[1] "j =41 peak =108 savedpeak = 2668" "j =41 peak =144 savedpeak = 2704"
[3] "j =41 peak =172 savedpeak = 2732"
[1] "j =42 peak =80 savedpeak = 2704" "j =42 peak =108 savedpeak = 2732"
[3] "j =42 peak =141 savedpeak = 2765"
[1] "j =43 peak =77 savedpeak = 2765" "j =43 peak =120 savedpeak = 2808"
[3] "j =43 peak =151 savedpeak = 2839"
[1] "j =44 peak =87 savedpeak = 2839" "j =44 peak =124 savedpeak = 2876"
[3] "j =44 peak =161 savedpeak = 2913"
[1] "j =45 peak =97 savedpeak = 2913" "j =45 peak =128 savedpeak = 2944"
[3] "j =45 peak =160 savedpeak = 2976"
[1] "j =46 peak =96 savedpeak = 2976" "j =46 peak =132 savedpeak = 3012"
[3] "j =46 peak =156 savedpeak = 3036"
[1] "j =47 peak =92 savedpeak = 3036" "j =47 peak =148 savedpeak = 3092"
[1] "j =48 peak =84 savedpeak = 3092" "j =48 peak =149 savedpeak = 3157"
[3] "j =48 peak =160 savedpeak = 3168"
[1] "j =49 peak =85 savedpeak = 3157" "j =49 peak =96 savedpeak = 3168"
[3] "j =49 peak =137 savedpeak = 3209" "j =49 peak =161 savedpeak = 3233"
[1] "j =50 peak =97 savedpeak = 3233" "j =50 peak =124 savedpeak = 3260"
[3] "j =50 peak =158 savedpeak = 3294"
[1] "j =51 peak =94 savedpeak = 3294" "j =51 peak =132 savedpeak = 3332"
[3] "j =51 peak =176 savedpeak = 3376"
[1] "j =52 peak =112 savedpeak = 3376" "j =52 peak =132 savedpeak = 3396"
[3] "j =52 peak =177 savedpeak = 3441"
[1] "j =53 peak =113 savedpeak = 3441" "j =53 peak =136 savedpeak = 3464"
[3] "j =53 peak =160 savedpeak = 3488"
[1] "j =54 peak =96 savedpeak = 3488" "j =54 peak =128 savedpeak = 3520"
[3] "j =54 peak =168 savedpeak = 3560"
[1] "j =55 peak =104 savedpeak = 3560" "j =55 peak =149 savedpeak = 3605"
[1] "j =56 peak =85 savedpeak = 3605" "j =56 peak =120 savedpeak = 3640"
[3] "j =56 peak =136 savedpeak = 3656" "j =56 peak =149 savedpeak = 3669"
[1] "j =57 peak =85 savedpeak = 3669" "j =57 peak =177 savedpeak = 3761"
[1] "j =58 peak =113 savedpeak = 3761" "j =58 peak =152 savedpeak = 3800"
[1] "j =59 peak =88 savedpeak = 3800" "j =59 peak =128 savedpeak = 3840"
[3] "j =59 peak =160 savedpeak = 3872"
[1] "j =1 peak =86 savedpeak = 86" "j =1 peak =102 savedpeak = 102"
[3] "j =1 peak =126 savedpeak = 126" "j =1 peak =178 savedpeak = 178"
[1] "j =2 peak =114 savedpeak = 178" "j =2 peak =167 savedpeak = 231"
[1] "j =3 peak =103 savedpeak = 231" "j =3 peak =146 savedpeak = 274"
[1] "j =4 peak =82 savedpeak = 274" "j =4 peak =122 savedpeak = 314"
[1] "j =5 peak =134 savedpeak = 390"
[1] "j =6 peak =94 savedpeak = 414" "j =6 peak =118 savedpeak = 438"
[3] "j =6 peak =134 savedpeak = 454"
[1] "j =7 peak =134 savedpeak = 518" "j =7 peak =159 savedpeak = 543"
[1] "j =8 peak =95 savedpeak = 543" "j =8 peak =138 savedpeak = 586"
[3] "j =8 peak =178 savedpeak = 626"
[1] "j =9 peak =114 savedpeak = 626" "j =9 peak =154 savedpeak = 666"
[1] "j =10 peak =90 savedpeak = 666" "j =10 peak =142 savedpeak = 718"
[3] "j =10 peak =166 savedpeak = 742"
[1] "j =11 peak =102 savedpeak = 742" "j =11 peak =138 savedpeak = 778"
[1] "j =12 peak =150 savedpeak = 854"
[1] "j =13 peak =86 savedpeak = 854" "j =13 peak =154 savedpeak = 922"
[3] "j =13 peak =174 savedpeak = 942"
[1] "j =14 peak =90 savedpeak = 922" "j =14 peak =110 savedpeak = 942"
[3] "j =14 peak =154 savedpeak = 986"
[1] "j =15 peak =90 savedpeak = 986" "j =15 peak =138 savedpeak = 1034"
[3] "j =15 peak =170 savedpeak = 1066"
[1] "j =16 peak =106 savedpeak = 1066" "j =16 peak =126 savedpeak = 1086"
[1] "j =17 peak =118 savedpeak = 1142" "j =17 peak =134 savedpeak = 1158"
[3] "j =17 peak =158 savedpeak = 1182"
[1] "j =18 peak =94 savedpeak = 1182" "j =18 peak =134 savedpeak = 1222"
[3] "j =18 peak =170 savedpeak = 1258"
[1] "j =19 peak =86 savedpeak = 1238" "j =19 peak =106 savedpeak = 1258"
[3] "j =19 peak =130 savedpeak = 1282" "j =19 peak =170 savedpeak = 1322"
[1] "j =20 peak =106 savedpeak = 1322" "j =20 peak =138 savedpeak = 1354"
[3] "j =20 peak =162 savedpeak = 1378"
[1] "j =21 peak =170 savedpeak = 1450"
[1] "j =22 peak =106 savedpeak = 1450" "j =22 peak =138 savedpeak = 1482"
[3] "j =22 peak =155 savedpeak = 1499"
[1] "j =23 peak =91 savedpeak = 1499" "j =23 peak =122 savedpeak = 1530"
[3] "j =23 peak =142 savedpeak = 1550" "j =23 peak =178 savedpeak = 1586"
[1] "j =24 peak =78 savedpeak = 1550" "j =24 peak =114 savedpeak = 1586"
[3] "j =24 peak =158 savedpeak = 1630"
[1] "j =25 peak =94 savedpeak = 1630" "j =25 peak =134 savedpeak = 1670"
[3] "j =25 peak =166 savedpeak = 1702"
[1] "j =26 peak =102 savedpeak = 1702" "j =26 peak =134 savedpeak = 1734"
[1] "j =27 peak =122 savedpeak = 1786" "j =27 peak =174 savedpeak = 1838"
[1] "j =28 peak =110 savedpeak = 1838" "j =28 peak =170 savedpeak = 1898"
[1] "j =29 peak =106 savedpeak = 1898" "j =29 peak =123 savedpeak = 1915"
[3] "j =29 peak =158 savedpeak = 1950" "j =29 peak =175 savedpeak = 1967"
[1] "j =30 peak =94 savedpeak = 1950" "j =30 peak =111 savedpeak = 1967"
[3] "j =30 peak =150 savedpeak = 2006" "j =30 peak =178 savedpeak = 2034"
[1] "j =31 peak =86 savedpeak = 2006" "j =31 peak =114 savedpeak = 2034"
[3] "j =31 peak =150 savedpeak = 2070"
[1] "j =32 peak =86 savedpeak = 2070" "j =32 peak =118 savedpeak = 2102"
[3] "j =32 peak =155 savedpeak = 2139" "j =32 peak =171 savedpeak = 2155"
[1] "j =33 peak =91 savedpeak = 2139" "j =33 peak =107 savedpeak = 2155"
[3] "j =33 peak =130 savedpeak = 2178" "j =33 peak =178 savedpeak = 2226"
[1] "j =34 peak =114 savedpeak = 2226" "j =34 peak =138 savedpeak = 2250"
[3] "j =34 peak =166 savedpeak = 2278"
[1] "j =35 peak =102 savedpeak = 2278" "j =35 peak =126 savedpeak = 2302"
[3] "j =35 peak =166 savedpeak = 2342"
[1] "j =36 peak =102 savedpeak = 2342" "j =36 peak =126 savedpeak = 2366"
[3] "j =36 peak =158 savedpeak = 2398" "j =36 peak =178 savedpeak = 2418"
[1] "j =37 peak =94 savedpeak = 2398" "j =37 peak =114 savedpeak = 2418"
[3] "j =37 peak =142 savedpeak = 2446" "j =37 peak =170 savedpeak = 2474"
[1] "j =38 peak =78 savedpeak = 2446" "j =38 peak =106 savedpeak = 2474"
[3] "j =38 peak =134 savedpeak = 2502" "j =38 peak =162 savedpeak = 2530"
[1] "j =39 peak =98 savedpeak = 2530" "j =39 peak =138 savedpeak = 2570"
[3] "j =39 peak =170 savedpeak = 2602"
[1] "j =40 peak =106 savedpeak = 2602" "j =40 peak =138 savedpeak = 2634"
[3] "j =40 peak =170 savedpeak = 2666"
[1] "j =41 peak =106 savedpeak = 2666" "j =41 peak =143 savedpeak = 2703"
[3] "j =41 peak =171 savedpeak = 2731"
[1] "j =42 peak =79 savedpeak = 2703" "j =42 peak =107 savedpeak = 2731"
[3] "j =42 peak =142 savedpeak = 2766"
[1] "j =43 peak =78 savedpeak = 2766" "j =43 peak =122 savedpeak = 2810"
[3] "j =43 peak =159 savedpeak = 2847"
[1] "j =45 peak =98 savedpeak = 2914" "j =45 peak =130 savedpeak = 2946"
[3] "j =45 peak =158 savedpeak = 2974"
[1] "j =46 peak =94 savedpeak = 2974" "j =46 peak =142 savedpeak = 3022"
[3] "j =46 peak =158 savedpeak = 3038"
[1] "j =47 peak =78 savedpeak = 3022" "j =47 peak =94 savedpeak = 3038"
[3] "j =47 peak =119 savedpeak = 3063" "j =47 peak =146 savedpeak = 3090"
[1] "j =48 peak =82 savedpeak = 3090" "j =48 peak =150 savedpeak = 3158"
[3] "j =48 peak =162 savedpeak = 3170"
[1] "j =49 peak =86 savedpeak = 3158" "j =49 peak =98 savedpeak = 3170"
[3] "j =49 peak =162 savedpeak = 3234"
[1] "j =50 peak =98 savedpeak = 3234" "j =50 peak =126 savedpeak = 3262"
[3] "j =50 peak =166 savedpeak = 3302"
[1] "j =52 peak =114 savedpeak = 3378" "j =52 peak =134 savedpeak = 3398"
[3] "j =52 peak =178 savedpeak = 3442"
[1] "j =53 peak =114 savedpeak = 3442" "j =53 peak =138 savedpeak = 3466"
[3] "j =53 peak =166 savedpeak = 3494"
[1] "j =54 peak =102 savedpeak = 3494" "j =54 peak =126 savedpeak = 3518"
[3] "j =54 peak =170 savedpeak = 3562"
[1] "j =55 peak =106 savedpeak = 3562"
[1] "j =56 peak =122 savedpeak = 3642" "j =56 peak =134 savedpeak = 3654"
[3] "j =56 peak =150 savedpeak = 3670"
[1] "j =57 peak =86 savedpeak = 3670"
[1] "j =58 peak =118 savedpeak = 3766" "j =58 peak =155 savedpeak = 3803"
[1] "j =59 peak =91 savedpeak = 3803" "j =59 peak =130 savedpeak = 3842"
[3] "j =59 peak =166 savedpeak = 3878"
[1] "j =1 peak =101 savedpeak = 101" "j =1 peak =126 savedpeak = 126"
[3] "j =1 peak =178 savedpeak = 178"
[1] "j =2 peak =114 savedpeak = 178" "j =2 peak =170 savedpeak = 234"
[1] "j =3 peak =106 savedpeak = 234" "j =3 peak =146 savedpeak = 274"
[1] "j =4 peak =82 savedpeak = 274" "j =4 peak =121 savedpeak = 313"
[3] "j =4 peak =162 savedpeak = 354"
[1] "j =5 peak =98 savedpeak = 354" "j =5 peak =138 savedpeak = 394"
[1] "j =6 peak =118 savedpeak = 438"
[1] "j =7 peak =134 savedpeak = 518" "j =7 peak =158 savedpeak = 542"
[1] "j =8 peak =94 savedpeak = 542" "j =8 peak =134 savedpeak = 582"
[3] "j =8 peak =181 savedpeak = 629"
[1] "j =9 peak =117 savedpeak = 629" "j =9 peak =150 savedpeak = 662"
[1] "j =10 peak =86 savedpeak = 662" "j =10 peak =125 savedpeak = 701"
[3] "j =10 peak =166 savedpeak = 742"
[1] "j =11 peak =102 savedpeak = 742" "j =11 peak =138 savedpeak = 778"
[1] "j =12 peak =150 savedpeak = 854"
[1] "j =13 peak =86 savedpeak = 854" "j =13 peak =153 savedpeak = 921"
[3] "j =13 peak =177 savedpeak = 945"
[1] "j =14 peak =89 savedpeak = 921" "j =14 peak =113 savedpeak = 945"
[3] "j =14 peak =154 savedpeak = 986"
[1] "j =15 peak =90 savedpeak = 986" "j =15 peak =138 savedpeak = 1034"
[3] "j =15 peak =169 savedpeak = 1065"
[1] "j =16 peak =105 savedpeak = 1065" "j =16 peak =122 savedpeak = 1082"
[3] "j =16 peak =178 savedpeak = 1138"
[1] "j =17 peak =114 savedpeak = 1138" "j =17 peak =134 savedpeak = 1158"
[3] "j =17 peak =158 savedpeak = 1182"
[1] "j =18 peak =94 savedpeak = 1182" "j =18 peak =134 savedpeak = 1222"
[3] "j =18 peak =146 savedpeak = 1234" "j =18 peak =170 savedpeak = 1258"
[1] "j =19 peak =82 savedpeak = 1234" "j =19 peak =106 savedpeak = 1258"
[3] "j =19 peak =170 savedpeak = 1322"
[1] "j =20 peak =106 savedpeak = 1322" "j =20 peak =138 savedpeak = 1354"
[3] "j =20 peak =165 savedpeak = 1381"
[1] "j =21 peak =169 savedpeak = 1449"
[1] "j =22 peak =105 savedpeak = 1449" "j =22 peak =138 savedpeak = 1482"
[3] "j =22 peak =154 savedpeak = 1498"
[1] "j =23 peak =90 savedpeak = 1498" "j =23 peak =122 savedpeak = 1530"
[3] "j =23 peak =142 savedpeak = 1550"
[1] "j =25 peak =94 savedpeak = 1630" "j =25 peak =134 savedpeak = 1670"
[3] "j =25 peak =166 savedpeak = 1702"
[1] "j =26 peak =102 savedpeak = 1702" "j =26 peak =134 savedpeak = 1734"
[1] "j =28 peak =106 savedpeak = 1834" "j =28 peak =169 savedpeak = 1897"
[1] "j =29 peak =105 savedpeak = 1897" "j =29 peak =122 savedpeak = 1914"
[3] "j =29 peak =158 savedpeak = 1950" "j =29 peak =174 savedpeak = 1966"
[1] "j =30 peak =94 savedpeak = 1950" "j =30 peak =110 savedpeak = 1966"
[3] "j =30 peak =154 savedpeak = 2010" "j =30 peak =178 savedpeak = 2034"
[1] "j =31 peak =90 savedpeak = 2010" "j =31 peak =114 savedpeak = 2034"
[3] "j =31 peak =150 savedpeak = 2070" "j =31 peak =181 savedpeak = 2101"
[1] "j =32 peak =86 savedpeak = 2070" "j =32 peak =117 savedpeak = 2101"
[3] "j =32 peak =154 savedpeak = 2138" "j =32 peak =174 savedpeak = 2158"
[1] "j =34 peak =114 savedpeak = 2226" "j =34 peak =138 savedpeak = 2250"
[3] "j =34 peak =166 savedpeak = 2278"
[1] "j =35 peak =102 savedpeak = 2278" "j =35 peak =125 savedpeak = 2301"
[3] "j =35 peak =165 savedpeak = 2341"
[1] "j =36 peak =101 savedpeak = 2341" "j =36 peak =125 savedpeak = 2365"
[3] "j =36 peak =161 savedpeak = 2401" "j =36 peak =178 savedpeak = 2418"
[1] "j =37 peak =97 savedpeak = 2401" "j =37 peak =114 savedpeak = 2418"
[3] "j =37 peak =142 savedpeak = 2446" "j =37 peak =170 savedpeak = 2474"
[1] "j =38 peak =78 savedpeak = 2446" "j =38 peak =106 savedpeak = 2474"
[3] "j =38 peak =134 savedpeak = 2502" "j =38 peak =161 savedpeak = 2529"
[1] "j =39 peak =97 savedpeak = 2529" "j =39 peak =138 savedpeak = 2570"
[3] "j =39 peak =169 savedpeak = 2601"
[1] "j =41 peak =106 savedpeak = 2666" "j =41 peak =146 savedpeak = 2706"
[3] "j =41 peak =170 savedpeak = 2730"
[1] "j =42 peak =82 savedpeak = 2706" "j =42 peak =106 savedpeak = 2730"
[3] "j =42 peak =142 savedpeak = 2766"
[1] "j =43 peak =78 savedpeak = 2766" "j =43 peak =141 savedpeak = 2829"
[1] "j =45 peak =98 savedpeak = 2914" "j =45 peak =129 savedpeak = 2945"
[3] "j =45 peak =158 savedpeak = 2974"
[1] "j =46 peak =94 savedpeak = 2974" "j =46 peak =157 savedpeak = 3037"
[1] "j =47 peak =93 savedpeak = 3037" "j =47 peak =146 savedpeak = 3090"
[1] "j =48 peak =82 savedpeak = 3090" "j =48 peak =150 savedpeak = 3158"
[3] "j =48 peak =162 savedpeak = 3170"
[1] "j =49 peak =86 savedpeak = 3158" "j =49 peak =98 savedpeak = 3170"
[3] "j =49 peak =137 savedpeak = 3209" "j =49 peak =162 savedpeak = 3234"
[1] "j =50 peak =98 savedpeak = 3234" "j =50 peak =126 savedpeak = 3262"
[3] "j =50 peak =158 savedpeak = 3294" "j =50 peak =177 savedpeak = 3313"
[1] "j =51 peak =82 savedpeak = 3282" "j =51 peak =94 savedpeak = 3294"
[3] "j =51 peak =113 savedpeak = 3313" "j =51 peak =134 savedpeak = 3334"
[5] "j =51 peak =177 savedpeak = 3377"
[1] "j =52 peak =113 savedpeak = 3377" "j =52 peak =133 savedpeak = 3397"
[3] "j =52 peak =178 savedpeak = 3442"
[1] "j =53 peak =114 savedpeak = 3442" "j =53 peak =134 savedpeak = 3462"
[3] "j =53 peak =170 savedpeak = 3498"
[1] "j =54 peak =106 savedpeak = 3498" "j =54 peak =125 savedpeak = 3517"
[3] "j =54 peak =170 savedpeak = 3562"
[1] "j =55 peak =106 savedpeak = 3562" "j =55 peak =181 savedpeak = 3637"
[1] "j =56 peak =117 savedpeak = 3637" "j =56 peak =134 savedpeak = 3654"
[3] "j =56 peak =150 savedpeak = 3670"
[1] "j =57 peak =86 savedpeak = 3670" "j =57 peak =178 savedpeak = 3762"
[1] "j =58 peak =114 savedpeak = 3762" "j =58 peak =154 savedpeak = 3802"
[1] "j =59 peak =90 savedpeak = 3802" "j =59 peak =126 savedpeak = 3838"
[3] "j =59 peak =162 savedpeak = 3874"
|
| | 0%
|
|================== | 25%
|
|=================================== | 50%
|
|==================================================== | 75%
|
|======================================================================| 100%
|
| | 0%
|
|================== | 25%
|
|=================================== | 50%
|
|==================================================== | 75%
|
|======================================================================| 100%
== testthat results ===========================================================
OK: 21 SKIPPED: 0 FAILED: 0
>
> proc.time()
user system elapsed
192.01 0.76 192.76
|
|
ASICS.Rcheck/examples_i386/ASICS-Ex.timings
|
ASICS.Rcheck/examples_x64/ASICS-Ex.timings
|