| Back to Multiple platform build/check report for BioC 3.7 | 
  | 
This page was generated on 2018-10-17 08:43:08 -0400 (Wed, 17 Oct 2018).
| Package 1555/1561 | Hostname | OS / Arch | INSTALL | BUILD | CHECK | BUILD BIN | ||||||
| yamss 1.6.0 Leslie Myint 
  | malbec2 | Linux (Ubuntu 16.04.1 LTS) / x86_64 | OK | OK | OK | |||||||
| tokay2 | Windows Server 2012 R2 Standard / x64 | OK | OK | OK | [ OK ] | |||||||
| merida2 | OS X 10.11.6 El Capitan / x86_64 | OK | OK | OK | OK | 
| Package: yamss | 
| Version: 1.6.0 | 
| Command: rm -rf yamss.buildbin-libdir && mkdir yamss.buildbin-libdir && C:\Users\biocbuild\bbs-3.7-bioc\R\bin\R.exe CMD INSTALL --merge-multiarch --build --library=yamss.buildbin-libdir yamss_1.6.0.tar.gz | 
| StartedAt: 2018-10-17 07:07:15 -0400 (Wed, 17 Oct 2018) | 
| EndedAt: 2018-10-17 07:07:45 -0400 (Wed, 17 Oct 2018) | 
| EllapsedTime: 30.2 seconds | 
| RetCode: 0 | 
| Status: OK | 
| PackageFile: yamss_1.6.0.zip | 
| PackageFileSize: 645.5 KiB | 
##############################################################################
##############################################################################
###
### Running command:
###
###   rm -rf yamss.buildbin-libdir && mkdir yamss.buildbin-libdir && C:\Users\biocbuild\bbs-3.7-bioc\R\bin\R.exe CMD INSTALL --merge-multiarch --build --library=yamss.buildbin-libdir yamss_1.6.0.tar.gz
###
##############################################################################
##############################################################################
install for i386
* installing *source* package 'yamss' ...
** R
** data
** inst
** byte-compile and prepare package for lazy loading
No methods found in package 'IRanges' for request: 'ifelse' when loading 'yamss'
** help
*** installing help indices
  converting help for package 'yamss'
    finding HTML links ... done
    CMSproc-class                           html  
    CMSraw-class                            html  
    CMSslice-class                          html  
    bakedpi                                 html  
    cmsRawExample                           html  
    diffrep                                 html  
    getEICS                                 html  
    getTIC                                  html  
    plotDensityRegion                       html  
    readMSdata                              html  
    slicepi                                 html  
** building package indices
** installing vignettes
** testing if installed package can be loaded
No methods found in package 'IRanges' for request: 'ifelse' when loading 'yamss'
In R CMD INSTALL
install for x64
* installing *source* package 'yamss' ...
** testing if installed package can be loaded
No methods found in package 'IRanges' for request: 'ifelse' when loading 'yamss'
* MD5 sums
packaged installation of 'yamss' as yamss_1.6.0.zip
* DONE (yamss)
In R CMD INSTALL
In R CMD INSTALL