| Back to Multiple platform build/check report for BioC 3.7 |
|
This page was generated on 2018-10-17 08:45:23 -0400 (Wed, 17 Oct 2018).
| Package 1537/1561 | Hostname | OS / Arch | INSTALL | BUILD | CHECK | BUILD BIN | ||||||
| vidger 1.0.0 Brandon Monier
| malbec2 | Linux (Ubuntu 16.04.1 LTS) / x86_64 | OK | OK | OK | |||||||
| tokay2 | Windows Server 2012 R2 Standard / x64 | OK | OK | OK | [ OK ] | |||||||
| merida2 | OS X 10.11.6 El Capitan / x86_64 | OK | OK | OK | OK |
| Package: vidger |
| Version: 1.0.0 |
| Command: rm -rf vidger.buildbin-libdir && mkdir vidger.buildbin-libdir && C:\Users\biocbuild\bbs-3.7-bioc\R\bin\R.exe CMD INSTALL --merge-multiarch --build --library=vidger.buildbin-libdir vidger_1.0.0.tar.gz |
| StartedAt: 2018-10-17 07:06:37 -0400 (Wed, 17 Oct 2018) |
| EndedAt: 2018-10-17 07:07:10 -0400 (Wed, 17 Oct 2018) |
| EllapsedTime: 33.8 seconds |
| RetCode: 0 |
| Status: OK |
| PackageFile: vidger_1.0.0.zip |
| PackageFileSize: 4.754 MiB |
##############################################################################
##############################################################################
###
### Running command:
###
### rm -rf vidger.buildbin-libdir && mkdir vidger.buildbin-libdir && C:\Users\biocbuild\bbs-3.7-bioc\R\bin\R.exe CMD INSTALL --merge-multiarch --build --library=vidger.buildbin-libdir vidger_1.0.0.tar.gz
###
##############################################################################
##############################################################################
install for i386
* installing *source* package 'vidger' ...
** R
** data
*** moving datasets to lazyload DB
** inst
** byte-compile and prepare package for lazy loading
** help
*** installing help indices
converting help for package 'vidger'
finding HTML links ... done
df.cuff html
df.deseq html
df.edger html
vsBoxPlot html
vsDEGMatrix html
vsFourWay html
vsMAMatrix html
vsMAPlot html
vsScatterMatrix html
vsScatterPlot html
vsVolcano html
vsVolcanoMatrix html
** building package indices
** installing vignettes
** testing if installed package can be loaded
In R CMD INSTALL
install for x64
* installing *source* package 'vidger' ...
** testing if installed package can be loaded
* MD5 sums
packaged installation of 'vidger' as vidger_1.0.0.zip
* DONE (vidger)
In R CMD INSTALL
In R CMD INSTALL