| Back to Multiple platform build/check report for BioC 3.7 |
|
This page was generated on 2018-10-17 08:37:34 -0400 (Wed, 17 Oct 2018).
| Package 1507/1561 | Hostname | OS / Arch | INSTALL | BUILD | CHECK | BUILD BIN | ||||||
| trio 3.18.0 Holger Schwender
| malbec2 | Linux (Ubuntu 16.04.1 LTS) / x86_64 | OK | OK | OK | |||||||
| tokay2 | Windows Server 2012 R2 Standard / x64 | [ OK ] | OK | OK | OK | |||||||
| merida2 | OS X 10.11.6 El Capitan / x86_64 | OK | OK | OK | OK |
| Package: trio |
| Version: 3.18.0 |
| Command: C:\cygwin\bin\curl.exe -O https://malbec2.bioconductor.org/BBS/3.7/bioc/src/contrib/trio_3.18.0.tar.gz && rm -rf trio.buildbin-libdir && mkdir trio.buildbin-libdir && C:\Users\biocbuild\bbs-3.7-bioc\R\bin\R.exe CMD INSTALL --merge-multiarch --build --library=trio.buildbin-libdir trio_3.18.0.tar.gz && C:\Users\biocbuild\bbs-3.7-bioc\R\bin\R.exe CMD INSTALL trio_3.18.0.zip && rm trio_3.18.0.tar.gz trio_3.18.0.zip |
| StartedAt: 2018-10-16 18:30:49 -0400 (Tue, 16 Oct 2018) |
| EndedAt: 2018-10-16 18:31:54 -0400 (Tue, 16 Oct 2018) |
| EllapsedTime: 64.9 seconds |
| RetCode: 0 |
| Status: OK |
##############################################################################
##############################################################################
###
### Running command:
###
### C:\cygwin\bin\curl.exe -O https://malbec2.bioconductor.org/BBS/3.7/bioc/src/contrib/trio_3.18.0.tar.gz && rm -rf trio.buildbin-libdir && mkdir trio.buildbin-libdir && C:\Users\biocbuild\bbs-3.7-bioc\R\bin\R.exe CMD INSTALL --merge-multiarch --build --library=trio.buildbin-libdir trio_3.18.0.tar.gz && C:\Users\biocbuild\bbs-3.7-bioc\R\bin\R.exe CMD INSTALL trio_3.18.0.zip && rm trio_3.18.0.tar.gz trio_3.18.0.zip
###
##############################################################################
##############################################################################
% Total % Received % Xferd Average Speed Time Time Time Current
Dload Upload Total Spent Left Speed
0 0 0 0 0 0 0 0 --:--:-- --:--:-- --:--:-- 0
0 0 0 0 0 0 0 0 --:--:-- --:--:-- --:--:-- 0
100 724k 100 724k 0 0 1125k 0 --:--:-- --:--:-- --:--:-- 1146k
install for i386
* installing *source* package 'trio' ...
** R
** data
** inst
** byte-compile and prepare package for lazy loading
** help
*** installing help indices
converting help for package 'trio'
finding HTML links ... done
allelicTDT html
colEMlrt html
colGxE html
colGxGPerms html
colPOlrt html
colTDTmaxTest html
colTDTsam html
findLDblocks html
getLD html
getMatPseudo html
lrControl html
ped2geno html
plot.LDblocks html
plot.getLD html
plot.trioLR html
poly4root html
print.colGxE html
print.trioFS html
print.trioLR html
probTDT html
read.pedfile html
removeSNPs html
scoreTDT html
tdt html
tdtGxG html
trio.check html
trio.data html
trio.permTest html
trio.power html
trio.prepare html
trio.sim html
trioFS html
trioLR html
vcf2geno html
** building package indices
** installing vignettes
'trio.Rnw'
** testing if installed package can be loaded
In R CMD INSTALL
install for x64
* installing *source* package 'trio' ...
** testing if installed package can be loaded
* MD5 sums
packaged installation of 'trio' as trio_3.18.0.zip
* DONE (trio)
In R CMD INSTALL
In R CMD INSTALL
* installing to library 'C:/Users/biocbuild/bbs-3.7-bioc/R/library'
package 'trio' successfully unpacked and MD5 sums checked
In R CMD INSTALL