| Back to Multiple platform build/check report for BioC 3.7 |
|
This page was generated on 2018-10-17 08:44:44 -0400 (Wed, 17 Oct 2018).
| Package 1387/1561 | Hostname | OS / Arch | INSTALL | BUILD | CHECK | BUILD BIN | ||||||
| slalom 1.2.0 Davis McCarthy
| malbec2 | Linux (Ubuntu 16.04.1 LTS) / x86_64 | OK | OK | OK | |||||||
| tokay2 | Windows Server 2012 R2 Standard / x64 | OK | OK | OK | [ OK ] | |||||||
| merida2 | OS X 10.11.6 El Capitan / x86_64 | OK | OK | OK | OK |
| Package: slalom |
| Version: 1.2.0 |
| Command: rm -rf slalom.buildbin-libdir && mkdir slalom.buildbin-libdir && C:\Users\biocbuild\bbs-3.7-bioc\R\bin\R.exe CMD INSTALL --merge-multiarch --build --library=slalom.buildbin-libdir slalom_1.2.0.tar.gz |
| StartedAt: 2018-10-17 07:00:42 -0400 (Wed, 17 Oct 2018) |
| EndedAt: 2018-10-17 07:01:56 -0400 (Wed, 17 Oct 2018) |
| EllapsedTime: 74.8 seconds |
| RetCode: 0 |
| Status: OK |
| PackageFile: slalom_1.2.0.zip |
| PackageFileSize: 20.26 MiB |
##############################################################################
##############################################################################
###
### Running command:
###
### rm -rf slalom.buildbin-libdir && mkdir slalom.buildbin-libdir && C:\Users\biocbuild\bbs-3.7-bioc\R\bin\R.exe CMD INSTALL --merge-multiarch --build --library=slalom.buildbin-libdir slalom_1.2.0.tar.gz
###
##############################################################################
##############################################################################
install for i386
* installing *source* package 'slalom' ...
** libs
C:/Rtools/mingw_32/bin/g++ -I"C:/Users/BIOCBU˜1/BBS-3˜1.7-B/R/include" -DNDEBUG -I"C:/Users/biocbuild/bbs-3.7-bioc/R/library/Rcpp/include" -I"C:/Users/biocbuild/bbs-3.7-bioc/R/library/RcppArmadillo/include" -I"C:/Users/biocbuild/bbs-3.7-bioc/R/library/BH/include" -I"C:/extsoft/include" -O2 -Wall -mtune=generic -c RcppExports.cpp -o RcppExports.o
C:/Rtools/mingw_32/bin/g++ -I"C:/Users/BIOCBU˜1/BBS-3˜1.7-B/R/include" -DNDEBUG -I"C:/Users/biocbuild/bbs-3.7-bioc/R/library/Rcpp/include" -I"C:/Users/biocbuild/bbs-3.7-bioc/R/library/RcppArmadillo/include" -I"C:/Users/biocbuild/bbs-3.7-bioc/R/library/BH/include" -I"C:/extsoft/include" -O2 -Wall -mtune=generic -c slalom-classes.cpp -o slalom-classes.o
slalom-classes.cpp: In member function 'void SlalomModel::train()':
slalom-classes.cpp:223:20: warning: unused variable 'meanerr' [-Wunused-variable]
double meanerr = arma::mean(error);
^
slalom-classes.cpp:202:12: warning: unused variable 'meanerr' [-Wunused-variable]
double meanerr = arma::mean(error);
^
slalom-classes.cpp: In member function 'void SlalomModel::updateEpsilon()':
slalom-classes.cpp:431:23: warning: comparison between signed and unsigned integer expressions [-Wsign-compare]
for (int i = 0; i < this->epsilon_E1.n_elem; i++) {
^
C:/Rtools/mingw_32/bin/g++ -shared -s -static-libgcc -o slalom.dll tmp.def RcppExports.o slalom-classes.o -LC:/Users/BIOCBU˜1/BBS-3˜1.7-B/R/bin/i386 -lRlapack -LC:/Users/BIOCBU˜1/BBS-3˜1.7-B/R/bin/i386 -lRblas -lgfortran -lm -lquadmath -LC:/extsoft/lib/i386 -LC:/extsoft/lib -LC:/Users/BIOCBU˜1/BBS-3˜1.7-B/R/bin/i386 -lR
installing to C:/Users/biocbuild/bbs-3.7-bioc/meat/slalom.buildbin-libdir/slalom/libs/i386
** R
** data
*** moving datasets to lazyload DB
** inst
** byte-compile and prepare package for lazy loading
** help
*** installing help indices
converting help for package 'slalom'
finding HTML links ... done
Rcpp_SlalomModel html
SlalomModel html
addResultsToSingleCellExperiment html
initSlalom html
mesc html
newSlalomModel html
plotLoadings html
plotRelevance html
plotTerms html
slalom html
topTerms html
trainSlalom html
updateSlalom html
** building package indices
** installing vignettes
** testing if installed package can be loaded
In R CMD INSTALL
install for x64
* installing *source* package 'slalom' ...
** libs
C:/Rtools/mingw_64/bin/g++ -I"C:/Users/BIOCBU˜1/BBS-3˜1.7-B/R/include" -DNDEBUG -I"C:/Users/biocbuild/bbs-3.7-bioc/R/library/Rcpp/include" -I"C:/Users/biocbuild/bbs-3.7-bioc/R/library/RcppArmadillo/include" -I"C:/Users/biocbuild/bbs-3.7-bioc/R/library/BH/include" -I"C:/extsoft/include" -O2 -Wall -mtune=generic -c RcppExports.cpp -o RcppExports.o
C:/Rtools/mingw_64/bin/g++ -I"C:/Users/BIOCBU˜1/BBS-3˜1.7-B/R/include" -DNDEBUG -I"C:/Users/biocbuild/bbs-3.7-bioc/R/library/Rcpp/include" -I"C:/Users/biocbuild/bbs-3.7-bioc/R/library/RcppArmadillo/include" -I"C:/Users/biocbuild/bbs-3.7-bioc/R/library/BH/include" -I"C:/extsoft/include" -O2 -Wall -mtune=generic -c slalom-classes.cpp -o slalom-classes.o
slalom-classes.cpp: In member function 'void SlalomModel::train()':
slalom-classes.cpp:223:20: warning: unused variable 'meanerr' [-Wunused-variable]
double meanerr = arma::mean(error);
^
slalom-classes.cpp:202:12: warning: unused variable 'meanerr' [-Wunused-variable]
double meanerr = arma::mean(error);
^
slalom-classes.cpp: In member function 'void SlalomModel::updateEpsilon()':
slalom-classes.cpp:431:23: warning: comparison between signed and unsigned integer expressions [-Wsign-compare]
for (int i = 0; i < this->epsilon_E1.n_elem; i++) {
^
C:/Rtools/mingw_64/bin/g++ -shared -s -static-libgcc -o slalom.dll tmp.def RcppExports.o slalom-classes.o -LC:/Users/BIOCBU˜1/BBS-3˜1.7-B/R/bin/x64 -lRlapack -LC:/Users/BIOCBU˜1/BBS-3˜1.7-B/R/bin/x64 -lRblas -lgfortran -lm -lquadmath -LC:/extsoft/lib/x64 -LC:/extsoft/lib -LC:/Users/BIOCBU˜1/BBS-3˜1.7-B/R/bin/x64 -lR
installing to C:/Users/biocbuild/bbs-3.7-bioc/meat/slalom.buildbin-libdir/slalom/libs/x64
** testing if installed package can be loaded
* MD5 sums
packaged installation of 'slalom' as slalom_1.2.0.zip
* DONE (slalom)
In R CMD INSTALL
In R CMD INSTALL