| Back to Multiple platform build/check report for BioC 3.7 |
|
This page was generated on 2018-10-17 08:30:44 -0400 (Wed, 17 Oct 2018).
| Package 1324/1561 | Hostname | OS / Arch | INSTALL | BUILD | CHECK | BUILD BIN | ||||||
| scfind 1.2.0 Vladimir Kiselev
| malbec2 | Linux (Ubuntu 16.04.1 LTS) / x86_64 | [ OK ] | OK | OK | |||||||
| tokay2 | Windows Server 2012 R2 Standard / x64 | OK | OK | OK | OK | |||||||
| merida2 | OS X 10.11.6 El Capitan / x86_64 | OK | OK | OK | OK |
| Package: scfind |
| Version: 1.2.0 |
| Command: /home/biocbuild/bbs-3.7-bioc/R/bin/R CMD INSTALL scfind |
| StartedAt: 2018-10-15 18:15:31 -0400 (Mon, 15 Oct 2018) |
| EndedAt: 2018-10-15 18:15:53 -0400 (Mon, 15 Oct 2018) |
| EllapsedTime: 22.3 seconds |
| RetCode: 0 |
| Status: OK |
##############################################################################
##############################################################################
###
### Running command:
###
### /home/biocbuild/bbs-3.7-bioc/R/bin/R CMD INSTALL scfind
###
##############################################################################
##############################################################################
* installing to library ‘/home/biocbuild/bbs-3.7-bioc/R/library’
* installing *source* package ‘scfind’ ...
** libs
g++ -I"/home/biocbuild/bbs-3.7-bioc/R/include" -DNDEBUG -I"/home/biocbuild/bbs-3.7-bioc/R/library/Rcpp/include" -I/usr/local/include -fpic -g -O2 -Wall -c RcppExports.cpp -o RcppExports.o
g++ -I"/home/biocbuild/bbs-3.7-bioc/R/include" -DNDEBUG -I"/home/biocbuild/bbs-3.7-bioc/R/library/Rcpp/include" -I/usr/local/include -fpic -g -O2 -Wall -c eliasFano.cpp -o eliasFano.o
eliasFano.cpp: In function ‘std::vector<bool> int2bin(int)’:
eliasFano.cpp:8:9: warning: unused variable ‘rem’ [-Wunused-variable]
int rem;
^
eliasFano.cpp: In function ‘Rcpp::NumericVector eliasFanoDecoding(Rcpp::LogicalVector, Rcpp::LogicalVector, int)’:
eliasFano.cpp:83:31: warning: comparison between signed and unsigned integer expressions [-Wsign-compare]
for (int k = 0; k < h.size(); k++) {
^
g++ -shared -L/home/biocbuild/bbs-3.7-bioc/R/lib -L/usr/local/lib -o scfind.so RcppExports.o eliasFano.o -L/home/biocbuild/bbs-3.7-bioc/R/lib -lRlapack -L/home/biocbuild/bbs-3.7-bioc/R/lib -lRblas -lgfortran -lm -lquadmath -L/home/biocbuild/bbs-3.7-bioc/R/lib -lR
installing to /home/biocbuild/bbs-3.7-bioc/R/library/scfind/libs
** R
** data
*** moving datasets to lazyload DB
** inst
** byte-compile and prepare package for lazy loading
** help
*** installing help indices
** building package indices
** installing vignettes
** testing if installed package can be loaded
* DONE (scfind)