| Back to Multiple platform build/check report for BioC 3.7 |
|
This page was generated on 2018-10-17 08:39:47 -0400 (Wed, 17 Oct 2018).
| Package 1235/1561 | Hostname | OS / Arch | INSTALL | BUILD | CHECK | BUILD BIN | ||||||
| rgsepd 1.12.0 Karl Stamm
| malbec2 | Linux (Ubuntu 16.04.1 LTS) / x86_64 | OK | OK | OK | |||||||
| tokay2 | Windows Server 2012 R2 Standard / x64 | OK | OK | OK | [ OK ] | |||||||
| merida2 | OS X 10.11.6 El Capitan / x86_64 | OK | OK | OK | OK |
| Package: rgsepd |
| Version: 1.12.0 |
| Command: rm -rf rgsepd.buildbin-libdir && mkdir rgsepd.buildbin-libdir && C:\Users\biocbuild\bbs-3.7-bioc\R\bin\R.exe CMD INSTALL --merge-multiarch --build --library=rgsepd.buildbin-libdir rgsepd_1.12.0.tar.gz |
| StartedAt: 2018-10-17 06:53:45 -0400 (Wed, 17 Oct 2018) |
| EndedAt: 2018-10-17 06:54:40 -0400 (Wed, 17 Oct 2018) |
| EllapsedTime: 54.4 seconds |
| RetCode: 0 |
| Status: OK |
| PackageFile: rgsepd_1.12.0.zip |
| PackageFileSize: 1.312 MiB |
##############################################################################
##############################################################################
###
### Running command:
###
### rm -rf rgsepd.buildbin-libdir && mkdir rgsepd.buildbin-libdir && C:\Users\biocbuild\bbs-3.7-bioc\R\bin\R.exe CMD INSTALL --merge-multiarch --build --library=rgsepd.buildbin-libdir rgsepd_1.12.0.tar.gz
###
##############################################################################
##############################################################################
install for i386
* installing *source* package 'rgsepd' ...
** R
** data
** inst
** byte-compile and prepare package for lazy loading
** help
*** installing help indices
converting help for package 'rgsepd'
finding HTML links ... done
DisplayName html
GSEPD_ChangeConditions html
GSEPD_ChangeOutput html
GSEPD_DEGHeatmap html
GSEPD_Export_DESeq html
GSEPD_Heatmap html
GSEPD_INIT html
GSEPD_PCA_Plot html
GSEPD_PCA_Spec html
GSEPD_Process html
GSEPD_ProcessAll html
GSEPD_PullDEG html
IlluminaBodymap html
IlluminaBodymapMeta html
Name_to_RefSeq html
rgsepd-package html
** building package indices
** installing vignettes
** testing if installed package can be loaded
'select()' returned 1:1 mapping between keys and columns
'select()' returned 1:1 mapping between keys and columns
In R CMD INSTALL
install for x64
* installing *source* package 'rgsepd' ...
** testing if installed package can be loaded
'select()' returned 1:1 mapping between keys and columns
'select()' returned 1:1 mapping between keys and columns
* MD5 sums
packaged installation of 'rgsepd' as rgsepd_1.12.0.zip
* DONE (rgsepd)
In R CMD INSTALL
In R CMD INSTALL