| Back to Multiple platform build/check report for BioC 3.7 |
|
This page was generated on 2018-10-17 08:33:00 -0400 (Wed, 17 Oct 2018).
| Package 984/1561 | Hostname | OS / Arch | INSTALL | BUILD | CHECK | BUILD BIN | ||||||
| nem 2.54.0 Holger Froehlich
| malbec2 | Linux (Ubuntu 16.04.1 LTS) / x86_64 | OK | OK | WARNINGS | |||||||
| tokay2 | Windows Server 2012 R2 Standard / x64 | OK | [ OK ] | WARNINGS | OK | |||||||
| merida2 | OS X 10.11.6 El Capitan / x86_64 | OK | OK | WARNINGS | OK |
| Package: nem |
| Version: 2.54.0 |
| Command: chmod a+r nem -R && C:\Users\biocbuild\bbs-3.7-bioc\R\bin\R.exe CMD build --keep-empty-dirs --no-resave-data nem |
| StartedAt: 2018-10-16 20:56:29 -0400 (Tue, 16 Oct 2018) |
| EndedAt: 2018-10-16 20:57:31 -0400 (Tue, 16 Oct 2018) |
| EllapsedTime: 62.2 seconds |
| RetCode: 0 |
| Status: OK |
| PackageFile: nem_2.54.0.tar.gz |
| PackageFileSize: 4.442 MiB |
##############################################################################
##############################################################################
###
### Running command:
###
### chmod a+r nem -R && C:\Users\biocbuild\bbs-3.7-bioc\R\bin\R.exe CMD build --keep-empty-dirs --no-resave-data nem
###
##############################################################################
##############################################################################
* checking for file 'nem/DESCRIPTION' ... OK
* preparing 'nem':
* checking DESCRIPTION meta-information ... OK
* cleaning src
* installing the package to build vignettes
* creating vignettes ... OK
Warning: 'inst/doc' file
'nem.Rnw'
ignored as vignettes have been rebuilt.
Run R CMD build with --no-build-vignettes to prevent rebuilding.
* cleaning src
* checking for LF line-endings in source and make files and shell scripts
* checking for empty or unneeded directories
* looking to see if a 'data/datalist' file should be added
* building 'nem_2.54.0.tar.gz'