| Back to Multiple platform build/check report for BioC 3.7 |
|
This page was generated on 2018-10-17 08:44:23 -0400 (Wed, 17 Oct 2018).
| Package 922/1561 | Hostname | OS / Arch | INSTALL | BUILD | CHECK | BUILD BIN | ||||||
| miRsponge 1.6.1 Junpeng Zhang
| malbec2 | Linux (Ubuntu 16.04.1 LTS) / x86_64 | OK | OK | OK | |||||||
| tokay2 | Windows Server 2012 R2 Standard / x64 | OK | OK | OK | [ OK ] | |||||||
| merida2 | OS X 10.11.6 El Capitan / x86_64 | OK | OK | OK | OK |
| Package: miRsponge |
| Version: 1.6.1 |
| Command: rm -rf miRsponge.buildbin-libdir && mkdir miRsponge.buildbin-libdir && C:\Users\biocbuild\bbs-3.7-bioc\R\bin\R.exe CMD INSTALL --merge-multiarch --build --library=miRsponge.buildbin-libdir miRsponge_1.6.1.tar.gz |
| StartedAt: 2018-10-17 06:41:30 -0400 (Wed, 17 Oct 2018) |
| EndedAt: 2018-10-17 06:42:08 -0400 (Wed, 17 Oct 2018) |
| EllapsedTime: 38.3 seconds |
| RetCode: 0 |
| Status: OK |
| PackageFile: miRsponge_1.6.1.zip |
| PackageFileSize: 679.5 KiB |
##############################################################################
##############################################################################
###
### Running command:
###
### rm -rf miRsponge.buildbin-libdir && mkdir miRsponge.buildbin-libdir && C:\Users\biocbuild\bbs-3.7-bioc\R\bin\R.exe CMD INSTALL --merge-multiarch --build --library=miRsponge.buildbin-libdir miRsponge_1.6.1.tar.gz
###
##############################################################################
##############################################################################
install for i386
* installing *source* package 'miRsponge' ...
** libs
C:/Rtools/mingw_32/bin/gcc -I"C:/Users/BIOCBU˜1/BBS-3˜1.7-B/R/include" -DNDEBUG -I"C:/extsoft/include" -O3 -Wall -std=gnu99 -mtune=generic -c complex.c -o complex.o
C:/Rtools/mingw_32/bin/gcc -I"C:/Users/BIOCBU˜1/BBS-3˜1.7-B/R/include" -DNDEBUG -I"C:/extsoft/include" -O3 -Wall -std=gnu99 -mtune=generic -c registerDynamicSymbol.c -o registerDynamicSymbol.o
C:/Rtools/mingw_32/bin/gcc -shared -s -static-libgcc -o miRsponge.dll tmp.def complex.o registerDynamicSymbol.o -LC:/extsoft/lib/i386 -LC:/extsoft/lib -LC:/Users/BIOCBU˜1/BBS-3˜1.7-B/R/bin/i386 -lR
installing to C:/Users/biocbuild/bbs-3.7-bioc/meat/miRsponge.buildbin-libdir/miRsponge/libs/i386
** R
** inst
** byte-compile and prepare package for lazy loading
** help
*** installing help indices
converting help for package 'miRsponge'
finding HTML links ... done
integrateMethod html
moduleDEA html
moduleFEA html
moduleSurvival html
netModule html
querymiRTargetbinding html
spongeMethod html
spongeValidate html
** building package indices
** installing vignettes
** testing if installed package can be loaded
In R CMD INSTALL
install for x64
* installing *source* package 'miRsponge' ...
** libs
C:/Rtools/mingw_64/bin/gcc -I"C:/Users/BIOCBU˜1/BBS-3˜1.7-B/R/include" -DNDEBUG -I"C:/extsoft/include" -O2 -Wall -std=gnu99 -mtune=generic -c complex.c -o complex.o
C:/Rtools/mingw_64/bin/gcc -I"C:/Users/BIOCBU˜1/BBS-3˜1.7-B/R/include" -DNDEBUG -I"C:/extsoft/include" -O2 -Wall -std=gnu99 -mtune=generic -c registerDynamicSymbol.c -o registerDynamicSymbol.o
C:/Rtools/mingw_64/bin/gcc -shared -s -static-libgcc -o miRsponge.dll tmp.def complex.o registerDynamicSymbol.o -LC:/extsoft/lib/x64 -LC:/extsoft/lib -LC:/Users/BIOCBU˜1/BBS-3˜1.7-B/R/bin/x64 -lR
installing to C:/Users/biocbuild/bbs-3.7-bioc/meat/miRsponge.buildbin-libdir/miRsponge/libs/x64
** testing if installed package can be loaded
* MD5 sums
packaged installation of 'miRsponge' as miRsponge_1.6.1.zip
* DONE (miRsponge)
In R CMD INSTALL
In R CMD INSTALL