| Back to Multiple platform build/check report for BioC 3.7 |
|
This page was generated on 2018-10-17 08:44:07 -0400 (Wed, 17 Oct 2018).
| Package 896/1561 | Hostname | OS / Arch | INSTALL | BUILD | CHECK | BUILD BIN | ||||||
| mfa 1.2.0 Kieran Campbell
| malbec2 | Linux (Ubuntu 16.04.1 LTS) / x86_64 | OK | OK | OK | |||||||
| tokay2 | Windows Server 2012 R2 Standard / x64 | [ OK ] | OK | OK | OK | |||||||
| merida2 | OS X 10.11.6 El Capitan / x86_64 | OK | OK | OK | OK |
| Package: mfa |
| Version: 1.2.0 |
| Command: C:\cygwin\bin\curl.exe -O https://malbec2.bioconductor.org/BBS/3.7/bioc/src/contrib/mfa_1.2.0.tar.gz && rm -rf mfa.buildbin-libdir && mkdir mfa.buildbin-libdir && C:\Users\biocbuild\bbs-3.7-bioc\R\bin\R.exe CMD INSTALL --merge-multiarch --build --library=mfa.buildbin-libdir mfa_1.2.0.tar.gz && C:\Users\biocbuild\bbs-3.7-bioc\R\bin\R.exe CMD INSTALL mfa_1.2.0.zip && rm mfa_1.2.0.tar.gz mfa_1.2.0.zip |
| StartedAt: 2018-10-16 19:17:47 -0400 (Tue, 16 Oct 2018) |
| EndedAt: 2018-10-16 19:19:05 -0400 (Tue, 16 Oct 2018) |
| EllapsedTime: 77.1 seconds |
| RetCode: 0 |
| Status: OK |
##############################################################################
##############################################################################
###
### Running command:
###
### C:\cygwin\bin\curl.exe -O https://malbec2.bioconductor.org/BBS/3.7/bioc/src/contrib/mfa_1.2.0.tar.gz && rm -rf mfa.buildbin-libdir && mkdir mfa.buildbin-libdir && C:\Users\biocbuild\bbs-3.7-bioc\R\bin\R.exe CMD INSTALL --merge-multiarch --build --library=mfa.buildbin-libdir mfa_1.2.0.tar.gz && C:\Users\biocbuild\bbs-3.7-bioc\R\bin\R.exe CMD INSTALL mfa_1.2.0.zip && rm mfa_1.2.0.tar.gz mfa_1.2.0.zip
###
##############################################################################
##############################################################################
% Total % Received % Xferd Average Speed Time Time Time Current
Dload Upload Total Spent Left Speed
0 0 0 0 0 0 0 0 --:--:-- --:--:-- --:--:-- 0
100 22271 100 22271 0 0 333k 0 --:--:-- --:--:-- --:--:-- 374k
install for i386
* installing *source* package 'mfa' ...
** libs
C:/Rtools/mingw_32/bin/g++ -I"C:/Users/BIOCBU˜1/BBS-3˜1.7-B/R/include" -DNDEBUG -I"C:/Users/biocbuild/bbs-3.7-bioc/R/library/Rcpp/include" -I"C:/extsoft/include" -O2 -Wall -mtune=generic -c RcppExports.cpp -o RcppExports.o
C:/Rtools/mingw_32/bin/g++ -I"C:/Users/BIOCBU˜1/BBS-3˜1.7-B/R/include" -DNDEBUG -I"C:/Users/biocbuild/bbs-3.7-bioc/R/library/Rcpp/include" -I"C:/extsoft/include" -O2 -Wall -mtune=generic -c gibbs.cpp -o gibbs.o
C:/Rtools/mingw_32/bin/g++ -shared -s -static-libgcc -o mfa.dll tmp.def RcppExports.o gibbs.o -LC:/extsoft/lib/i386 -LC:/extsoft/lib -LC:/Users/BIOCBU˜1/BBS-3˜1.7-B/R/bin/i386 -lR
installing to C:/Users/biocbuild/bbs-3.7-bioc/meat/mfa.buildbin-libdir/mfa/libs/i386
** R
** inst
** byte-compile and prepare package for lazy loading
** help
*** installing help indices
converting help for package 'mfa'
finding HTML links ... done
calculate_chi html
create_synthetic html
cs_sigmoid html
empirical_lambda html
log_sum_exp html
map_branch html
mcmcify html
mfa html
plot_chi html
plot_dropout_relationship html
plot_mfa_autocorr html
plot_mfa_trace html
posterior html
print.mfa html
summary.mfa html
to_ggmcmc html
transient html
** building package indices
** installing vignettes
** testing if installed package can be loaded
In R CMD INSTALL
install for x64
* installing *source* package 'mfa' ...
** libs
C:/Rtools/mingw_64/bin/g++ -I"C:/Users/BIOCBU˜1/BBS-3˜1.7-B/R/include" -DNDEBUG -I"C:/Users/biocbuild/bbs-3.7-bioc/R/library/Rcpp/include" -I"C:/extsoft/include" -O2 -Wall -mtune=generic -c RcppExports.cpp -o RcppExports.o
C:/Rtools/mingw_64/bin/g++ -I"C:/Users/BIOCBU˜1/BBS-3˜1.7-B/R/include" -DNDEBUG -I"C:/Users/biocbuild/bbs-3.7-bioc/R/library/Rcpp/include" -I"C:/extsoft/include" -O2 -Wall -mtune=generic -c gibbs.cpp -o gibbs.o
C:/Rtools/mingw_64/bin/g++ -shared -s -static-libgcc -o mfa.dll tmp.def RcppExports.o gibbs.o -LC:/extsoft/lib/x64 -LC:/extsoft/lib -LC:/Users/BIOCBU˜1/BBS-3˜1.7-B/R/bin/x64 -lR
installing to C:/Users/biocbuild/bbs-3.7-bioc/meat/mfa.buildbin-libdir/mfa/libs/x64
** testing if installed package can be loaded
* MD5 sums
packaged installation of 'mfa' as mfa_1.2.0.zip
* DONE (mfa)
In R CMD INSTALL
In R CMD INSTALL
* installing to library 'C:/Users/biocbuild/bbs-3.7-bioc/R/library'
package 'mfa' successfully unpacked and MD5 sums checked
In R CMD INSTALL