| Back to Multiple platform build/check report for BioC 3.7 |
|
This page was generated on 2018-10-17 08:23:28 -0400 (Wed, 17 Oct 2018).
| Package 745/1561 | Hostname | OS / Arch | INSTALL | BUILD | CHECK | BUILD BIN | ||||||
| inveRsion 1.28.0 Alejandro Caceres
| malbec2 | Linux (Ubuntu 16.04.1 LTS) / x86_64 | [ OK ] | OK | WARNINGS | |||||||
| tokay2 | Windows Server 2012 R2 Standard / x64 | OK | OK | WARNINGS | OK | |||||||
| merida2 | OS X 10.11.6 El Capitan / x86_64 | OK | OK | OK | OK |
| Package: inveRsion |
| Version: 1.28.0 |
| Command: /home/biocbuild/bbs-3.7-bioc/R/bin/R CMD INSTALL inveRsion |
| StartedAt: 2018-10-15 18:35:53 -0400 (Mon, 15 Oct 2018) |
| EndedAt: 2018-10-15 18:36:01 -0400 (Mon, 15 Oct 2018) |
| EllapsedTime: 7.7 seconds |
| RetCode: 0 |
| Status: OK |
##############################################################################
##############################################################################
###
### Running command:
###
### /home/biocbuild/bbs-3.7-bioc/R/bin/R CMD INSTALL inveRsion
###
##############################################################################
##############################################################################
* installing to library ‘/home/biocbuild/bbs-3.7-bioc/R/library’
* installing *source* package ‘inveRsion’ ...
** libs
gcc -I"/home/biocbuild/bbs-3.7-bioc/R/include" -DNDEBUG -I/usr/local/include -fpic -g -O2 -Wall -c init_inveRsion.c -o init_inveRsion.o
gcc -I"/home/biocbuild/bbs-3.7-bioc/R/include" -DNDEBUG -I/usr/local/include -fpic -g -O2 -Wall -c inversionModel.c -o inversionModel.o
inversionModel.c: In function ‘blockAndLev’:
inversionModel.c:185:31: warning: suggest parentheses around comparison in operand of ‘&’ [-Wparentheses]
if(dat[(*nr)*(c1)+row]==levelleft[level] & dat[(*nr)*(c2)+row]==levelright[level])
^
inversionModel.c: In function ‘inversionModel’:
inversionModel.c:360:15: warning: suggest parentheses around comparison in operand of ‘&’ [-Wparentheses]
while(steps<*maxSteps & tol>mintol)
^
gcc -I"/home/biocbuild/bbs-3.7-bioc/R/include" -DNDEBUG -I/usr/local/include -fpic -g -O2 -Wall -c writeGenoDat.c -o writeGenoDat.o
writeGenoDat.c: In function ‘writeGenoDat’:
writeGenoDat.c:85:6: warning: ‘dat’ may be used uninitialized in this function [-Wmaybe-uninitialized]
switch(dat){
^
gcc -shared -L/home/biocbuild/bbs-3.7-bioc/R/lib -L/usr/local/lib -o inveRsion.so init_inveRsion.o inversionModel.o writeGenoDat.o -L/home/biocbuild/bbs-3.7-bioc/R/lib -lRlapack -L/home/biocbuild/bbs-3.7-bioc/R/lib -lRblas -lgfortran -lm -lquadmath -L/home/biocbuild/bbs-3.7-bioc/R/lib -lR
installing to /home/biocbuild/bbs-3.7-bioc/R/library/inveRsion/libs
** R
** data
** inst
** byte-compile and prepare package for lazy loading
** help
*** installing help indices
** building package indices
** installing vignettes
** testing if installed package can be loaded
* DONE (inveRsion)