| Back to Multiple platform build/check report for BioC 3.7 |
|
This page was generated on 2018-10-17 08:32:05 -0400 (Wed, 17 Oct 2018).
| Package 733/1561 | Hostname | OS / Arch | INSTALL | BUILD | CHECK | BUILD BIN | ||||||
| impute 1.54.0 Balasubramanian Narasimhan
| malbec2 | Linux (Ubuntu 16.04.1 LTS) / x86_64 | OK | OK | OK | |||||||
| tokay2 | Windows Server 2012 R2 Standard / x64 | OK | OK | OK | [ OK ] | |||||||
| merida2 | OS X 10.11.6 El Capitan / x86_64 | OK | OK | OK | OK |
| Package: impute |
| Version: 1.54.0 |
| Command: rm -rf impute.buildbin-libdir && mkdir impute.buildbin-libdir && C:\Users\biocbuild\bbs-3.7-bioc\R\bin\R.exe CMD INSTALL --merge-multiarch --build --library=impute.buildbin-libdir impute_1.54.0.tar.gz |
| StartedAt: 2018-10-17 06:34:41 -0400 (Wed, 17 Oct 2018) |
| EndedAt: 2018-10-17 06:34:55 -0400 (Wed, 17 Oct 2018) |
| EllapsedTime: 14.6 seconds |
| RetCode: 0 |
| Status: OK |
| PackageFile: impute_1.54.0.zip |
| PackageFileSize: 663.9 KiB |
##############################################################################
##############################################################################
###
### Running command:
###
### rm -rf impute.buildbin-libdir && mkdir impute.buildbin-libdir && C:\Users\biocbuild\bbs-3.7-bioc\R\bin\R.exe CMD INSTALL --merge-multiarch --build --library=impute.buildbin-libdir impute_1.54.0.tar.gz
###
##############################################################################
##############################################################################
install for i386
* installing *source* package 'impute' ...
** libs
C:/Rtools/mingw_32/bin/gfortran -O3 -mtune=generic -c knnimpute.f -o knnimpute.o
C:/Rtools/mingw_32/bin/gcc -shared -s -static-libgcc -o impute.dll tmp.def knnimpute.o -LC:/extsoft/lib/i386 -LC:/extsoft/lib -lgfortran -lm -lquadmath -LC:/Users/BIOCBU˜1/BBS-3˜1.7-B/R/bin/i386 -lR
installing to C:/Users/biocbuild/bbs-3.7-bioc/meat/impute.buildbin-libdir/impute/libs/i386
** R
** data
** byte-compile and prepare package for lazy loading
** help
*** installing help indices
converting help for package 'impute'
finding HTML links ... done
impute.knn html
khanmiss html
** building package indices
** testing if installed package can be loaded
In R CMD INSTALL
install for x64
* installing *source* package 'impute' ...
** libs
C:/Rtools/mingw_64/bin/gfortran -O2 -mtune=generic -c knnimpute.f -o knnimpute.o
C:/Rtools/mingw_64/bin/gcc -shared -s -static-libgcc -o impute.dll tmp.def knnimpute.o -LC:/extsoft/lib/x64 -LC:/extsoft/lib -lgfortran -lm -lquadmath -LC:/Users/BIOCBU˜1/BBS-3˜1.7-B/R/bin/x64 -lR
installing to C:/Users/biocbuild/bbs-3.7-bioc/meat/impute.buildbin-libdir/impute/libs/x64
** testing if installed package can be loaded
* MD5 sums
packaged installation of 'impute' as impute_1.54.0.zip
* DONE (impute)
In R CMD INSTALL
In R CMD INSTALL