| Back to Multiple platform build/check report for BioC 3.7 |
|
This page was generated on 2018-10-17 08:36:04 -0400 (Wed, 17 Oct 2018).
| Package 668/1561 | Hostname | OS / Arch | INSTALL | BUILD | CHECK | BUILD BIN | ||||||
| gwascat 2.12.0 VJ Carey
| malbec2 | Linux (Ubuntu 16.04.1 LTS) / x86_64 | OK | OK | OK | |||||||
| tokay2 | Windows Server 2012 R2 Standard / x64 | OK | OK | WARNINGS | [ OK ] | |||||||
| merida2 | OS X 10.11.6 El Capitan / x86_64 | OK | OK | OK | OK |
| Package: gwascat |
| Version: 2.12.0 |
| Command: rm -rf gwascat.buildbin-libdir && mkdir gwascat.buildbin-libdir && C:\Users\biocbuild\bbs-3.7-bioc\R\bin\R.exe CMD INSTALL --merge-multiarch --build --library=gwascat.buildbin-libdir gwascat_2.12.0.tar.gz |
| StartedAt: 2018-10-17 06:29:14 -0400 (Wed, 17 Oct 2018) |
| EndedAt: 2018-10-17 06:30:37 -0400 (Wed, 17 Oct 2018) |
| EllapsedTime: 83.7 seconds |
| RetCode: 0 |
| Status: OK |
| PackageFile: gwascat_2.12.0.zip |
| PackageFileSize: 36.46 MiB |
##############################################################################
##############################################################################
###
### Running command:
###
### rm -rf gwascat.buildbin-libdir && mkdir gwascat.buildbin-libdir && C:\Users\biocbuild\bbs-3.7-bioc\R\bin\R.exe CMD INSTALL --merge-multiarch --build --library=gwascat.buildbin-libdir gwascat_2.12.0.tar.gz
###
##############################################################################
##############################################################################
install for i386
* installing *source* package 'gwascat' ...
** R
** data
** inst
** byte-compile and prepare package for lazy loading
** help
*** installing help indices
converting help for package 'gwascat'
finding HTML links ... done
bindcadd_snv html
gwascat-package html
Rd warning: C:/Users/biocbuild/bbs-3.7-bioc/tmpdir/RtmpycBT1K/R.INSTALL1c681b93d65/gwascat/man/gwascat-package.Rd:76: file link 'nodeData' in package 'graph' does not exist and so has been treated as a topic
gwastagger html
gwaswloc-class html
finding level-2 HTML links ... done
gwcex2gviz html
gwdf_2012_02_02 html
ldtagr html
Rd warning: C:/Users/biocbuild/bbs-3.7-bioc/tmpdir/RtmpycBT1K/R.INSTALL1c681b93d65/gwascat/man/ldtagr.Rd:19: file link 'genotypeToSnpMatrix' in package 'VariantAnnotation' does not exist and so has been treated as a topic
locon6 html
makeCurrentGwascat html
obo2graphNEL html
riskyAlleleCount html
topTraits html
traitsManh html
** building package indices
** installing vignettes
** testing if installed package can be loaded
In R CMD INSTALL
install for x64
* installing *source* package 'gwascat' ...
** testing if installed package can be loaded
* MD5 sums
packaged installation of 'gwascat' as gwascat_2.12.0.zip
* DONE (gwascat)
In R CMD INSTALL
In R CMD INSTALL