| Back to Multiple platform build/check report for BioC 3.7 |
|
This page was generated on 2018-10-17 08:41:32 -0400 (Wed, 17 Oct 2018).
| Package 614/1561 | Hostname | OS / Arch | INSTALL | BUILD | CHECK | BUILD BIN | ||||||
| ggcyto 1.8.2 Mike Jiang
| malbec2 | Linux (Ubuntu 16.04.1 LTS) / x86_64 | OK | OK | OK | |||||||
| tokay2 | Windows Server 2012 R2 Standard / x64 | OK | OK | WARNINGS | [ OK ] | |||||||
| merida2 | OS X 10.11.6 El Capitan / x86_64 | OK | OK | OK | OK |
| Package: ggcyto |
| Version: 1.8.2 |
| Command: rm -rf ggcyto.buildbin-libdir && mkdir ggcyto.buildbin-libdir && C:\Users\biocbuild\bbs-3.7-bioc\R\bin\R.exe CMD INSTALL --merge-multiarch --build --library=ggcyto.buildbin-libdir ggcyto_1.8.2.tar.gz |
| StartedAt: 2018-10-17 06:23:58 -0400 (Wed, 17 Oct 2018) |
| EndedAt: 2018-10-17 06:24:30 -0400 (Wed, 17 Oct 2018) |
| EllapsedTime: 31.9 seconds |
| RetCode: 0 |
| Status: OK |
| PackageFile: ggcyto_1.8.2.zip |
| PackageFileSize: 2.241 MiB |
##############################################################################
##############################################################################
###
### Running command:
###
### rm -rf ggcyto.buildbin-libdir && mkdir ggcyto.buildbin-libdir && C:\Users\biocbuild\bbs-3.7-bioc\R\bin\R.exe CMD INSTALL --merge-multiarch --build --library=ggcyto.buildbin-libdir ggcyto_1.8.2.tar.gz
###
##############################################################################
##############################################################################
install for i386
* installing *source* package 'ggcyto' ...
** R
** inst
** byte-compile and prepare package for lazy loading
Creating a generic function for '%+%' from package 'ggplot2' in package 'ggcyto'
** help
*** installing help indices
converting help for package 'ggcyto'
finding HTML links ... done
as.ggplot html
autoplot html
finding level-2 HTML links ... done
axis_x_inverse_trans html
compute_stats html
flowCore_asinht_trans html
fortify.ellipsoidGate html
fortify.filterList html
fortify.flowSet html
fortify.polygonGate html
fortify.rectangleGate html
fortify_fs html
geom_gate html
geom_hvline html
geom_overlay html
geom_stats html
getFlowFrame html
ggcyto.GatingSet html
ggcyto html
ggcyto.flowSet html
ggcyto_GatingSet_add html
ggcyto_arrange html
ggcyto_flowSet_add html
ggcyto_par_default html
ggcyto_par_set html
is.ggcyto html
is.ggcyto_flowSet html
is.ggcyto_par html
labs_cyto html
marginalFilter html
Rd warning: C:/Users/biocbuild/bbs-3.7-bioc/tmpdir/RtmpMTBjIx/R.INSTALL5f02ac82a3/ggcyto/man/marginalFilter.Rd:14: file link 'boundaryFilter' in package 'flowCore' does not exist and so has been treated as a topic
merge.quad.gates html
plus-.ggcyto_GatingLayout html
print.ggcyto html
print.ggcyto_GatingLayout html
replace_data html
scale_x_flowCore_fasinh html
scale_x_flowJo_biexp html
scale_x_flowJo_fasinh html
scale_x_logicle html
stat_position html
transform-gate html
** building package indices
** installing vignettes
** testing if installed package can be loaded
In R CMD INSTALL
install for x64
* installing *source* package 'ggcyto' ...
** testing if installed package can be loaded
* MD5 sums
packaged installation of 'ggcyto' as ggcyto_1.8.2.zip
* DONE (ggcyto)
In R CMD INSTALL
In R CMD INSTALL