| Back to Multiple platform build/check report for BioC 3.7 |
|
This page was generated on 2018-10-17 08:34:58 -0400 (Wed, 17 Oct 2018).
| Package 538/1561 | Hostname | OS / Arch | INSTALL | BUILD | CHECK | BUILD BIN | ||||||
| gage 2.30.0 Weijun Luo
| malbec2 | Linux (Ubuntu 16.04.1 LTS) / x86_64 | OK | OK | OK | |||||||
| tokay2 | Windows Server 2012 R2 Standard / x64 | [ OK ] | OK | OK | OK | |||||||
| merida2 | OS X 10.11.6 El Capitan / x86_64 | OK | OK | OK | OK |
| Package: gage |
| Version: 2.30.0 |
| Command: C:\cygwin\bin\curl.exe -O https://malbec2.bioconductor.org/BBS/3.7/bioc/src/contrib/gage_2.30.0.tar.gz && rm -rf gage.buildbin-libdir && mkdir gage.buildbin-libdir && C:\Users\biocbuild\bbs-3.7-bioc\R\bin\R.exe CMD INSTALL --merge-multiarch --build --library=gage.buildbin-libdir gage_2.30.0.tar.gz && C:\Users\biocbuild\bbs-3.7-bioc\R\bin\R.exe CMD INSTALL gage_2.30.0.zip && rm gage_2.30.0.tar.gz gage_2.30.0.zip |
| StartedAt: 2018-10-16 19:30:14 -0400 (Tue, 16 Oct 2018) |
| EndedAt: 2018-10-16 19:30:49 -0400 (Tue, 16 Oct 2018) |
| EllapsedTime: 34.8 seconds |
| RetCode: 0 |
| Status: OK |
##############################################################################
##############################################################################
###
### Running command:
###
### C:\cygwin\bin\curl.exe -O https://malbec2.bioconductor.org/BBS/3.7/bioc/src/contrib/gage_2.30.0.tar.gz && rm -rf gage.buildbin-libdir && mkdir gage.buildbin-libdir && C:\Users\biocbuild\bbs-3.7-bioc\R\bin\R.exe CMD INSTALL --merge-multiarch --build --library=gage.buildbin-libdir gage_2.30.0.tar.gz && C:\Users\biocbuild\bbs-3.7-bioc\R\bin\R.exe CMD INSTALL gage_2.30.0.zip && rm gage_2.30.0.tar.gz gage_2.30.0.zip
###
##############################################################################
##############################################################################
% Total % Received % Xferd Average Speed Time Time Time Current
Dload Upload Total Spent Left Speed
0 0 0 0 0 0 0 0 --:--:-- --:--:-- --:--:-- 0
100 1642k 100 1642k 0 0 16.4M 0 --:--:-- --:--:-- --:--:-- 17.8M
install for i386
* installing *source* package 'gage' ...
** R
** data
** inst
** byte-compile and prepare package for lazy loading
** help
*** installing help indices
converting help for package 'gage'
finding HTML links ... done
eg2sym html
egSymb html
essGene html
esset.grp html
gage-internal html
gage html
gageComp html
gagePipe html
geneData html
go.gsets html
gs.tTest html
gse16873 html
heter.gage html
kegg.gs html
kegg.gsets html
readExpData html
readList html
sigGeneSet html
** building package indices
** installing vignettes
** testing if installed package can be loaded
In R CMD INSTALL
install for x64
* installing *source* package 'gage' ...
** testing if installed package can be loaded
* MD5 sums
packaged installation of 'gage' as gage_2.30.0.zip
* DONE (gage)
In R CMD INSTALL
In R CMD INSTALL
* installing to library 'C:/Users/biocbuild/bbs-3.7-bioc/R/library'
package 'gage' successfully unpacked and MD5 sums checked
In R CMD INSTALL