| Back to Multiple platform build/check report for BioC 3.7 |
|
This page was generated on 2018-10-17 08:34:54 -0400 (Wed, 17 Oct 2018).
| Package 478/1561 | Hostname | OS / Arch | INSTALL | BUILD | CHECK | BUILD BIN | ||||||
| farms 1.32.0 Djork-Arne Clevert
| malbec2 | Linux (Ubuntu 16.04.1 LTS) / x86_64 | OK | OK | OK | |||||||
| tokay2 | Windows Server 2012 R2 Standard / x64 | OK | OK | WARNINGS | [ OK ] | |||||||
| merida2 | OS X 10.11.6 El Capitan / x86_64 | OK | OK | OK | OK |
| Package: farms |
| Version: 1.32.0 |
| Command: rm -rf farms.buildbin-libdir && mkdir farms.buildbin-libdir && C:\Users\biocbuild\bbs-3.7-bioc\R\bin\R.exe CMD INSTALL --merge-multiarch --build --library=farms.buildbin-libdir farms_1.32.0.tar.gz |
| StartedAt: 2018-10-17 06:19:07 -0400 (Wed, 17 Oct 2018) |
| EndedAt: 2018-10-17 06:19:17 -0400 (Wed, 17 Oct 2018) |
| EllapsedTime: 10.6 seconds |
| RetCode: 0 |
| Status: OK |
| PackageFile: farms_1.32.0.zip |
| PackageFileSize: 289.5 KiB |
##############################################################################
##############################################################################
###
### Running command:
###
### rm -rf farms.buildbin-libdir && mkdir farms.buildbin-libdir && C:\Users\biocbuild\bbs-3.7-bioc\R\bin\R.exe CMD INSTALL --merge-multiarch --build --library=farms.buildbin-libdir farms_1.32.0.tar.gz
###
##############################################################################
##############################################################################
install for i386
* installing *source* package 'farms' ...
** R
** data
** inst
** byte-compile and prepare package for lazy loading
** help
*** installing help indices
converting help for package 'farms'
finding HTML links ... done
INI_Calls-class html
Rd warning: C:/Users/biocbuild/bbs-3.7-bioc/tmpdir/RtmpWesh7g/R.INSTALL13a8e43ac0/farms/man/INI_Calls-class.rd:6: file link 'exprSet-class' in package 'Biobase' does not exist and so has been treated as a topic
INIcalls-methods html
Rd warning: C:/Users/biocbuild/bbs-3.7-bioc/tmpdir/RtmpWesh7g/R.INSTALL13a8e43ac0/farms/man/INIcalls-methods.rd:20: file link 'exprSet-class' in package 'Biobase' does not exist and so has been treated as a topic
Rd warning: C:/Users/biocbuild/bbs-3.7-bioc/tmpdir/RtmpWesh7g/R.INSTALL13a8e43ac0/farms/man/INIcalls-methods.rd:22: file link 'exprSet-class' in package 'Biobase' does not exist and so has been treated as a topic
Rd warning: C:/Users/biocbuild/bbs-3.7-bioc/tmpdir/RtmpWesh7g/R.INSTALL13a8e43ac0/farms/man/INIcalls-methods.rd:14: file link 'exprSet-class' in package 'Biobase' does not exist and so has been treated as a topic
dummy html
expFarms html
Rd warning: C:/Users/biocbuild/bbs-3.7-bioc/tmpdir/RtmpWesh7g/R.INSTALL13a8e43ac0/farms/man/expFarms.rd:5: file link 'exprSet-class' in package 'Biobase' does not exist and so has been treated as a topic
Rd warning: C:/Users/biocbuild/bbs-3.7-bioc/tmpdir/RtmpWesh7g/R.INSTALL13a8e43ac0/farms/man/expFarms.rd:35: file link 'exprSet-class' in package 'Biobase' does not exist and so has been treated as a topic
generateExprVal.method.farms html
Rd warning: C:/Users/biocbuild/bbs-3.7-bioc/tmpdir/RtmpWesh7g/R.INSTALL13a8e43ac0/farms/man/generateExprVal.method.farms.rd:39: file link 'li.wong' in package 'affy' does not exist and so has been treated as a topic
Rd warning: C:/Users/biocbuild/bbs-3.7-bioc/tmpdir/RtmpWesh7g/R.INSTALL13a8e43ac0/farms/man/generateExprVal.method.farms.rd:39: file link 'medianpolish' in package 'affy' does not exist and so has been treated as a topic
getI_Eset-methods html
Rd warning: C:/Users/biocbuild/bbs-3.7-bioc/tmpdir/RtmpWesh7g/R.INSTALL13a8e43ac0/farms/man/getI_Eset-methods.rd:8: file link 'exprSet-class' in package 'Biobase' does not exist and so has been treated as a topic
Rd warning: C:/Users/biocbuild/bbs-3.7-bioc/tmpdir/RtmpWesh7g/R.INSTALL13a8e43ac0/farms/man/getI_Eset-methods.rd:18: file link 'exprSet-class' in package 'Biobase' does not exist and so has been treated as a topic
getI_ProbeSets-methods html
getNI_Eset-methods html
Rd warning: C:/Users/biocbuild/bbs-3.7-bioc/tmpdir/RtmpWesh7g/R.INSTALL13a8e43ac0/farms/man/getNI_Eset-methods.rd:10: file link 'exprSet-class' in package 'Biobase' does not exist and so has been treated as a topic
Rd warning: C:/Users/biocbuild/bbs-3.7-bioc/tmpdir/RtmpWesh7g/R.INSTALL13a8e43ac0/farms/man/getNI_Eset-methods.rd:20: file link 'exprSet-class' in package 'Biobase' does not exist and so has been treated as a topic
getNI_ProbeSets-methods html
lFarms html
Rd warning: C:/Users/biocbuild/bbs-3.7-bioc/tmpdir/RtmpWesh7g/R.INSTALL13a8e43ac0/farms/man/lFarms.rd:6: file link 'exprSet-class' in package 'Biobase' does not exist and so has been treated as a topic
Rd warning: C:/Users/biocbuild/bbs-3.7-bioc/tmpdir/RtmpWesh7g/R.INSTALL13a8e43ac0/farms/man/lFarms.rd:32: file link 'exprSet-class' in package 'Biobase' does not exist and so has been treated as a topic
plot-methods html
Rd warning: C:/Users/biocbuild/bbs-3.7-bioc/tmpdir/RtmpWesh7g/R.INSTALL13a8e43ac0/farms/man/plot-methods.rd:20: file link 'exprSet-class' in package 'Biobase' does not exist and so has been treated as a topic
qFarms html
Rd warning: C:/Users/biocbuild/bbs-3.7-bioc/tmpdir/RtmpWesh7g/R.INSTALL13a8e43ac0/farms/man/qFarms.rd:6: file link 'exprSet-class' in package 'Biobase' does not exist and so has been treated as a topic
Rd warning: C:/Users/biocbuild/bbs-3.7-bioc/tmpdir/RtmpWesh7g/R.INSTALL13a8e43ac0/farms/man/qFarms.rd:33: file link 'exprSet-class' in package 'Biobase' does not exist and so has been treated as a topic
summary-methods html
Rd warning: C:/Users/biocbuild/bbs-3.7-bioc/tmpdir/RtmpWesh7g/R.INSTALL13a8e43ac0/farms/man/summary-methods.rd:19: file link 'exprSet-class' in package 'Biobase' does not exist and so has been treated as a topic
testAffyBatch html
** building package indices
** installing vignettes
** testing if installed package can be loaded
In R CMD INSTALL
install for x64
* installing *source* package 'farms' ...
** testing if installed package can be loaded
* MD5 sums
packaged installation of 'farms' as farms_1.32.0.zip
* DONE (farms)
In R CMD INSTALL
In R CMD INSTALL