| Back to Multiple platform build/check report for BioC 3.7 |
|
This page was generated on 2018-10-17 08:40:44 -0400 (Wed, 17 Oct 2018).
| Package 461/1561 | Hostname | OS / Arch | INSTALL | BUILD | CHECK | BUILD BIN | ||||||
| erma 0.12.0 VJ Carey
| malbec2 | Linux (Ubuntu 16.04.1 LTS) / x86_64 | OK | OK | OK | |||||||
| tokay2 | Windows Server 2012 R2 Standard / x64 | [ OK ] | OK | WARNINGS | OK | |||||||
| merida2 | OS X 10.11.6 El Capitan / x86_64 | OK | OK | OK | OK |
| Package: erma |
| Version: 0.12.0 |
| Command: C:\cygwin\bin\curl.exe -O https://malbec2.bioconductor.org/BBS/3.7/bioc/src/contrib/erma_0.12.0.tar.gz && rm -rf erma.buildbin-libdir && mkdir erma.buildbin-libdir && C:\Users\biocbuild\bbs-3.7-bioc\R\bin\R.exe CMD INSTALL --merge-multiarch --build --library=erma.buildbin-libdir erma_0.12.0.tar.gz && C:\Users\biocbuild\bbs-3.7-bioc\R\bin\R.exe CMD INSTALL erma_0.12.0.zip && rm erma_0.12.0.tar.gz erma_0.12.0.zip |
| StartedAt: 2018-10-16 20:09:02 -0400 (Tue, 16 Oct 2018) |
| EndedAt: 2018-10-16 20:12:53 -0400 (Tue, 16 Oct 2018) |
| EllapsedTime: 231.2 seconds |
| RetCode: 0 |
| Status: OK |
##############################################################################
##############################################################################
###
### Running command:
###
### C:\cygwin\bin\curl.exe -O https://malbec2.bioconductor.org/BBS/3.7/bioc/src/contrib/erma_0.12.0.tar.gz && rm -rf erma.buildbin-libdir && mkdir erma.buildbin-libdir && C:\Users\biocbuild\bbs-3.7-bioc\R\bin\R.exe CMD INSTALL --merge-multiarch --build --library=erma.buildbin-libdir erma_0.12.0.tar.gz && C:\Users\biocbuild\bbs-3.7-bioc\R\bin\R.exe CMD INSTALL erma_0.12.0.zip && rm erma_0.12.0.tar.gz erma_0.12.0.zip
###
##############################################################################
##############################################################################
% Total % Received % Xferd Average Speed Time Time Time Current
Dload Upload Total Spent Left Speed
0 0 0 0 0 0 0 0 --:--:-- --:--:-- --:--:-- 0
19 197M 19 38.2M 0 0 94.8M 0 0:00:02 --:--:-- 0:00:02 96.3M
73 197M 73 144M 0 0 102M 0 0:00:01 0:00:01 --:--:-- 103M
100 197M 100 197M 0 0 99.8M 0 0:00:01 0:00:01 --:--:-- 100M
install for i386
* installing *source* package 'erma' ...
** R
** data
** inst
** byte-compile and prepare package for lazy loading
** help
*** installing help indices
converting help for package 'erma'
finding HTML links ... done
ErmaSet-class html
finding level-2 HTML links ... done
erma-package html
genemodel html
Rd warning: C:/Users/biocbuild/bbs-3.7-bioc/tmpdir/Rtmpay7ED9/R.INSTALL1a3c6847436/erma/man/genemodel.Rd:46: file link 'GRanges' in package 'GenomicRanges' does not exist and so has been treated as a topic
mapmeta html
Rd warning: C:/Users/biocbuild/bbs-3.7-bioc/tmpdir/Rtmpay7ED9/R.INSTALL1a3c6847436/erma/man/mapmeta.Rd:21: file link 'DataFrame' in package 'S4Vectors' does not exist and so has been treated as a topic
stateProfile html
Rd warning: C:/Users/biocbuild/bbs-3.7-bioc/tmpdir/Rtmpay7ED9/R.INSTALL1a3c6847436/erma/man/stateProfile.Rd:33: file link 'promoters' in package 'GenomicRanges' does not exist and so has been treated as a topic
states_25 html
** building package indices
** installing vignettes
** testing if installed package can be loaded
In R CMD INSTALL
install for x64
* installing *source* package 'erma' ...
** testing if installed package can be loaded
* MD5 sums
packaged installation of 'erma' as erma_0.12.0.zip
* DONE (erma)
In R CMD INSTALL
In R CMD INSTALL
* installing to library 'C:/Users/biocbuild/bbs-3.7-bioc/R/library'
package 'erma' successfully unpacked and MD5 sums checked
In R CMD INSTALL