| Back to Multiple platform build/check report for BioC 3.7 |
|
This page was generated on 2018-10-17 08:36:59 -0400 (Wed, 17 Oct 2018).
| Package 225/1561 | Hostname | OS / Arch | INSTALL | BUILD | CHECK | BUILD BIN | ||||||
| chimera 1.22.0 Raffaele A Calogero
| malbec2 | Linux (Ubuntu 16.04.1 LTS) / x86_64 | OK | OK | OK | |||||||
| tokay2 | Windows Server 2012 R2 Standard / x64 | OK | OK | [ OK ] | OK | |||||||
| merida2 | OS X 10.11.6 El Capitan / x86_64 | OK | OK | OK | OK |
| Package: chimera |
| Version: 1.22.0 |
| Command: C:\Users\biocbuild\bbs-3.7-bioc\R\bin\R.exe CMD check --force-multiarch --install=check:chimera.install-out.txt --library=C:\Users\biocbuild\bbs-3.7-bioc\R\library --no-vignettes --timings chimera_1.22.0.tar.gz |
| StartedAt: 2018-10-17 01:03:29 -0400 (Wed, 17 Oct 2018) |
| EndedAt: 2018-10-17 01:12:36 -0400 (Wed, 17 Oct 2018) |
| EllapsedTime: 547.0 seconds |
| RetCode: 0 |
| Status: OK |
| CheckDir: chimera.Rcheck |
| Warnings: 0 |
##############################################################################
##############################################################################
###
### Running command:
###
### C:\Users\biocbuild\bbs-3.7-bioc\R\bin\R.exe CMD check --force-multiarch --install=check:chimera.install-out.txt --library=C:\Users\biocbuild\bbs-3.7-bioc\R\library --no-vignettes --timings chimera_1.22.0.tar.gz
###
##############################################################################
##############################################################################
* using log directory 'C:/Users/biocbuild/bbs-3.7-bioc/meat/chimera.Rcheck'
* using R version 3.5.1 Patched (2018-07-24 r75005)
* using platform: x86_64-w64-mingw32 (64-bit)
* using session charset: ISO8859-1
* using option '--no-vignettes'
* checking for file 'chimera/DESCRIPTION' ... OK
* checking extension type ... Package
* this is package 'chimera' version '1.22.0'
* checking package namespace information ... OK
* checking package dependencies ... NOTE
Package which this enhances but not available for checking: 'Rsubread'
Depends: includes the non-default packages:
'Biobase' 'GenomicRanges' 'Rsamtools' 'GenomicAlignments'
'AnnotationDbi' 'BSgenome.Hsapiens.UCSC.hg19'
'TxDb.Hsapiens.UCSC.hg19.knownGene' 'Homo.sapiens'
Adding so many packages to the search path is excessive and importing
selectively is preferable.
* checking if this is a source package ... OK
* checking if there is a namespace ... OK
* checking for hidden files and directories ... OK
* checking for portable file names ... OK
* checking whether package 'chimera' can be installed ... OK
* checking installed package size ... NOTE
installed size is 7.7Mb
sub-directories of 1Mb or more:
examples 5.7Mb
libs 1.4Mb
* checking package directory ... OK
* checking 'build' directory ... OK
* checking DESCRIPTION meta-information ... OK
* checking top-level files ... OK
* checking for left-over files ... OK
* checking index information ... OK
* checking package subdirectories ... OK
* checking R files for non-ASCII characters ... OK
* checking R files for syntax errors ... OK
* loading checks for arch 'i386'
** checking whether the package can be loaded ... OK
** checking whether the package can be loaded with stated dependencies ... OK
** checking whether the package can be unloaded cleanly ... OK
** checking whether the namespace can be loaded with stated dependencies ... OK
** checking whether the namespace can be unloaded cleanly ... OK
* loading checks for arch 'x64'
** checking whether the package can be loaded ... OK
** checking whether the package can be loaded with stated dependencies ... OK
** checking whether the package can be unloaded cleanly ... OK
** checking whether the namespace can be loaded with stated dependencies ... OK
** checking whether the namespace can be unloaded cleanly ... OK
* checking dependencies in R code ... NOTE
'library' or 'require' calls in package code:
'BSgenome.Hsapiens.NCBI.GRCh38' 'BSgenome.Mmusculus.UCSC.mm10'
'BSgenome.Mmusculus.UCSC.mm9' 'BiocParallel' 'Mus.musculus'
'Rsubread' 'TxDb.Hsapiens.UCSC.hg38.knownGene'
'TxDb.Mmusculus.UCSC.mm10.knownGene'
'TxDb.Mmusculus.UCSC.mm9.knownGene'
Please use :: or requireNamespace() instead.
See section 'Suggested packages' in the 'Writing R Extensions' manual.
* checking S3 generic/method consistency ... OK
* checking replacement functions ... OK
* checking foreign function calls ... OK
* checking R code for possible problems ... NOTE
.bfImport: no visible global function definition for 'read.table'
.bfImport: no visible global function definition for 'IRanges'
.buildFusion: no visible global function definition for 'exons'
.buildFusion: no visible global function definition for 'IRanges'
.buildFusion: no visible global function definition for 'DNAString'
.csImport: no visible global function definition for 'read.table'
.csImport: no visible global function definition for 'IRanges'
.detectIntronic: no visible binding for global variable
'org.Hs.egSYMBOL'
.detectIntronic: no visible global function definition for
'transcripts'
.dfImport: no visible global function definition for 'read.table'
.dfImport: no visible global function definition for 'IRanges'
.fcImport: no visible global function definition for 'read.table'
.fcImport: no visible global function definition for 'IRanges'
.ffImport: no visible global function definition for 'read.table'
.ffImport: no visible global function definition for 'IRanges'
.fhImport: no visible global function definition for 'read.table'
.fhImport: no visible global function definition for 'IRanges'
.fmImport: no visible global function definition for 'read.table'
.fmImport: no visible global function definition for 'IRanges'
.geneLevelAnnotation: no visible global function definition for 'genes'
.geneLevelAnnotation: no visible global function definition for
'select'
.geneLevelAnnotation: no visible binding for global variable
'TxDb.Mmusculus.UCSC.mm9.knownGene'
.geneLevelAnnotation: no visible binding for global variable
'Mus.musculus'
.geneLevelAnnotation: no visible binding for global variable
'TxDb.Mmusculus.UCSC.mm10.knownGene'
.geneLevelAnnotation: no visible binding for global variable
'TxDb.Hsapiens.UCSC.hg38.knownGene'
.gfWrap: no visible global function definition for 'writeXStringSet'
.msImport: no visible global function definition for 'read.table'
.msImport: no visible global function definition for 'IRanges'
.onlyExons: no visible global function definition for 'exons'
.plotCoverage: no visible global function definition for 'window'
.plotCoverage: no visible global function definition for 'plot'
.plotCoverage: no visible global function definition for 'polygon'
.plotCoverage: no visible global function definition for 'abline'
.rsImport: no visible global function definition for 'MulticoreParam'
.rsImport: no visible global function definition for 'read.table'
.rsImport : .fusionInfo: no visible global function definition for
'IRanges'
.rsImport : .fusionInfo: no visible binding for global variable
'BSgenome.Hsapiens.NCBI.GRCh38'
.rsImport : .fusionInfo: no visible global function definition for
'seqlevelsStyle<-'
.rsImport: no visible global function definition for 'bplapply'
.starImport: no visible global function definition for 'read.table'
.starImport: no visible global function definition for 'IRanges'
.thfImport: no visible global function definition for 'read.table'
.thfImport: no visible global function definition for 'IRanges'
.thfPostImport: no visible global function definition for 'read.table'
.thfPostImport: no visible global function definition for 'IRanges'
bam2fastq: no visible global function definition for 'MulticoreParam'
bam2fastq: no visible global function definition for 'bplapply'
breakpointOverlaps: no visible global function definition for 'IRanges'
breakpointOverlaps: no visible global function definition for
'seqlengths<-'
breakpointOverlaps: no visible global function definition for
'seqlengths'
breakpointOverlaps: no visible global function definition for
'subjectHits'
chimeraSeqSet: no visible global function definition for
'MulticoreParam'
chimeraSeqSet: no visible global function definition for 'bplapply'
chimeraSeqSet : <anonymous>: no visible global function definition for
'DNAStringSet'
chimeraSeqs: no visible binding for global variable 'org.Hs.egSYMBOL'
chimeraSeqs: no visible global function definition for 'transcripts'
chimeraSeqs: no visible global function definition for 'DNAStringSet'
defuseTPTN: no visible global function definition for 'read.table'
defuseTPTN : .my.newfset: no visible global function definition for
'IRanges'
defuseTPTN : .my.newfset: no visible global function definition for
'DNAStringSet'
filterList: no visible global function definition for 'MulticoreParam'
filterList: no visible global function definition for 'bplapply'
fusionName: no visible global function definition for 'MulticoreParam'
fusionName: no visible global function definition for 'bplapply'
fusionPeptides: no visible binding for global variable
'org.Hs.egUCSCKG'
fusionPeptides: no visible binding for global variable
'org.Hs.egSYMBOL'
fusionPeptides: no visible global function definition for 'cdsBy'
fusionPeptides: no visible global function definition for
'extractTranscriptSeqs'
fusionPeptides: no visible global function definition for 'translate'
fusionPeptides: no visible global function definition for 'AAStringSet'
fusionPeptides : <anonymous>: no visible global function definition for
'pairwiseAlignment'
fusionPeptides: no visible global function definition for 'pattern'
fusionPeptides: no visible global function definition for
'matchPattern'
gapfillerInstallation: no visible global function definition for
'download.file'
gapfillerRun: no visible global function definition for
'readDNAStringSet'
gapfillerRun: no visible global function definition for
'pairwiseAlignment'
gapfillerRun: no visible global function definition for 'Views'
gapfillerRun: no visible global function definition for 'DNAStringSet'
gapfillerWrap: no visible global function definition for
'MulticoreParam'
gapfillerWrap: no visible global function definition for 'bplapply'
newfSet: no visible global function definition for 'DNAStringSet'
oncofuseInstallation: no visible global function definition for
'download.file'
oncofuseRun: no visible global function definition for 'write.table'
oncofuseRun: no visible global function definition for 'read.table'
oncofuseRun: no visible global function definition for 'smoothScatter'
picardInstallation: no visible global function definition for
'download.file'
plotCoverage: no visible binding for global variable 'org.Hs.egSYMBOL'
plotCoverage: no visible global function definition for 'transcripts'
plotCoverage: no visible global function definition for 'exons'
plotCoverage: no visible global function definition for 'IRanges'
plotCoverage: no visible global function definition for 'window'
plotCoverage: no visible global function definition for 'plot'
plotCoverage: no visible global function definition for 'polygon'
plotCoverage: no visible global function definition for 'abline'
plotCoverage: no visible global function definition for 'rect'
prettyPrint: no visible global function definition for 'write.table'
starInstallation: no visible global function definition for
'download.file'
starReads: no visible global function definition for 'MulticoreParam'
starReads: no visible global function definition for 'read.table'
starReads: no visible global function definition for 'IRanges'
subreadRun: no visible global function definition for 'bowtie_build'
subreadRun: no visible global function definition for 'bowtie'
supportingReads: no visible global function definition for
'MulticoreParam'
supportingReads: no visible global function definition for 'bplapply'
tophatInstallation: no visible global function definition for
'download.file'
tophatInstallation: no visible global function definition for 'unzip'
Undefined global functions or variables:
AAStringSet BSgenome.Hsapiens.NCBI.GRCh38 DNAString DNAStringSet
IRanges MulticoreParam Mus.musculus TxDb.Hsapiens.UCSC.hg38.knownGene
TxDb.Mmusculus.UCSC.mm10.knownGene TxDb.Mmusculus.UCSC.mm9.knownGene
Views abline bowtie bowtie_build bplapply cdsBy download.file exons
extractTranscriptSeqs genes matchPattern org.Hs.egSYMBOL
org.Hs.egUCSCKG pairwiseAlignment pattern plot polygon read.table
readDNAStringSet rect select seqlengths seqlengths<- seqlevelsStyle<-
smoothScatter subjectHits transcripts translate unzip window
write.table writeXStringSet
Consider adding
importFrom("graphics", "abline", "plot", "polygon", "rect",
"smoothScatter")
importFrom("stats", "window")
importFrom("utils", "download.file", "read.table", "unzip",
"write.table")
to your NAMESPACE file.
* checking Rd files ... OK
* checking Rd metadata ... OK
* checking Rd cross-references ... OK
* checking for missing documentation entries ... OK
* checking for code/documentation mismatches ... OK
* checking Rd \usage sections ... OK
* checking Rd contents ... OK
* checking for unstated dependencies in examples ... OK
* checking line endings in C/C++/Fortran sources/headers ... OK
* checking compiled code ... NOTE
Note: information on .o files for i386 is not available
Note: information on .o files for x64 is not available
File 'C:/Users/biocbuild/bbs-3.7-bioc/R/library/chimera/libs/i386/chimera.dll':
Found 'abort', possibly from 'abort' (C), 'runtime' (Fortran)
Found 'exit', possibly from 'exit' (C), 'stop' (Fortran)
Found 'printf', possibly from 'printf' (C)
Compiled code should not call entry points which might terminate R nor
write to stdout/stderr instead of to the console, nor use Fortran I/O
nor system RNGs. The detected symbols are linked into the code but
might come from libraries and not actually be called.
See 'Writing portable packages' in the 'Writing R Extensions' manual.
* checking files in 'vignettes' ... OK
* checking examples ...
** running examples for arch 'i386' ... OK
Examples with CPU or elapsed time > 5s
user system elapsed
fusionPeptides 29.39 0.27 29.65
chimeraSeqSet 12.40 0.45 13.26
class.fSet 8.58 0.11 8.70
plotCoverage 8.00 0.05 8.04
defuseTPTN 7.46 0.00 7.52
chimeraSeqs 6.31 0.18 6.50
** running examples for arch 'x64' ... OK
Examples with CPU or elapsed time > 5s
user system elapsed
fusionPeptides 34.96 0.32 35.31
plotCoverage 12.01 0.05 12.06
chimeraSeqSet 10.30 0.12 10.42
defuseTPTN 7.28 0.00 7.29
importFusionData 6.32 0.02 6.32
chimeraSeqs 5.64 0.07 5.71
class.fSet 5.39 0.07 5.46
supportingReads 5.31 0.03 5.34
* checking for unstated dependencies in vignettes ... OK
* checking package vignettes in 'inst/doc' ... OK
* checking running R code from vignettes ... SKIPPED
* checking re-building of vignette outputs ... SKIPPED
* checking PDF version of manual ... OK
* DONE
Status: 5 NOTEs
See
'C:/Users/biocbuild/bbs-3.7-bioc/meat/chimera.Rcheck/00check.log'
for details.
chimera.Rcheck/00install.out
##############################################################################
##############################################################################
###
### Running command:
###
### C:\cygwin\bin\curl.exe -O https://malbec2.bioconductor.org/BBS/3.7/bioc/src/contrib/chimera_1.22.0.tar.gz && rm -rf chimera.buildbin-libdir && mkdir chimera.buildbin-libdir && C:\Users\biocbuild\bbs-3.7-bioc\R\bin\R.exe CMD INSTALL --merge-multiarch --build --library=chimera.buildbin-libdir chimera_1.22.0.tar.gz && C:\Users\biocbuild\bbs-3.7-bioc\R\bin\R.exe CMD INSTALL chimera_1.22.0.zip && rm chimera_1.22.0.tar.gz chimera_1.22.0.zip
###
##############################################################################
##############################################################################
% Total % Received % Xferd Average Speed Time Time Time Current
Dload Upload Total Spent Left Speed
0 0 0 0 0 0 0 0 --:--:-- --:--:-- --:--:-- 0
100 2018k 100 2018k 0 0 30.5M 0 --:--:-- --:--:-- --:--:-- 34.5M
install for i386
* installing *source* package 'chimera' ...
** libs
C:/Rtools/mingw_32/bin/g++ -I"C:/Users/BIOCBU˜1/BBS-3˜1.7-B/R/include" -DNDEBUG -I"C:/extsoft/include" -O2 -Wall -mtune=generic -c StarParser.cpp -o StarParser.o
C:/Rtools/mingw_32/bin/g++ -shared -s -static-libgcc -o chimera.dll tmp.def StarParser.o -LC:/extsoft/lib/i386 -LC:/extsoft/lib -LC:/Users/BIOCBU˜1/BBS-3˜1.7-B/R/bin/i386 -lR
installing to C:/Users/biocbuild/bbs-3.7-bioc/meat/chimera.buildbin-libdir/chimera/libs/i386
** R
** inst
** byte-compile and prepare package for lazy loading
** help
*** installing help indices
converting help for package 'chimera'
finding HTML links ... done
MHmakeRandomString html
bam2fastq html
breakpointOverlaps html
chimera-package html
chimeraSeqSet html
chimeraSeqs html
class.fSet html
defuseTPTN html
filterList html
filterSamReads html
fusionName html
fusionPeptides html
gapfillerInstallation html
gapfillerRun html
gapfillerWrap html
importFusionData html
is.fSet html
newfSet html
oncofuseInstallation html
oncofuseRun html
picardInstallation html
plotCoverage html
prettyPrint html
removingErrorLine html
starInstallation html
starReads html
starRun html
subreadRun html
supportingReads html
tophatInstallation html
tophatRun html
validateSamFile html
** building package indices
** installing vignettes
** testing if installed package can be loaded
In R CMD INSTALL
install for x64
* installing *source* package 'chimera' ...
** libs
C:/Rtools/mingw_64/bin/g++ -I"C:/Users/BIOCBU˜1/BBS-3˜1.7-B/R/include" -DNDEBUG -I"C:/extsoft/include" -O2 -Wall -mtune=generic -c StarParser.cpp -o StarParser.o
C:/Rtools/mingw_64/bin/g++ -shared -s -static-libgcc -o chimera.dll tmp.def StarParser.o -LC:/extsoft/lib/x64 -LC:/extsoft/lib -LC:/Users/BIOCBU˜1/BBS-3˜1.7-B/R/bin/x64 -lR
installing to C:/Users/biocbuild/bbs-3.7-bioc/meat/chimera.buildbin-libdir/chimera/libs/x64
** testing if installed package can be loaded
* MD5 sums
packaged installation of 'chimera' as chimera_1.22.0.zip
* DONE (chimera)
In R CMD INSTALL
In R CMD INSTALL
* installing to library 'C:/Users/biocbuild/bbs-3.7-bioc/R/library'
package 'chimera' successfully unpacked and MD5 sums checked
In R CMD INSTALL
|
chimera.Rcheck/examples_i386/chimera-Ex.timings
|
chimera.Rcheck/examples_x64/chimera-Ex.timings
|