| Back to Multiple platform build/check report for BioC 3.7 | 
 | 
This page was generated on 2018-10-07 11:03:23 -0400 (Sun, 07 Oct 2018).
| Package 91/1561 | Hostname | OS / Arch | INSTALL | BUILD | CHECK | BUILD BIN | ||||||
| banocc 1.4.0 Emma Schwager 
 | malbec2 | Linux (Ubuntu 16.04.1 LTS) / x86_64 | OK | OK | OK |  | ||||||
| tokay2 | Windows Server 2012 R2 Standard / x64 | OK | OK | WARNINGS | [ OK ] |  | ||||||
| merida2 | OS X 10.11.6 El Capitan / x86_64 | OK | OK | OK | OK |  | 
| Package: banocc | 
| Version: 1.4.0 | 
| Command: rm -rf banocc.buildbin-libdir && mkdir banocc.buildbin-libdir && C:\Users\biocbuild\bbs-3.7-bioc\R\bin\R.exe CMD INSTALL --merge-multiarch --build --library=banocc.buildbin-libdir banocc_1.4.0.tar.gz | 
| StartedAt: 2018-10-07 05:55:15 -0400 (Sun, 07 Oct 2018) | 
| EndedAt: 2018-10-07 05:55:29 -0400 (Sun, 07 Oct 2018) | 
| EllapsedTime: 14.0 seconds | 
| RetCode: 0 | 
| Status: OK | 
| PackageFile: banocc_1.4.0.zip | 
| PackageFileSize: 860.9 KiB | 
##############################################################################
##############################################################################
###
### Running command:
###
###   rm -rf banocc.buildbin-libdir && mkdir banocc.buildbin-libdir && C:\Users\biocbuild\bbs-3.7-bioc\R\bin\R.exe CMD INSTALL --merge-multiarch --build --library=banocc.buildbin-libdir banocc_1.4.0.tar.gz
###
##############################################################################
##############################################################################
install for i386
* installing *source* package 'banocc' ...
** R
** data
** inst
** byte-compile and prepare package for lazy loading
** help
*** installing help indices
  converting help for package 'banocc'
    finding HTML links ... done
    banocc                                  html  
    banocc_model                            html  
    compositions_hard_null                  html  
    compositions_neg_spike                  html  
    compositions_null                       html  
    compositions_pos_spike                  html  
    counts_hard_null                        html  
    counts_neg_spike                        html  
    counts_null                             html  
    counts_pos_spike                        html  
    get_banocc_output                       html  
    run_banocc                              html  
    finding level-2 HTML links ... done
Rd warning: C:/Users/biocbuild/bbs-3.7-bioc/tmpdir/Rtmpwh46iC/R.INSTALL27d853462d20/banocc/man/run_banocc.Rd:56: file link 'sampling' in package 'rstan' does not exist and so has been treated as a topic
Rd warning: C:/Users/biocbuild/bbs-3.7-bioc/tmpdir/Rtmpwh46iC/R.INSTALL27d853462d20/banocc/man/run_banocc.Rd:77: file link 'sampling' in package 'rstan' does not exist and so has been treated as a topic
** building package indices
** installing vignettes
** testing if installed package can be loaded
In R CMD INSTALL
install for x64
* installing *source* package 'banocc' ...
** testing if installed package can be loaded
* MD5 sums
packaged installation of 'banocc' as banocc_1.4.0.zip
* DONE (banocc)
In R CMD INSTALL
In R CMD INSTALL