| Back to Multiple platform build/check report for BioC 3.7 |
|
This page was generated on 2018-10-17 08:34:48 -0400 (Wed, 17 Oct 2018).
| Package 81/1561 | Hostname | OS / Arch | INSTALL | BUILD | CHECK | BUILD BIN | ||||||
| attract 1.32.0 Samuel Zimmerman
| malbec2 | Linux (Ubuntu 16.04.1 LTS) / x86_64 | OK | OK | OK | |||||||
| tokay2 | Windows Server 2012 R2 Standard / x64 | [ OK ] | OK | OK | OK | |||||||
| merida2 | OS X 10.11.6 El Capitan / x86_64 | OK | OK | OK | OK |
| Package: attract |
| Version: 1.32.0 |
| Command: C:\cygwin\bin\curl.exe -O https://malbec2.bioconductor.org/BBS/3.7/bioc/src/contrib/attract_1.32.0.tar.gz && rm -rf attract.buildbin-libdir && mkdir attract.buildbin-libdir && C:\Users\biocbuild\bbs-3.7-bioc\R\bin\R.exe CMD INSTALL --merge-multiarch --build --library=attract.buildbin-libdir attract_1.32.0.tar.gz && C:\Users\biocbuild\bbs-3.7-bioc\R\bin\R.exe CMD INSTALL attract_1.32.0.zip && rm attract_1.32.0.tar.gz attract_1.32.0.zip |
| StartedAt: 2018-10-16 19:31:55 -0400 (Tue, 16 Oct 2018) |
| EndedAt: 2018-10-16 19:32:54 -0400 (Tue, 16 Oct 2018) |
| EllapsedTime: 58.7 seconds |
| RetCode: 0 |
| Status: OK |
##############################################################################
##############################################################################
###
### Running command:
###
### C:\cygwin\bin\curl.exe -O https://malbec2.bioconductor.org/BBS/3.7/bioc/src/contrib/attract_1.32.0.tar.gz && rm -rf attract.buildbin-libdir && mkdir attract.buildbin-libdir && C:\Users\biocbuild\bbs-3.7-bioc\R\bin\R.exe CMD INSTALL --merge-multiarch --build --library=attract.buildbin-libdir attract_1.32.0.tar.gz && C:\Users\biocbuild\bbs-3.7-bioc\R\bin\R.exe CMD INSTALL attract_1.32.0.zip && rm attract_1.32.0.tar.gz attract_1.32.0.zip
###
##############################################################################
##############################################################################
% Total % Received % Xferd Average Speed Time Time Time Current
Dload Upload Total Spent Left Speed
0 0 0 0 0 0 0 0 --:--:-- --:--:-- --:--:-- 0
100 4203k 100 4203k 0 0 48.8M 0 --:--:-- --:--:-- --:--:-- 53.3M
install for i386
* installing *source* package 'attract' ...
** R
** data
** inst
** byte-compile and prepare package for lazy loading
** help
*** installing help indices
converting help for package 'attract'
finding HTML links ... done
AttractorModuleSet-class html
SynExpressionSet-class html
attract-package html
buildCorMatrix html
buildCustomIncidenceMatrix html
buildKeggIncidenceMatrix html
calcFuncSynexprs html
calcInform html
calcModfstat html
calcRss html
exprs.dat html
filterDataSet html
findAttractors html
findCorrPartners html
findOnepwaySynexprs html
findSynexprs html
flagPwayExists html
getCustomGenes html
getPwayGenes html
loring.eset html
plotsynexprs html
removeFlatGenes html
samp.info html
subset.loring.eset html
** building package indices
** installing vignettes
** testing if installed package can be loaded
In R CMD INSTALL
install for x64
* installing *source* package 'attract' ...
** testing if installed package can be loaded
* MD5 sums
packaged installation of 'attract' as attract_1.32.0.zip
* DONE (attract)
In R CMD INSTALL
In R CMD INSTALL
* installing to library 'C:/Users/biocbuild/bbs-3.7-bioc/R/library'
package 'attract' successfully unpacked and MD5 sums checked
In R CMD INSTALL