| Back to Multiple platform build/check report for BioC 3.7 |
|
This page was generated on 2018-10-17 08:37:46 -0400 (Wed, 17 Oct 2018).
| Package 42/1561 | Hostname | OS / Arch | INSTALL | BUILD | CHECK | BUILD BIN | ||||||
| ampliQueso 1.18.0 Michal Okoniewski
| malbec2 | Linux (Ubuntu 16.04.1 LTS) / x86_64 | ERROR | ERROR | skipped | |||||||
| tokay2 | Windows Server 2012 R2 Standard / x64 | [ OK ] | OK | WARNINGS | OK | |||||||
| merida2 | OS X 10.11.6 El Capitan / x86_64 | OK | OK | WARNINGS | OK |
| Package: ampliQueso |
| Version: 1.18.0 |
| Command: C:\cygwin\bin\curl.exe -O https://malbec2.bioconductor.org/BBS/3.7/bioc/src/contrib/ampliQueso_1.18.0.tar.gz && rm -rf ampliQueso.buildbin-libdir && mkdir ampliQueso.buildbin-libdir && C:\Users\biocbuild\bbs-3.7-bioc\R\bin\R.exe CMD INSTALL --merge-multiarch --build --library=ampliQueso.buildbin-libdir ampliQueso_1.18.0.tar.gz && C:\Users\biocbuild\bbs-3.7-bioc\R\bin\R.exe CMD INSTALL ampliQueso_1.18.0.zip && rm ampliQueso_1.18.0.tar.gz ampliQueso_1.18.0.zip |
| StartedAt: 2018-10-16 20:07:22 -0400 (Tue, 16 Oct 2018) |
| EndedAt: 2018-10-16 20:08:07 -0400 (Tue, 16 Oct 2018) |
| EllapsedTime: 44.5 seconds |
| RetCode: 0 |
| Status: OK |
##############################################################################
##############################################################################
###
### Running command:
###
### C:\cygwin\bin\curl.exe -O https://malbec2.bioconductor.org/BBS/3.7/bioc/src/contrib/ampliQueso_1.18.0.tar.gz && rm -rf ampliQueso.buildbin-libdir && mkdir ampliQueso.buildbin-libdir && C:\Users\biocbuild\bbs-3.7-bioc\R\bin\R.exe CMD INSTALL --merge-multiarch --build --library=ampliQueso.buildbin-libdir ampliQueso_1.18.0.tar.gz && C:\Users\biocbuild\bbs-3.7-bioc\R\bin\R.exe CMD INSTALL ampliQueso_1.18.0.zip && rm ampliQueso_1.18.0.tar.gz ampliQueso_1.18.0.zip
###
##############################################################################
##############################################################################
% Total % Received % Xferd Average Speed Time Time Time Current
Dload Upload Total Spent Left Speed
0 0 0 0 0 0 0 0 --:--:-- --:--:-- --:--:-- 0
100 2051k 100 2051k 0 0 25.3M 0 --:--:-- --:--:-- --:--:-- 27.8M
install for i386
* installing *source* package 'ampliQueso' ...
** R
** data
** inst
** byte-compile and prepare package for lazy loading
** help
*** installing help indices
converting help for package 'ampliQueso'
finding HTML links ... done
camelSampleTable html
camelTest html
compareCoverages html
compareCoveragesReg html
getCountTable html
getSNP html
ndMax html
ndMin html
runAQReport html
** building package indices
** installing vignettes
** testing if installed package can be loaded
In R CMD INSTALL
install for x64
* installing *source* package 'ampliQueso' ...
** testing if installed package can be loaded
* MD5 sums
packaged installation of 'ampliQueso' as ampliQueso_1.18.0.zip
* DONE (ampliQueso)
In R CMD INSTALL
In R CMD INSTALL
* installing to library 'C:/Users/biocbuild/bbs-3.7-bioc/R/library'
package 'ampliQueso' successfully unpacked and MD5 sums checked
In R CMD INSTALL