| Back to Multiple platform build/check report for BioC 3.7 |
|
This page was generated on 2018-10-17 08:24:31 -0400 (Wed, 17 Oct 2018).
| Package 1252/1561 | Hostname | OS / Arch | INSTALL | BUILD | CHECK | BUILD BIN | ||||||
| RMassBank 2.8.0 RMassBank at Eawag
| malbec2 | Linux (Ubuntu 16.04.1 LTS) / x86_64 | OK | [ OK ] | ERROR | |||||||
| tokay2 | Windows Server 2012 R2 Standard / x64 | OK | ERROR | skipped | skipped | |||||||
| merida2 | OS X 10.11.6 El Capitan / x86_64 | OK | ERROR | skipped | skipped |
| Package: RMassBank |
| Version: 2.8.0 |
| Command: /home/biocbuild/bbs-3.7-bioc/R/bin/R CMD build --keep-empty-dirs --no-resave-data RMassBank |
| StartedAt: 2018-10-15 19:34:07 -0400 (Mon, 15 Oct 2018) |
| EndedAt: 2018-10-15 19:38:22 -0400 (Mon, 15 Oct 2018) |
| EllapsedTime: 255.8 seconds |
| RetCode: 0 |
| Status: OK |
| PackageFile: RMassBank_2.8.0.tar.gz |
| PackageFileSize: 1.21 MiB |
##############################################################################
##############################################################################
###
### Running command:
###
### /home/biocbuild/bbs-3.7-bioc/R/bin/R CMD build --keep-empty-dirs --no-resave-data RMassBank
###
##############################################################################
##############################################################################
* checking for file ‘RMassBank/DESCRIPTION’ ... OK
* preparing ‘RMassBank’:
* checking DESCRIPTION meta-information ... OK
* installing the package to build vignettes
* creating vignettes ... OK
Warning: ‘inst/doc’ files
‘RMassBankNonstandard.R’, ‘RMassBankXCMS.R’
ignored as vignettes have been rebuilt.
Run R CMD build with --no-build-vignettes to prevent rebuilding.
* checking for LF line-endings in source and make files and shell scripts
* checking for empty or unneeded directories
* building ‘RMassBank_2.8.0.tar.gz’