| Back to Multiple platform build/check report for BioC 3.7 |
|
This page was generated on 2018-10-17 08:32:17 -0400 (Wed, 17 Oct 2018).
| Package 1015/1561 | Hostname | OS / Arch | INSTALL | BUILD | CHECK | BUILD BIN | ||||||
| OLINgui 1.54.0 Matthias Futschik
| malbec2 | Linux (Ubuntu 16.04.1 LTS) / x86_64 | OK | OK | OK | |||||||
| tokay2 | Windows Server 2012 R2 Standard / x64 | OK | OK | [ OK ] | OK | |||||||
| merida2 | OS X 10.11.6 El Capitan / x86_64 | OK | OK | OK | OK |
| Package: OLINgui |
| Version: 1.54.0 |
| Command: C:\Users\biocbuild\bbs-3.7-bioc\R\bin\R.exe CMD check --force-multiarch --install=check:OLINgui.install-out.txt --library=C:\Users\biocbuild\bbs-3.7-bioc\R\library --no-vignettes --timings OLINgui_1.54.0.tar.gz |
| StartedAt: 2018-10-17 03:43:04 -0400 (Wed, 17 Oct 2018) |
| EndedAt: 2018-10-17 03:44:02 -0400 (Wed, 17 Oct 2018) |
| EllapsedTime: 58.1 seconds |
| RetCode: 0 |
| Status: OK |
| CheckDir: OLINgui.Rcheck |
| Warnings: 0 |
############################################################################## ############################################################################## ### ### Running command: ### ### C:\Users\biocbuild\bbs-3.7-bioc\R\bin\R.exe CMD check --force-multiarch --install=check:OLINgui.install-out.txt --library=C:\Users\biocbuild\bbs-3.7-bioc\R\library --no-vignettes --timings OLINgui_1.54.0.tar.gz ### ############################################################################## ############################################################################## * using log directory 'C:/Users/biocbuild/bbs-3.7-bioc/meat/OLINgui.Rcheck' * using R version 3.5.1 Patched (2018-07-24 r75005) * using platform: x86_64-w64-mingw32 (64-bit) * using session charset: ISO8859-1 * using option '--no-vignettes' * checking for file 'OLINgui/DESCRIPTION' ... OK * this is package 'OLINgui' version '1.54.0' * checking package namespace information ... OK * checking package dependencies ... OK * checking if this is a source package ... OK * checking if there is a namespace ... OK * checking for hidden files and directories ... OK * checking for portable file names ... OK * checking whether package 'OLINgui' can be installed ... OK * checking installed package size ... OK * checking package directory ... OK * checking 'build' directory ... OK * checking DESCRIPTION meta-information ... NOTE Malformed Description field: should contain one or more complete sentences. Package listed in more than one of Depends, Imports, Suggests, Enhances: 'OLIN' A package should be listed in only one of these fields. * checking top-level files ... OK * checking for left-over files ... OK * checking index information ... OK * checking package subdirectories ... OK * checking R files for non-ASCII characters ... OK * checking R files for syntax errors ... OK * loading checks for arch 'i386' ** checking whether the package can be loaded ... OK ** checking whether the package can be loaded with stated dependencies ... OK ** checking whether the package can be unloaded cleanly ... OK ** checking whether the namespace can be loaded with stated dependencies ... OK ** checking whether the namespace can be unloaded cleanly ... OK * loading checks for arch 'x64' ** checking whether the package can be loaded ... OK ** checking whether the package can be loaded with stated dependencies ... OK ** checking whether the package can be unloaded cleanly ... OK ** checking whether the namespace can be loaded with stated dependencies ... OK ** checking whether the namespace can be unloaded cleanly ... OK * checking dependencies in R code ... OK * checking S3 generic/method consistency ... OK * checking replacement functions ... OK * checking foreign function calls ... OK * checking R code for possible problems ... NOTE OLINgui : objectBrowser2 : viewEnv: warning in ls(env = env, all = TRUE): partial argument match of 'env' to 'envir' OLINgui : objectBrowser2 : viewEnv: warning in ls(env = env, all = TRUE): partial argument match of 'all' to 'all.names' OLINgui : objectBrowser2 : finish: no visible binding for global variable 'h' OLINgui : browseFile2: no visible binding for global variable 'nenvtmp' OLINgui : anovapi: no visible binding for global variable 'x' OLINgui : anovapl: no visible binding for global variable 'x' OLINgui : anovaintensity: no visible binding for global variable 'x' OLINgui : anovaspa: no visible binding for global variable 'x' Undefined global functions or variables: h nenvtmp x * checking Rd files ... OK * checking Rd metadata ... OK * checking Rd cross-references ... OK * checking for missing documentation entries ... OK * checking for code/documentation mismatches ... OK * checking Rd \usage sections ... OK * checking Rd contents ... OK * checking for unstated dependencies in examples ... OK * checking files in 'vignettes' ... OK * checking examples ... NONE * checking for unstated dependencies in vignettes ... OK * checking package vignettes in 'inst/doc' ... OK * checking running R code from vignettes ... SKIPPED * checking re-building of vignette outputs ... SKIPPED * checking PDF version of manual ... OK * DONE Status: 2 NOTEs See 'C:/Users/biocbuild/bbs-3.7-bioc/meat/OLINgui.Rcheck/00check.log' for details.
OLINgui.Rcheck/00install.out
##############################################################################
##############################################################################
###
### Running command:
###
### C:\cygwin\bin\curl.exe -O https://malbec2.bioconductor.org/BBS/3.7/bioc/src/contrib/OLINgui_1.54.0.tar.gz && rm -rf OLINgui.buildbin-libdir && mkdir OLINgui.buildbin-libdir && C:\Users\biocbuild\bbs-3.7-bioc\R\bin\R.exe CMD INSTALL --merge-multiarch --build --library=OLINgui.buildbin-libdir OLINgui_1.54.0.tar.gz && C:\Users\biocbuild\bbs-3.7-bioc\R\bin\R.exe CMD INSTALL OLINgui_1.54.0.zip && rm OLINgui_1.54.0.tar.gz OLINgui_1.54.0.zip
###
##############################################################################
##############################################################################
% Total % Received % Xferd Average Speed Time Time Time Current
Dload Upload Total Spent Left Speed
0 0 0 0 0 0 0 0 --:--:-- --:--:-- --:--:-- 0
100 85117 100 85117 0 0 1462k 0 --:--:-- --:--:-- --:--:-- 1662k
install for i386
* installing *source* package 'OLINgui' ...
** R
** inst
** byte-compile and prepare package for lazy loading
** help
*** installing help indices
converting help for package 'OLINgui'
finding HTML links ... done
OLINgui html
** building package indices
** installing vignettes
** testing if installed package can be loaded
In R CMD INSTALL
install for x64
* installing *source* package 'OLINgui' ...
** testing if installed package can be loaded
* MD5 sums
packaged installation of 'OLINgui' as OLINgui_1.54.0.zip
* DONE (OLINgui)
In R CMD INSTALL
In R CMD INSTALL
* installing to library 'C:/Users/biocbuild/bbs-3.7-bioc/R/library'
package 'OLINgui' successfully unpacked and MD5 sums checked
In R CMD INSTALL