| Back to Multiple platform build/check report for BioC 3.7 |
|
This page was generated on 2018-10-17 08:28:49 -0400 (Wed, 17 Oct 2018).
| Package 790/1561 | Hostname | OS / Arch | INSTALL | BUILD | CHECK | BUILD BIN | ||||||
| Linnorm 2.4.0 Ken Shun Hang Yip
| malbec2 | Linux (Ubuntu 16.04.1 LTS) / x86_64 | OK | OK | [ OK ] | |||||||
| tokay2 | Windows Server 2012 R2 Standard / x64 | OK | OK | OK | OK | |||||||
| merida2 | OS X 10.11.6 El Capitan / x86_64 | OK | OK | OK | OK |
| Package: Linnorm |
| Version: 2.4.0 |
| Command: /home/biocbuild/bbs-3.7-bioc/R/bin/R CMD check --install=check:Linnorm.install-out.txt --library=/home/biocbuild/bbs-3.7-bioc/R/library --no-vignettes --timings Linnorm_2.4.0.tar.gz |
| StartedAt: 2018-10-16 01:31:14 -0400 (Tue, 16 Oct 2018) |
| EndedAt: 2018-10-16 01:36:48 -0400 (Tue, 16 Oct 2018) |
| EllapsedTime: 333.8 seconds |
| RetCode: 0 |
| Status: OK |
| CheckDir: Linnorm.Rcheck |
| Warnings: 0 |
##############################################################################
##############################################################################
###
### Running command:
###
### /home/biocbuild/bbs-3.7-bioc/R/bin/R CMD check --install=check:Linnorm.install-out.txt --library=/home/biocbuild/bbs-3.7-bioc/R/library --no-vignettes --timings Linnorm_2.4.0.tar.gz
###
##############################################################################
##############################################################################
* using log directory ‘/home/biocbuild/bbs-3.7-bioc/meat/Linnorm.Rcheck’
* using R version 3.5.1 Patched (2018-07-12 r74967)
* using platform: x86_64-pc-linux-gnu (64-bit)
* using session charset: UTF-8
* using option ‘--no-vignettes’
* checking for file ‘Linnorm/DESCRIPTION’ ... OK
* checking extension type ... Package
* this is package ‘Linnorm’ version ‘2.4.0’
* checking package namespace information ... OK
* checking package dependencies ... OK
* checking if this is a source package ... OK
* checking if there is a namespace ... OK
* checking for hidden files and directories ... OK
* checking for portable file names ... OK
* checking for sufficient/correct file permissions ... OK
* checking whether package ‘Linnorm’ can be installed ... OK
* checking installed package size ... OK
* checking package directory ... OK
* checking ‘build’ directory ... OK
* checking DESCRIPTION meta-information ... OK
* checking top-level files ... OK
* checking for left-over files ... OK
* checking index information ... OK
* checking package subdirectories ... OK
* checking R files for non-ASCII characters ... OK
* checking R files for syntax errors ... OK
* checking whether the package can be loaded ... OK
* checking whether the package can be loaded with stated dependencies ... OK
* checking whether the package can be unloaded cleanly ... OK
* checking whether the namespace can be loaded with stated dependencies ... OK
* checking whether the namespace can be unloaded cleanly ... OK
* checking dependencies in R code ... OK
* checking S3 generic/method consistency ... OK
* checking replacement functions ... OK
* checking foreign function calls ... OK
* checking R code for possible problems ... NOTE
Linnorm.HClust: no visible binding for global variable ‘x’
Linnorm.HClust: no visible binding for global variable ‘y’
Linnorm.HClust: no visible binding for global variable ‘xend’
Linnorm.HClust: no visible binding for global variable ‘yend’
Linnorm.HClust: no visible binding for global variable ‘cluster’
Linnorm.HClust: no visible binding for global variable ‘X1’
Linnorm.HClust: no visible binding for global variable ‘X2’
Linnorm.HVar: no visible binding for global variable ‘SD’
Linnorm.HVar: no visible binding for global variable ‘group’
Undefined global functions or variables:
SD X1 X2 cluster group x xend y yend
* checking Rd files ... OK
* checking Rd metadata ... OK
* checking Rd cross-references ... OK
* checking for missing documentation entries ... OK
* checking for code/documentation mismatches ... OK
* checking Rd \usage sections ... OK
* checking Rd contents ... OK
* checking for unstated dependencies in examples ... OK
* checking contents of ‘data’ directory ... OK
* checking data for non-ASCII characters ... OK
* checking data for ASCII and uncompressed saves ... OK
* checking line endings in C/C++/Fortran sources/headers ... OK
* checking line endings in Makefiles ... OK
* checking compilation flags in Makevars ... OK
* checking for GNU extensions in Makefiles ... OK
* checking for portable use of $(BLAS_LIBS) and $(LAPACK_LIBS) ... OK
* checking compiled code ... NOTE
Note: information on .o files is not available
* checking files in ‘vignettes’ ... OK
* checking examples ... OK
Examples with CPU or elapsed time > 5s
user system elapsed
RnaXSim 77.696 0.012 77.774
Linnorm.Cor 46.940 0.164 47.154
Linnorm.limma 34.440 0.000 34.463
Linnorm 34.176 0.028 34.226
Linnorm.Norm 33.728 0.004 33.759
* checking for unstated dependencies in ‘tests’ ... OK
* checking tests ...
Running ‘testthat.R’
OK
* checking for unstated dependencies in vignettes ... OK
* checking package vignettes in ‘inst/doc’ ... OK
* checking running R code from vignettes ... SKIPPED
* checking re-building of vignette outputs ... SKIPPED
* checking PDF version of manual ... OK
* DONE
Status: 2 NOTEs
See
‘/home/biocbuild/bbs-3.7-bioc/meat/Linnorm.Rcheck/00check.log’
for details.
Linnorm.Rcheck/00install.out
##############################################################################
##############################################################################
###
### Running command:
###
### /home/biocbuild/bbs-3.7-bioc/R/bin/R CMD INSTALL Linnorm
###
##############################################################################
##############################################################################
* installing to library ‘/home/biocbuild/bbs-3.7-bioc/R/library’
* installing *source* package ‘Linnorm’ ...
** libs
g++ -I"/home/biocbuild/bbs-3.7-bioc/R/include" -DNDEBUG -I"/home/biocbuild/bbs-3.7-bioc/R/library/Rcpp/include" -I"/home/biocbuild/bbs-3.7-bioc/R/library/RcppArmadillo/include" -I/usr/local/include -fpic -g -O2 -Wall -c Misc.cpp -o Misc.o
In file included from /home/biocbuild/bbs-3.7-bioc/R/library/RcppArmadillo/include/armadillo:54:0,
from /home/biocbuild/bbs-3.7-bioc/R/library/RcppArmadillo/include/RcppArmadilloForward.h:46,
from /home/biocbuild/bbs-3.7-bioc/R/library/RcppArmadillo/include/RcppArmadillo.h:31,
from Misc.cpp:18:
/home/biocbuild/bbs-3.7-bioc/R/library/RcppArmadillo/include/armadillo_bits/compiler_setup.hpp:509:108: note: #pragma message: NOTE: suggest to enable C++14 mode for faster code; add -std=c++14 to compiler flags
#pragma message ("NOTE: suggest to enable C++14 mode for faster code; add -std=c++14 to compiler flags")
^
g++ -shared -L/home/biocbuild/bbs-3.7-bioc/R/lib -L/usr/local/lib -o Linnorm.so Misc.o -std=c++11 -L/home/biocbuild/bbs-3.7-bioc/R/lib -lRlapack -L/home/biocbuild/bbs-3.7-bioc/R/lib -lRblas -lgfortran -lm -lquadmath -DARMA_64BIT_WORD=1 -L/home/biocbuild/bbs-3.7-bioc/R/lib -lR
installing to /home/biocbuild/bbs-3.7-bioc/R/library/Linnorm/libs
** R
** data
** inst
** byte-compile and prepare package for lazy loading
** help
*** installing help indices
** building package indices
** installing vignettes
** testing if installed package can be loaded
* DONE (Linnorm)
Linnorm.Rcheck/tests/testthat.Rout
R version 3.5.1 Patched (2018-07-12 r74967) -- "Feather Spray"
Copyright (C) 2018 The R Foundation for Statistical Computing
Platform: x86_64-pc-linux-gnu (64-bit)
R is free software and comes with ABSOLUTELY NO WARRANTY.
You are welcome to redistribute it under certain conditions.
Type 'license()' or 'licence()' for distribution details.
R is a collaborative project with many contributors.
Type 'contributors()' for more information and
'citation()' on how to cite R or R packages in publications.
Type 'demo()' for some demos, 'help()' for on-line help, or
'help.start()' for an HTML browser interface to help.
Type 'q()' to quit R.
> library(testthat)
> library(Linnorm)
>
> test_check("Linnorm")
══ testthat results ═══════════════════════════════════════════════════════════
OK: 26 SKIPPED: 0 FAILED: 0
>
> proc.time()
user system elapsed
24.368 0.148 24.563
Linnorm.Rcheck/Linnorm-Ex.timings
| name | user | system | elapsed | |
| LinearRegression | 0.000 | 0.000 | 0.001 | |
| LinearRegressionFP | 0.000 | 0.000 | 0.001 | |
| Linnorm.Cor | 46.940 | 0.164 | 47.154 | |
| Linnorm.DataImput | 1.884 | 0.064 | 1.946 | |
| Linnorm.HClust | 2.632 | 0.012 | 2.376 | |
| Linnorm.HVar | 1.436 | 0.056 | 1.495 | |
| Linnorm.Norm | 33.728 | 0.004 | 33.759 | |
| Linnorm.PCA | 4.048 | 0.012 | 4.078 | |
| Linnorm | 34.176 | 0.028 | 34.226 | |
| Linnorm.SGenes | 0.392 | 0.016 | 0.405 | |
| Linnorm.limma | 34.440 | 0.000 | 34.463 | |
| Linnorm.tSNE | 4.880 | 0.048 | 4.935 | |
| RnaXSim | 77.696 | 0.012 | 77.774 | |