| Back to Multiple platform build/check report for BioC 3.7 |
|
This page was generated on 2018-10-17 08:42:59 -0400 (Wed, 17 Oct 2018).
| Package 773/1561 | Hostname | OS / Arch | INSTALL | BUILD | CHECK | BUILD BIN | ||||||
| KEGGlincs 1.6.2 Shana White
| malbec2 | Linux (Ubuntu 16.04.1 LTS) / x86_64 | OK | OK | OK | |||||||
| tokay2 | Windows Server 2012 R2 Standard / x64 | OK | OK | [ OK ] | OK | |||||||
| merida2 | OS X 10.11.6 El Capitan / x86_64 | OK | OK | OK | OK |
| Package: KEGGlincs |
| Version: 1.6.2 |
| Command: C:\Users\biocbuild\bbs-3.7-bioc\R\bin\R.exe CMD check --force-multiarch --install=check:KEGGlincs.install-out.txt --library=C:\Users\biocbuild\bbs-3.7-bioc\R\library --no-vignettes --timings KEGGlincs_1.6.2.tar.gz |
| StartedAt: 2018-10-17 02:55:49 -0400 (Wed, 17 Oct 2018) |
| EndedAt: 2018-10-17 03:01:04 -0400 (Wed, 17 Oct 2018) |
| EllapsedTime: 315.0 seconds |
| RetCode: 0 |
| Status: OK |
| CheckDir: KEGGlincs.Rcheck |
| Warnings: 0 |
##############################################################################
##############################################################################
###
### Running command:
###
### C:\Users\biocbuild\bbs-3.7-bioc\R\bin\R.exe CMD check --force-multiarch --install=check:KEGGlincs.install-out.txt --library=C:\Users\biocbuild\bbs-3.7-bioc\R\library --no-vignettes --timings KEGGlincs_1.6.2.tar.gz
###
##############################################################################
##############################################################################
* using log directory 'C:/Users/biocbuild/bbs-3.7-bioc/meat/KEGGlincs.Rcheck'
* using R version 3.5.1 Patched (2018-07-24 r75005)
* using platform: x86_64-w64-mingw32 (64-bit)
* using session charset: ISO8859-1
* using option '--no-vignettes'
* checking for file 'KEGGlincs/DESCRIPTION' ... OK
* checking extension type ... Package
* this is package 'KEGGlincs' version '1.6.2'
* checking package namespace information ... OK
* checking package dependencies ... OK
* checking if this is a source package ... OK
* checking if there is a namespace ... OK
* checking for hidden files and directories ... OK
* checking for portable file names ... OK
* checking whether package 'KEGGlincs' can be installed ... OK
* checking installed package size ... OK
* checking package directory ... OK
* checking 'build' directory ... OK
* checking DESCRIPTION meta-information ... OK
* checking top-level files ... OK
* checking for left-over files ... OK
* checking index information ... OK
* checking package subdirectories ... OK
* checking R files for non-ASCII characters ... OK
* checking R files for syntax errors ... OK
* loading checks for arch 'i386'
** checking whether the package can be loaded ... OK
** checking whether the package can be loaded with stated dependencies ... OK
** checking whether the package can be unloaded cleanly ... OK
** checking whether the namespace can be loaded with stated dependencies ... OK
** checking whether the namespace can be unloaded cleanly ... OK
* loading checks for arch 'x64'
** checking whether the package can be loaded ... OK
** checking whether the package can be loaded with stated dependencies ... OK
** checking whether the package can be unloaded cleanly ... OK
** checking whether the namespace can be loaded with stated dependencies ... OK
** checking whether the namespace can be unloaded cleanly ... OK
* checking dependencies in R code ... NOTE
Namespace in Imports field not imported from: 'XML'
All declared Imports should be used.
* checking S3 generic/method consistency ... OK
* checking replacement functions ... OK
* checking foreign function calls ... OK
* checking R code for possible problems ... OK
* checking Rd files ... OK
* checking Rd metadata ... OK
* checking Rd cross-references ... OK
* checking for missing documentation entries ... OK
* checking for code/documentation mismatches ... OK
* checking Rd \usage sections ... OK
* checking Rd contents ... OK
* checking for unstated dependencies in examples ... OK
* checking files in 'vignettes' ... OK
* checking examples ...
** running examples for arch 'i386' ... OK
Examples with CPU or elapsed time > 5s
user system elapsed
add_edge_data 16.95 1.68 19.63
overlap_info 16.37 0.79 19.36
path_genes_by_cell_type 9.85 0.40 10.51
edge_mapping_info 8.87 0.32 9.44
refine_mappings 8.75 0.31 9.49
get_graph_object 5.90 0.15 6.29
** running examples for arch 'x64' ... OK
Examples with CPU or elapsed time > 5s
user system elapsed
overlap_info 20.57 0.80 21.61
add_edge_data 19.85 0.61 21.09
edge_mapping_info 12.11 0.50 12.86
path_genes_by_cell_type 11.16 0.45 11.84
refine_mappings 8.62 0.36 9.22
get_graph_object 8.61 0.29 9.17
* checking for unstated dependencies in vignettes ... OK
* checking package vignettes in 'inst/doc' ... OK
* checking running R code from vignettes ... SKIPPED
* checking re-building of vignette outputs ... SKIPPED
* checking PDF version of manual ... OK
* DONE
Status: 1 NOTE
See
'C:/Users/biocbuild/bbs-3.7-bioc/meat/KEGGlincs.Rcheck/00check.log'
for details.
KEGGlincs.Rcheck/00install.out
##############################################################################
##############################################################################
###
### Running command:
###
### C:\cygwin\bin\curl.exe -O https://malbec2.bioconductor.org/BBS/3.7/bioc/src/contrib/KEGGlincs_1.6.2.tar.gz && rm -rf KEGGlincs.buildbin-libdir && mkdir KEGGlincs.buildbin-libdir && C:\Users\biocbuild\bbs-3.7-bioc\R\bin\R.exe CMD INSTALL --merge-multiarch --build --library=KEGGlincs.buildbin-libdir KEGGlincs_1.6.2.tar.gz && C:\Users\biocbuild\bbs-3.7-bioc\R\bin\R.exe CMD INSTALL KEGGlincs_1.6.2.zip && rm KEGGlincs_1.6.2.tar.gz KEGGlincs_1.6.2.zip
###
##############################################################################
##############################################################################
% Total % Received % Xferd Average Speed Time Time Time Current
Dload Upload Total Spent Left Speed
0 0 0 0 0 0 0 0 --:--:-- --:--:-- --:--:-- 0
100 2148k 100 2148k 0 0 25.0M 0 --:--:-- --:--:-- --:--:-- 27.2M
install for i386
* installing *source* package 'KEGGlincs' ...
** R
** inst
** byte-compile and prepare package for lazy loading
** help
*** installing help indices
converting help for package 'KEGGlincs'
finding HTML links ... done
KEGG_lincs html
KEGGlincs html
KL_compare html
add_edge_data html
cyto_vis html
edge_mapping_info html
expand_KEGG_edges html
expand_KEGG_mappings html
generate_mappings html
get_KGML html
get_fisher_info html
get_graph_object html
keggerize_edges html
node_mapping_info html
overlap_info html
path_genes_by_cell_type html
refine_mappings html
tidy_edge html
toCytoscape html
** building package indices
** installing vignettes
** testing if installed package can be loaded
In R CMD INSTALL
install for x64
* installing *source* package 'KEGGlincs' ...
** testing if installed package can be loaded
* MD5 sums
packaged installation of 'KEGGlincs' as KEGGlincs_1.6.2.zip
* DONE (KEGGlincs)
In R CMD INSTALL
In R CMD INSTALL
* installing to library 'C:/Users/biocbuild/bbs-3.7-bioc/R/library'
package 'KEGGlincs' successfully unpacked and MD5 sums checked
In R CMD INSTALL
|
KEGGlincs.Rcheck/examples_i386/KEGGlincs-Ex.timings
|
KEGGlincs.Rcheck/examples_x64/KEGGlincs-Ex.timings
|