| Back to Multiple platform build/check report for BioC 3.7 | 
  | 
This page was generated on 2018-10-17 08:27:10 -0400 (Wed, 17 Oct 2018).
| Package 764/1561 | Hostname | OS / Arch | INSTALL | BUILD | CHECK | BUILD BIN | ||||||
| IVAS 2.0.0 Seonggyun Han 
  | malbec2 | Linux (Ubuntu 16.04.1 LTS) / x86_64 | OK | [ OK ] | WARNINGS | |||||||
| tokay2 | Windows Server 2012 R2 Standard / x64 | OK | OK | WARNINGS | OK | |||||||
| merida2 | OS X 10.11.6 El Capitan / x86_64 | OK | OK | WARNINGS | OK | 
| Package: IVAS | 
| Version: 2.0.0 | 
| Command: /home/biocbuild/bbs-3.7-bioc/R/bin/R CMD build --keep-empty-dirs --no-resave-data IVAS | 
| StartedAt: 2018-10-15 20:24:00 -0400 (Mon, 15 Oct 2018) | 
| EndedAt: 2018-10-15 20:24:36 -0400 (Mon, 15 Oct 2018) | 
| EllapsedTime: 36.8 seconds | 
| RetCode: 0 | 
| Status: OK | 
| PackageFile: IVAS_2.0.0.tar.gz | 
| PackageFileSize: 247.9 KiB | 
############################################################################## ############################################################################## ### ### Running command: ### ### /home/biocbuild/bbs-3.7-bioc/R/bin/R CMD build --keep-empty-dirs --no-resave-data IVAS ### ############################################################################## ############################################################################## * checking for file ‘IVAS/DESCRIPTION’ ... OK * preparing ‘IVAS’: * checking DESCRIPTION meta-information ... OK * installing the package to build vignettes * creating vignettes ... OK * checking for LF line-endings in source and make files and shell scripts * checking for empty or unneeded directories * looking to see if a ‘data/datalist’ file should be added * building ‘IVAS_2.0.0.tar.gz’