| Back to Multiple platform build/check report for BioC 3.7 |
|
This page was generated on 2018-10-17 08:28:03 -0400 (Wed, 17 Oct 2018).
| Package 666/1561 | Hostname | OS / Arch | INSTALL | BUILD | CHECK | BUILD BIN | ||||||
| Guitar 1.18.0 Jia Meng
| malbec2 | Linux (Ubuntu 16.04.1 LTS) / x86_64 | OK | OK | [ OK ] | |||||||
| tokay2 | Windows Server 2012 R2 Standard / x64 | OK | OK | OK | OK | |||||||
| merida2 | OS X 10.11.6 El Capitan / x86_64 | OK | OK | OK | OK |
| Package: Guitar |
| Version: 1.18.0 |
| Command: /home/biocbuild/bbs-3.7-bioc/R/bin/R CMD check --install=check:Guitar.install-out.txt --library=/home/biocbuild/bbs-3.7-bioc/R/library --no-vignettes --timings Guitar_1.18.0.tar.gz |
| StartedAt: 2018-10-16 01:04:37 -0400 (Tue, 16 Oct 2018) |
| EndedAt: 2018-10-16 01:07:56 -0400 (Tue, 16 Oct 2018) |
| EllapsedTime: 199.4 seconds |
| RetCode: 0 |
| Status: OK |
| CheckDir: Guitar.Rcheck |
| Warnings: 0 |
##############################################################################
##############################################################################
###
### Running command:
###
### /home/biocbuild/bbs-3.7-bioc/R/bin/R CMD check --install=check:Guitar.install-out.txt --library=/home/biocbuild/bbs-3.7-bioc/R/library --no-vignettes --timings Guitar_1.18.0.tar.gz
###
##############################################################################
##############################################################################
* using log directory ‘/home/biocbuild/bbs-3.7-bioc/meat/Guitar.Rcheck’
* using R version 3.5.1 Patched (2018-07-12 r74967)
* using platform: x86_64-pc-linux-gnu (64-bit)
* using session charset: UTF-8
* using option ‘--no-vignettes’
* checking for file ‘Guitar/DESCRIPTION’ ... OK
* checking extension type ... Package
* this is package ‘Guitar’ version ‘1.18.0’
* checking package namespace information ... OK
* checking package dependencies ... NOTE
Depends: includes the non-default packages:
‘Rsamtools’ ‘GenomicFeatures’ ‘rtracklayer’ ‘GenomicAlignments’
‘GenomicRanges’ ‘ggplot2’ ‘grid’ ‘IRanges’
Adding so many packages to the search path is excessive and importing
selectively is preferable.
* checking if this is a source package ... OK
* checking if there is a namespace ... OK
* checking for hidden files and directories ... OK
* checking for portable file names ... OK
* checking for sufficient/correct file permissions ... OK
* checking whether package ‘Guitar’ can be installed ... OK
* checking installed package size ... OK
* checking package directory ... OK
* checking ‘build’ directory ... OK
* checking DESCRIPTION meta-information ... OK
* checking top-level files ... OK
* checking for left-over files ... OK
* checking index information ... OK
* checking package subdirectories ... OK
* checking R files for non-ASCII characters ... OK
* checking R files for syntax errors ... OK
* checking whether the package can be loaded ... OK
* checking whether the package can be loaded with stated dependencies ... OK
* checking whether the package can be unloaded cleanly ... OK
* checking whether the namespace can be loaded with stated dependencies ... OK
* checking whether the namespace can be unloaded cleanly ... OK
* checking dependencies in R code ... OK
* checking S3 generic/method consistency ... OK
* checking replacement functions ... OK
* checking foreign function calls ... OK
* checking R code for possible problems ... NOTE
.makeFigure_fill: no visible global function definition for ‘pdf’
.makeFigure_fill: no visible global function definition for ‘dev.off’
.makeFigure_nofill: no visible global function definition for ‘pdf’
.makeFigure_nofill: no visible global function definition for ‘dev.off’
BED12toGRangesList: no visible global function definition for
‘read.table’
BED12toGRangesList: no visible global function definition for ‘head’
narrowPeaktoGRanges: no visible global function definition for
‘read.table’
Undefined global functions or variables:
dev.off head pdf read.table
Consider adding
importFrom("grDevices", "dev.off", "pdf")
importFrom("utils", "head", "read.table")
to your NAMESPACE file.
* checking Rd files ... OK
* checking Rd metadata ... OK
* checking Rd cross-references ... OK
* checking for missing documentation entries ... OK
* checking for code/documentation mismatches ... OK
* checking Rd \usage sections ... OK
* checking Rd contents ... OK
* checking for unstated dependencies in examples ... OK
* checking files in ‘vignettes’ ... OK
* checking examples ... OK
Examples with CPU or elapsed time > 5s
user system elapsed
combinedGuitarPlot 14.164 0.008 14.187
Guitar-package 12.204 0.032 12.258
GuitarPlot 12.016 0.012 12.035
* checking for unstated dependencies in vignettes ... OK
* checking package vignettes in ‘inst/doc’ ... OK
* checking running R code from vignettes ... SKIPPED
* checking re-building of vignette outputs ... SKIPPED
* checking PDF version of manual ... OK
* DONE
Status: 2 NOTEs
See
‘/home/biocbuild/bbs-3.7-bioc/meat/Guitar.Rcheck/00check.log’
for details.
Guitar.Rcheck/00install.out
############################################################################## ############################################################################## ### ### Running command: ### ### /home/biocbuild/bbs-3.7-bioc/R/bin/R CMD INSTALL Guitar ### ############################################################################## ############################################################################## * installing to library ‘/home/biocbuild/bbs-3.7-bioc/R/library’ * installing *source* package ‘Guitar’ ... ** R ** inst ** byte-compile and prepare package for lazy loading ** help *** installing help indices ** building package indices ** installing vignettes ** testing if installed package can be loaded * DONE (Guitar)
Guitar.Rcheck/Guitar-Ex.timings
| name | user | system | elapsed | |
| BED12toGRangesList | 2.296 | 0.080 | 2.395 | |
| Guitar-package | 12.204 | 0.032 | 12.258 | |
| GuitarPlot | 12.016 | 0.012 | 12.035 | |
| combinedGuitarPlot | 14.164 | 0.008 | 14.187 | |
| getNeighborhood | 0.196 | 0.000 | 0.195 | |
| makeGuitarCoordsFromGRangesList | 0.580 | 0.000 | 0.578 | |
| makeGuitarCoordsFromTxDb | 3.828 | 0.004 | 3.844 | |
| narrowPeaktoGRanges | 0.044 | 0.000 | 0.042 | |