| Back to Multiple platform build/check report for BioC 3.7 |
|
This page was generated on 2018-10-17 08:40:26 -0400 (Wed, 17 Oct 2018).
| Package 445/1561 | Hostname | OS / Arch | INSTALL | BUILD | CHECK | BUILD BIN | ||||||
| ENmix 1.16.0 Zongli Xu
| malbec2 | Linux (Ubuntu 16.04.1 LTS) / x86_64 | OK | OK | OK | |||||||
| tokay2 | Windows Server 2012 R2 Standard / x64 | OK | OK | OK | [ OK ] | |||||||
| merida2 | OS X 10.11.6 El Capitan / x86_64 | OK | OK | OK | OK |
| Package: ENmix |
| Version: 1.16.0 |
| Command: rm -rf ENmix.buildbin-libdir && mkdir ENmix.buildbin-libdir && C:\Users\biocbuild\bbs-3.7-bioc\R\bin\R.exe CMD INSTALL --merge-multiarch --build --library=ENmix.buildbin-libdir ENmix_1.16.0.tar.gz |
| StartedAt: 2018-10-17 06:17:45 -0400 (Wed, 17 Oct 2018) |
| EndedAt: 2018-10-17 06:18:34 -0400 (Wed, 17 Oct 2018) |
| EllapsedTime: 49.3 seconds |
| RetCode: 0 |
| Status: OK |
| PackageFile: ENmix_1.16.0.zip |
| PackageFileSize: 865.6 KiB |
##############################################################################
##############################################################################
###
### Running command:
###
### rm -rf ENmix.buildbin-libdir && mkdir ENmix.buildbin-libdir && C:\Users\biocbuild\bbs-3.7-bioc\R\bin\R.exe CMD INSTALL --merge-multiarch --build --library=ENmix.buildbin-libdir ENmix_1.16.0.tar.gz
###
##############################################################################
##############################################################################
install for i386
* installing *source* package 'ENmix' ...
** R
** inst
** byte-compile and prepare package for lazy loading
** help
*** installing help indices
converting help for package 'ENmix'
finding HTML links ... done
B2M html
ComBat.mc html
M2B html
QCfilter html
QCinfo html
bmiq.mc html
ctrlsva html
freqpoly html
getBeta html
mpreprocess html
finding level-2 HTML links ... done
multifreqpoly html
nmode.mc html
norm.quantile html
normalize.quantile.450k html
oxBS.MLE html
pcrplot html
plotCtrl html
preprocessENmix html
rcp html
relic html
rm.outlier html
** building package indices
** installing vignettes
** testing if installed package can be loaded
In R CMD INSTALL
install for x64
* installing *source* package 'ENmix' ...
** testing if installed package can be loaded
* MD5 sums
packaged installation of 'ENmix' as ENmix_1.16.0.zip
* DONE (ENmix)
In R CMD INSTALL
In R CMD INSTALL