| Back to Multiple platform build/check report for BioC 3.7 |
|
This page was generated on 2018-10-15 10:16:18 -0400 (Mon, 15 Oct 2018).
| Package 413/1561 | Hostname | OS / Arch | INSTALL | BUILD | CHECK | BUILD BIN | ||||||
| DrugVsDisease 2.22.0 j. Saez-Rodriguez
| malbec2 | Linux (Ubuntu 16.04.1 LTS) / x86_64 | OK | OK | TIMEOUT | |||||||
| tokay2 | Windows Server 2012 R2 Standard / x64 | OK | OK | TIMEOUT | [ OK ] | |||||||
| merida2 | OS X 10.11.6 El Capitan / x86_64 | OK | OK | TIMEOUT | OK |
| Package: DrugVsDisease |
| Version: 2.22.0 |
| Command: rm -rf DrugVsDisease.buildbin-libdir && mkdir DrugVsDisease.buildbin-libdir && C:\Users\biocbuild\bbs-3.7-bioc\R\bin\R.exe CMD INSTALL --merge-multiarch --build --library=DrugVsDisease.buildbin-libdir DrugVsDisease_2.22.0.tar.gz |
| StartedAt: 2018-10-15 06:04:44 -0400 (Mon, 15 Oct 2018) |
| EndedAt: 2018-10-15 06:05:17 -0400 (Mon, 15 Oct 2018) |
| EllapsedTime: 32.3 seconds |
| RetCode: 0 |
| Status: OK |
| PackageFile: DrugVsDisease_2.22.0.zip |
| PackageFileSize: 2.692 MiB |
##############################################################################
##############################################################################
###
### Running command:
###
### rm -rf DrugVsDisease.buildbin-libdir && mkdir DrugVsDisease.buildbin-libdir && C:\Users\biocbuild\bbs-3.7-bioc\R\bin\R.exe CMD INSTALL --merge-multiarch --build --library=DrugVsDisease.buildbin-libdir DrugVsDisease_2.22.0.tar.gz
###
##############################################################################
##############################################################################
install for i386
* installing *source* package 'DrugVsDisease' ...
** R
** data
*** moving datasets to lazyload DB
** inst
** byte-compile and prepare package for lazy loading
** help
*** installing help indices
converting help for package 'DrugVsDisease'
finding HTML links ... done
DrugVsDisease-package html
classifyprofile html
combineProfiles html
customClust html
customdb html
customedge html
customsif html
generateprofiles html
profiles html
selectrankedlists html
selprofile html
** building package indices
** installing vignettes
** testing if installed package can be loaded
In R CMD INSTALL
install for x64
* installing *source* package 'DrugVsDisease' ...
** testing if installed package can be loaded
* MD5 sums
packaged installation of 'DrugVsDisease' as DrugVsDisease_2.22.0.zip
* DONE (DrugVsDisease)
In R CMD INSTALL
In R CMD INSTALL