| Back to Multiple platform build/check report for BioC 3.7 |
|
This page was generated on 2018-10-17 08:26:05 -0400 (Wed, 17 Oct 2018).
| Package 398/1561 | Hostname | OS / Arch | INSTALL | BUILD | CHECK | BUILD BIN | ||||||
| DMRforPairs 1.16.0 Martin Rijlaarsdam
| malbec2 | Linux (Ubuntu 16.04.1 LTS) / x86_64 | OK | OK | [ OK ] | |||||||
| tokay2 | Windows Server 2012 R2 Standard / x64 | OK | OK | OK | OK | |||||||
| merida2 | OS X 10.11.6 El Capitan / x86_64 | OK | OK | OK | OK |
| Package: DMRforPairs |
| Version: 1.16.0 |
| Command: /home/biocbuild/bbs-3.7-bioc/R/bin/R CMD check --install=check:DMRforPairs.install-out.txt --library=/home/biocbuild/bbs-3.7-bioc/R/library --no-vignettes --timings DMRforPairs_1.16.0.tar.gz |
| StartedAt: 2018-10-15 23:55:42 -0400 (Mon, 15 Oct 2018) |
| EndedAt: 2018-10-15 23:59:22 -0400 (Mon, 15 Oct 2018) |
| EllapsedTime: 220.4 seconds |
| RetCode: 0 |
| Status: OK |
| CheckDir: DMRforPairs.Rcheck |
| Warnings: 0 |
##############################################################################
##############################################################################
###
### Running command:
###
### /home/biocbuild/bbs-3.7-bioc/R/bin/R CMD check --install=check:DMRforPairs.install-out.txt --library=/home/biocbuild/bbs-3.7-bioc/R/library --no-vignettes --timings DMRforPairs_1.16.0.tar.gz
###
##############################################################################
##############################################################################
* using log directory ‘/home/biocbuild/bbs-3.7-bioc/meat/DMRforPairs.Rcheck’
* using R version 3.5.1 Patched (2018-07-12 r74967)
* using platform: x86_64-pc-linux-gnu (64-bit)
* using session charset: UTF-8
* using option ‘--no-vignettes’
* checking for file ‘DMRforPairs/DESCRIPTION’ ... OK
* this is package ‘DMRforPairs’ version ‘1.16.0’
* checking package namespace information ... OK
* checking package dependencies ... OK
* checking if this is a source package ... OK
* checking if there is a namespace ... OK
* checking for hidden files and directories ... OK
* checking for portable file names ... OK
* checking for sufficient/correct file permissions ... OK
* checking whether package ‘DMRforPairs’ can be installed ... OK
* checking installed package size ... OK
* checking package directory ... OK
* checking ‘build’ directory ... OK
* checking DESCRIPTION meta-information ... OK
* checking top-level files ... OK
* checking for left-over files ... OK
* checking index information ... OK
* checking package subdirectories ... OK
* checking R files for non-ASCII characters ... OK
* checking R files for syntax errors ... OK
* checking whether the package can be loaded ... OK
* checking whether the package can be loaded with stated dependencies ... OK
* checking whether the package can be unloaded cleanly ... OK
* checking whether the namespace can be loaded with stated dependencies ... OK
* checking whether the namespace can be unloaded cleanly ... OK
* checking dependencies in R code ... OK
* checking S3 generic/method consistency ... OK
* checking replacement functions ... OK
* checking foreign function calls ... OK
* checking R code for possible problems ... NOTE
DMRforPairs: no visible global function definition for 'combn'
DMRforPairs: no visible global function definition for 'p.adjust'
calc_stats: no visible global function definition for 'combn'
calc_stats: no visible binding for global variable 'median'
calc_stats: no visible global function definition for 'wilcox.test'
calc_stats: no visible global function definition for 'kruskal.test'
export_data: no visible global function definition for 'write.table'
plot_annotate_probes: no visible global function definition for
'rainbow'
plot_annotate_probes: no visible global function definition for 'png'
plot_annotate_probes: no visible global function definition for 'par'
plot_annotate_probes: no visible global function definition for 'plot'
plot_annotate_probes: no visible global function definition for 'lines'
plot_annotate_probes: no visible global function definition for
'extendrange'
plot_annotate_probes: no visible global function definition for
'dev.off'
plot_annotate_probes: no visible global function definition for 'pdf'
plot_annotate_probes: no visible global function definition for 'combn'
plot_annotate_probes: no visible global function definition for
'legend'
plot_annotate_probes: no visible global function definition for 'axis'
plot_annotate_probes: no visible global function definition for 'box'
plot_annotate_probes: no visible global function definition for
'seqlevels<-'
plot_annotate_probes: no visible global function definition for 'Rle'
plot_annotate_probes: no visible global function definition for
'IRanges'
Undefined global functions or variables:
IRanges Rle axis box combn dev.off extendrange kruskal.test legend
lines median p.adjust par pdf plot png rainbow seqlevels<-
wilcox.test write.table
Consider adding
importFrom("grDevices", "dev.off", "extendrange", "pdf", "png",
"rainbow")
importFrom("graphics", "axis", "box", "legend", "lines", "par", "plot")
importFrom("stats", "kruskal.test", "median", "p.adjust",
"wilcox.test")
importFrom("utils", "combn", "write.table")
to your NAMESPACE file.
* checking Rd files ... OK
* checking Rd metadata ... OK
* checking Rd cross-references ... OK
* checking for missing documentation entries ... OK
* checking for code/documentation mismatches ... OK
* checking Rd \usage sections ... OK
* checking Rd contents ... OK
* checking for unstated dependencies in examples ... OK
* checking contents of ‘data’ directory ... OK
* checking data for non-ASCII characters ... OK
* checking data for ASCII and uncompressed saves ... OK
* checking files in ‘vignettes’ ... OK
* checking examples ... OK
* checking for unstated dependencies in vignettes ... OK
* checking package vignettes in ‘inst/doc’ ... OK
* checking running R code from vignettes ... SKIPPED
* checking re-building of vignette outputs ... SKIPPED
* checking PDF version of manual ... OK
* DONE
Status: 1 NOTE
See
‘/home/biocbuild/bbs-3.7-bioc/meat/DMRforPairs.Rcheck/00check.log’
for details.
DMRforPairs.Rcheck/00install.out
############################################################################## ############################################################################## ### ### Running command: ### ### /home/biocbuild/bbs-3.7-bioc/R/bin/R CMD INSTALL DMRforPairs ### ############################################################################## ############################################################################## * installing to library ‘/home/biocbuild/bbs-3.7-bioc/R/library’ * installing *source* package ‘DMRforPairs’ ... ** R ** data ** inst ** byte-compile and prepare package for lazy loading ** help *** installing help indices *** copying figures ** building package indices ** installing vignettes ** testing if installed package can be loaded * DONE (DMRforPairs)
DMRforPairs.Rcheck/DMRforPairs-Ex.timings
| name | user | system | elapsed | |
| DMRforPairs | 1.352 | 0.024 | 1.396 | |
| calc_stats | 0.000 | 0.000 | 0.001 | |
| export_data | 1.384 | 0.012 | 1.397 | |
| merge_classes | 0 | 0 | 0 | |
| plot_annotate_custom_region | 2.064 | 0.016 | 2.083 | |
| plot_annotate_gene | 1.168 | 0.020 | 1.191 | |
| plot_annotate_probes | 0.000 | 0.000 | 0.001 | |
| plot_annotate_region | 0.960 | 0.016 | 0.978 | |
| regionfinder | 0.000 | 0.000 | 0.001 | |
| testregion | 0 | 0 | 0 | |
| tune_parameters | 1.048 | 0.016 | 1.066 | |