| Back to Multiple platform build/check report for BioC 3.7 |
|
This page was generated on 2018-10-17 08:44:43 -0400 (Wed, 17 Oct 2018).
| Package 47/1561 | Hostname | OS / Arch | INSTALL | BUILD | CHECK | BUILD BIN | ||||||
| ANF 1.2.0 Tianle Ma
| malbec2 | Linux (Ubuntu 16.04.1 LTS) / x86_64 | OK | OK | OK | |||||||
| tokay2 | Windows Server 2012 R2 Standard / x64 | [ OK ] | OK | OK | OK | |||||||
| merida2 | OS X 10.11.6 El Capitan / x86_64 | OK | OK | OK | OK |
| Package: ANF |
| Version: 1.2.0 |
| Command: C:\cygwin\bin\curl.exe -O https://malbec2.bioconductor.org/BBS/3.7/bioc/src/contrib/ANF_1.2.0.tar.gz && rm -rf ANF.buildbin-libdir && mkdir ANF.buildbin-libdir && C:\Users\biocbuild\bbs-3.7-bioc\R\bin\R.exe CMD INSTALL --merge-multiarch --build --library=ANF.buildbin-libdir ANF_1.2.0.tar.gz && C:\Users\biocbuild\bbs-3.7-bioc\R\bin\R.exe CMD INSTALL ANF_1.2.0.zip && rm ANF_1.2.0.tar.gz ANF_1.2.0.zip |
| StartedAt: 2018-10-16 19:09:03 -0400 (Tue, 16 Oct 2018) |
| EndedAt: 2018-10-16 19:09:33 -0400 (Tue, 16 Oct 2018) |
| EllapsedTime: 30.4 seconds |
| RetCode: 0 |
| Status: OK |
##############################################################################
##############################################################################
###
### Running command:
###
### C:\cygwin\bin\curl.exe -O https://malbec2.bioconductor.org/BBS/3.7/bioc/src/contrib/ANF_1.2.0.tar.gz && rm -rf ANF.buildbin-libdir && mkdir ANF.buildbin-libdir && C:\Users\biocbuild\bbs-3.7-bioc\R\bin\R.exe CMD INSTALL --merge-multiarch --build --library=ANF.buildbin-libdir ANF_1.2.0.tar.gz && C:\Users\biocbuild\bbs-3.7-bioc\R\bin\R.exe CMD INSTALL ANF_1.2.0.zip && rm ANF_1.2.0.tar.gz ANF_1.2.0.zip
###
##############################################################################
##############################################################################
% Total % Received % Xferd Average Speed Time Time Time Current
Dload Upload Total Spent Left Speed
0 0 0 0 0 0 0 0 --:--:-- --:--:-- --:--:-- 0
0 0 0 0 0 0 0 0 --:--:-- --:--:-- --:--:-- 0
100 468k 100 468k 0 0 1575k 0 --:--:-- --:--:-- --:--:-- 1609k
install for i386
* installing *source* package 'ANF' ...
** R
** inst
** byte-compile and prepare package for lazy loading
** help
*** installing help indices
converting help for package 'ANF'
finding HTML links ... done
ANF html
affinity_matrix html
eval_clu html
kNN_graph html
pod html
spectral_clustering html
** building package indices
** installing vignettes
** testing if installed package can be loaded
In R CMD INSTALL
install for x64
* installing *source* package 'ANF' ...
** testing if installed package can be loaded
* MD5 sums
packaged installation of 'ANF' as ANF_1.2.0.zip
* DONE (ANF)
In R CMD INSTALL
In R CMD INSTALL
* installing to library 'C:/Users/biocbuild/bbs-3.7-bioc/R/library'
package 'ANF' successfully unpacked and MD5 sums checked
In R CMD INSTALL