| Back to Multiple platform build/check report for BioC 3.6 |
|
This page was generated on 2018-04-12 13:32:33 -0400 (Thu, 12 Apr 2018).
| Package 1468/1472 | Hostname | OS / Arch | INSTALL | BUILD | CHECK | BUILD BIN | ||||||
| yaqcaffy 1.38.0 Laurent Gatto
| malbec1 | Linux (Ubuntu 16.04.1 LTS) / x86_64 | OK | OK | OK | |||||||
| tokay1 | Windows Server 2012 R2 Standard / x64 | OK | OK | OK | OK | |||||||
| veracruz1 | OS X 10.11.6 El Capitan / x86_64 | OK | OK | OK | [ OK ] |
| Package: yaqcaffy |
| Version: 1.38.0 |
| Command: rm -rf yaqcaffy.buildbin-libdir && mkdir yaqcaffy.buildbin-libdir && /Users/biocbuild/BBS/utils/build-universal.sh yaqcaffy_1.38.0.tar.gz /Library/Frameworks/R.framework/Versions/Current/Resources/bin/R yaqcaffy.buildbin-libdir |
| StartedAt: 2018-04-12 12:23:43 -0400 (Thu, 12 Apr 2018) |
| EndedAt: 2018-04-12 12:23:56 -0400 (Thu, 12 Apr 2018) |
| EllapsedTime: 13.5 seconds |
| RetCode: 0 |
| Status: OK |
| PackageFile: yaqcaffy_1.38.0.tgz |
| PackageFileSize: 469.6 KiB |
############################################################################## ############################################################################## ### ### Running command: ### ### rm -rf yaqcaffy.buildbin-libdir && mkdir yaqcaffy.buildbin-libdir && /Users/biocbuild/BBS/utils/build-universal.sh yaqcaffy_1.38.0.tar.gz /Library/Frameworks/R.framework/Versions/Current/Resources/bin/R yaqcaffy.buildbin-libdir ### ############################################################################## ############################################################################## >>>>>>> >>>>>>> INSTALLATION WITH 'R CMD INSTALL --preclean --no-multiarch --library=yaqcaffy.buildbin-libdir yaqcaffy_1.38.0.tar.gz' >>>>>>> * installing *source* package ‘yaqcaffy’ ... ** R ** inst ** preparing package for lazy loading Creating a generic function for ‘identical’ from package ‘base’ in package ‘yaqcaffy’ ** help *** installing help indices ** building package indices ** installing vignettes ** testing if installed package can be loaded * DONE (yaqcaffy)