| Back to Multiple platform build/check report for BioC 3.6 | 
  | 
This page was generated on 2018-04-12 13:46:00 -0400 (Thu, 12 Apr 2018).
| Package 1408/1472 | Hostname | OS / Arch | INSTALL | BUILD | CHECK | BUILD BIN | ||||||
| topdownr 1.0.0 Sebastian Gibb 
  | malbec1 | Linux (Ubuntu 16.04.1 LTS) / x86_64 | OK | OK | OK | |||||||
| tokay1 | Windows Server 2012 R2 Standard / x64 | OK | OK | WARNINGS | OK | |||||||
| veracruz1 | OS X 10.11.6 El Capitan / x86_64 | OK | OK | OK | [ OK ] | 
| Package: topdownr | 
| Version: 1.0.0 | 
| Command: rm -rf topdownr.buildbin-libdir && mkdir topdownr.buildbin-libdir && /Users/biocbuild/BBS/utils/build-universal.sh topdownr_1.0.0.tar.gz /Library/Frameworks/R.framework/Versions/Current/Resources/bin/R topdownr.buildbin-libdir | 
| StartedAt: 2018-04-12 12:20:52 -0400 (Thu, 12 Apr 2018) | 
| EndedAt: 2018-04-12 12:21:11 -0400 (Thu, 12 Apr 2018) | 
| EllapsedTime: 18.4 seconds | 
| RetCode: 0 | 
| Status: OK | 
| PackageFile: topdownr_1.0.0.tgz | 
| PackageFileSize: 1.785 MiB | 
############################################################################## ############################################################################## ### ### Running command: ### ### rm -rf topdownr.buildbin-libdir && mkdir topdownr.buildbin-libdir && /Users/biocbuild/BBS/utils/build-universal.sh topdownr_1.0.0.tar.gz /Library/Frameworks/R.framework/Versions/Current/Resources/bin/R topdownr.buildbin-libdir ### ############################################################################## ############################################################################## >>>>>>> >>>>>>> INSTALLATION WITH 'R CMD INSTALL --preclean --no-multiarch --library=topdownr.buildbin-libdir topdownr_1.0.0.tar.gz' >>>>>>> * installing *source* package ‘topdownr’ ... ** R ** data *** moving datasets to lazyload DB ** inst ** preparing package for lazy loading ** help *** installing help indices ** building package indices ** installing vignettes ** testing if installed package can be loaded * DONE (topdownr)