| Back to Multiple platform build/check report for BioC 3.6 |
|
This page was generated on 2018-04-12 13:18:35 -0400 (Thu, 12 Apr 2018).
| Package 1409/1472 | Hostname | OS / Arch | INSTALL | BUILD | CHECK | BUILD BIN | ||||||
| topGO 2.30.1 Adrian Alexa
| malbec1 | Linux (Ubuntu 16.04.1 LTS) / x86_64 | OK | OK | OK | |||||||
| tokay1 | Windows Server 2012 R2 Standard / x64 | [ OK ] | OK | OK | OK | |||||||
| veracruz1 | OS X 10.11.6 El Capitan / x86_64 | OK | OK | OK | OK |
| Package: topGO |
| Version: 2.30.1 |
| Command: rm -rf topGO.buildbin-libdir && mkdir topGO.buildbin-libdir && C:\cygwin\bin\curl.exe -O https://malbec1.bioconductor.org/BBS/3.6/bioc/src/contrib/topGO_2.30.1.tar.gz && C:\Users\biocbuild\bbs-3.6-bioc\R\bin\R.exe CMD INSTALL --build --library=topGO.buildbin-libdir --merge-multiarch topGO_2.30.1.tar.gz && C:\Users\biocbuild\bbs-3.6-bioc\R\bin\R.exe CMD INSTALL topGO_2.30.1.zip && rm topGO_2.30.1.tar.gz topGO_2.30.1.zip |
| StartedAt: 2018-04-11 18:26:47 -0400 (Wed, 11 Apr 2018) |
| EndedAt: 2018-04-11 18:29:53 -0400 (Wed, 11 Apr 2018) |
| EllapsedTime: 186.4 seconds |
| RetCode: 0 |
| Status: OK |
##############################################################################
##############################################################################
###
### Running command:
###
### rm -rf topGO.buildbin-libdir && mkdir topGO.buildbin-libdir && C:\cygwin\bin\curl.exe -O https://malbec1.bioconductor.org/BBS/3.6/bioc/src/contrib/topGO_2.30.1.tar.gz && C:\Users\biocbuild\bbs-3.6-bioc\R\bin\R.exe CMD INSTALL --build --library=topGO.buildbin-libdir --merge-multiarch topGO_2.30.1.tar.gz && C:\Users\biocbuild\bbs-3.6-bioc\R\bin\R.exe CMD INSTALL topGO_2.30.1.zip && rm topGO_2.30.1.tar.gz topGO_2.30.1.zip
###
##############################################################################
##############################################################################
% Total % Received % Xferd Average Speed Time Time Time Current
Dload Upload Total Spent Left Speed
0 0 0 0 0 0 0 0 --:--:-- --:--:-- --:--:-- 0
100 428k 100 428k 0 0 15.8M 0 --:--:-- --:--:-- --:--:-- 18.1M
install for i386
* installing *source* package 'topGO' ...
** R
** data
** inst
** preparing package for lazy loading
** help
*** installing help indices
converting help for package 'topGO'
finding HTML links ... done
GOTests html
GOdata html
annFUN html
classicCount-class html
classicExpr-class html
classicScore-class html
dagFunctions html
diagnosticMethods html
elimCount-class html
elimExpr-class html
elimScore-class html
geneList html
getPvalues html
getSigGroups html
groupGOTerms html
groupStats-class html
inducedGraph html
parentChild-class html
printGraph-methods html
topGO-package html
topGOdata-class html
topGOresult-class html
weightCount-class html
** building package indices
** installing vignettes
** testing if installed package can be loaded
groupGOTerms: GOBPTerm, GOMFTerm, GOCCTerm environments built.
In R CMD INSTALL
install for x64
* installing *source* package 'topGO' ...
** testing if installed package can be loaded
groupGOTerms: GOBPTerm, GOMFTerm, GOCCTerm environments built.
* MD5 sums
packaged installation of 'topGO' as topGO_2.30.1.zip
* DONE (topGO)
In R CMD INSTALL
In R CMD INSTALL
* installing to library 'C:/Users/biocbuild/bbs-3.6-bioc/R/library'
package 'topGO' successfully unpacked and MD5 sums checked
In R CMD INSTALL